BEGIN:VCALENDAR
VERSION:2.0
PRODID:-//Virtuelle PH - ECPv6.6.4.2//NONSGML v1.0//EN
CALSCALE:GREGORIAN
METHOD:PUBLISH
X-WR-CALNAME:Virtuelle PH
X-ORIGINAL-URL:https://www.virtuelle-ph.at
X-WR-CALDESC:Veranstaltungen für Virtuelle PH
REFRESH-INTERVAL;VALUE=DURATION:PT1H
X-Robots-Tag:noindex
X-PUBLISHED-TTL:PT1H
BEGIN:VTIMEZONE
TZID:Europe/Vienna
BEGIN:DAYLIGHT
TZOFFSETFROM:+0100
TZOFFSETTO:+0200
TZNAME:CEST
DTSTART:20230326T010000
END:DAYLIGHT
BEGIN:STANDARD
TZOFFSETFROM:+0200
TZOFFSETTO:+0100
TZNAME:CET
DTSTART:20231029T010000
END:STANDARD
END:VTIMEZONE
BEGIN:VEVENT
DTSTART;TZID=Europe/Vienna:20230510T170000
DTEND;TZID=Europe/Vienna:20230510T183000
DTSTAMP:20260425T201244
CREATED:20230408T033052Z
LAST-MODIFIED:20230510T033032Z
UID:10004155-1683738000-1683743400@www.virtuelle-ph.at
SUMMARY:Sprechstunde #2 zum MOOC Lehrpläne NEU – Unterricht mit neuen Lehrplänen\, Kompetenzrastern und beispielhaften Lernaufgaben
DESCRIPTION:Zur Anmeldung \n\n						Zum virtuellen Lernraum\n						\n\n						Diese MOOC-Sprechstunden bieten den Teilnehmer/innen die Möglichkeit\, Antworten auf die in den eTivities aufgetauchten Fragen zu den neuen Lehrplänen und den Kompetenzrastern zu erhalten. \n\nExpert_in: Günther Apflauer \n\n\n			\n				\n			\n			Teilnahmekriterien & Info\n		 \n		\n			Lernziele\n		 \n		\n			Voraussetzungen\n		\n		 \n		\n			\n				\n					\n			So treten Sie der Veranstaltung im virtuellen Lernraum bei: \n1. Rufen Sie 5 min vor Terminstart den Link zum Virtuellen Lernraum auf: \nvirtuelle-ph-at.zoom.us/my/lehrplanmooc \n2. Geben Sie bitte Ihren vollen Namen ein und klicken Sie den Button „Einem Meeting Beitreten“.                              \n3. Klicken Sie den grünen Button „Per Computer dem Audio beitreten“ an. \nDas bewirkt\, dass Sie uns hören und sehen können. Sie werden in Kürze eingelassen. \nDie Teilnahme an allen eLectures der Virtuellen PH ist für österreichische Hochschullehrende\, Lehrkräfte und Studierende eines Lehramts kostenlos.\n		 \n		\n			Die Teilnehmer/innen \n•	erhalten Antworten auf spezifische Fragen\, die im Zuge der Absolvierung des MOOCs Lehrpläne NEU – Unterricht mit neuen Lehrplänen\, Kompetenzrastern und beispielhaften Lernaufgaben aufgetreten sind; \n•	setzen sich vertieft mit den neuen Lehrplänen und den Kompetenzrastern auseinander; \n•	tauschen sich zu unterschiedlichen Fragestellungen aus\, um ihr Gesamtbild zu den neuen Lehrplänen und den Kompetenzrastern zu vervollständigen.\n		 \n		\n			Teilnahme am MOOC Lehrpläne NEU – Unterricht mit neuen Lehrplänen\, Kompetenzrastern und beispielhaften Lernaufgaben
URL:https://www.virtuelle-ph.at/veranstaltung/sprechstunde-2-zum-mooc-lehrplaene-neu-unterricht-mit-neuen-lehrplaenen-kompetenzrastern-und-beispielhaften-lernaufgaben/
CATEGORIES:eLecture
END:VEVENT
END:VCALENDAR