BEGIN:VCALENDAR
VERSION:2.0
PRODID:-//Virtuelle PH - ECPv6.6.4.2//NONSGML v1.0//EN
CALSCALE:GREGORIAN
METHOD:PUBLISH
X-WR-CALNAME:Virtuelle PH
X-ORIGINAL-URL:https://www.virtuelle-ph.at
X-WR-CALDESC:Veranstaltungen für Virtuelle PH
REFRESH-INTERVAL;VALUE=DURATION:PT1H
X-Robots-Tag:noindex
X-PUBLISHED-TTL:PT1H
BEGIN:VTIMEZONE
TZID:Europe/Berlin
BEGIN:DAYLIGHT
TZOFFSETFROM:+0100
TZOFFSETTO:+0200
TZNAME:CEST
DTSTART:20200329T010000
END:DAYLIGHT
BEGIN:STANDARD
TZOFFSETFROM:+0200
TZOFFSETTO:+0100
TZNAME:CET
DTSTART:20201025T010000
END:STANDARD
END:VTIMEZONE
BEGIN:VEVENT
DTSTART;TZID=Europe/Berlin:20200415T190000
DTEND;TZID=Europe/Berlin:20200415T200000
DTSTAMP:20260420T204222
CREATED:20200128T093423Z
LAST-MODIFIED:20200416T112415Z
UID:10003240-1586977200-1586980800@www.virtuelle-ph.at
SUMMARY:eLecture: Computational Thinking mit micro:bit - praktische Beispiele und Tipps zum OER Schulbuch und DLPL Sek 1 (Beispiele 3\, 16\, 18)
DESCRIPTION:zur Aufzeichnung\n\n\n						Unterstützend zur Umsetzung der Digitalen Grundbildung in der Sekundarstufe 1 wurde von einem Autor_innenteam das OER-Schulbuch zu Computational Thinking (CT) mit dem BBC micro:bit  erstellt.  Das Konzept des Buches fordert die Lernenden und Lehrenden dazu auf\, selbst auf die Suche nach Lösungen zu gehen und CT durch Anfassen\, Angreifen und Ausprobieren zu erfahren.  In dieser eLecture werden drei von 22 Unterrichtsbeispielen genauer besprochen und die Hintergründe beleuchtet. \nDer Referent ist der Autor der drei Beispiele „Kühlschrankwächter“\, „Clever raten“ und „Morgenritual“. \nIm Laufe der eLecture werden diese Beispiele der Reihe nach besprochen. Zu jedem Beispiel wird gezeigt was hinter der Idee steckt und auch didaktische Hinweise gegeben\, wie ein Unterricht zB aufgebaut sein könnte. Es werden auch verschiedene\, mögliche Lösungen besprochen\, sowie Lernergebnisse diskutiert. \nDiese eLecture ist für Sie geeignet\, wenn Sie Interesse daran haben\, den BBC micro:bit oder einen ähnlichen Ein-Platinen-Computer im Schulunterricht einzusetzen oder das oben genannte Schulbuch verwenden wollen. \nCoModeration: Daniel Handle-Pfeiffer \n\n			\n				\n			\n			Teilnahmekriterien & Info\n		 \n		\n			Lernziele\n		 \n		\n			Voraussetzungen\n		\n		 \n		\n			\n				\n					\n			Technische Voraussetzungen: Grundlegende Computerkenntnisse\, gute Internetverbindung; optional: Headset.  \nSo treten Sie der eLecture im virtuellen Lernraum bei:  \n1. Rufen Sie 10 min vor Terminstart folgende Seite auf:  \nvph.adobeconnect.com/drei/ \n2. Geben Sie bitte Ihren Vor- und Nachnamen ein und „Betreten Sie den Raum“ mit Klick auf den Button. \n3. Folgen Sie den Anweisungen auf dem Bildschirm. Sie werden in Kürze eingelassen. \nWenn Sie noch an keiner eLecture teilgenommen haben\, finden Sie alle Infos zum Einstieg unter: www.virtuelle-ph.at/electures/#einstieg \nDie Teilnahme an allen eLectures der Virtuellen PH ist für österreichische Lehrkräfte und Studierende eines Lehramts kostenlos.\n		 \n		\n			\nVerstehen der genannten drei Beispiele aus dem Schulbuch\nErkennen verschiedener\, gleichartiger oder ähnlicher Lösungen\nErweitern der eigenen Coding-Komptenzen
URL:https://www.virtuelle-ph.at/veranstaltung/electure-computational-thinking-mit-microbit-praktische-beispiele-und-tipps-zum-oer-schulbuch-und-dlpl-sek-1-beispiel-3-16-18/
CATEGORIES:eLecture,Reihe microbit
END:VEVENT
END:VCALENDAR