BEGIN:VCALENDAR
VERSION:2.0
PRODID:-//Virtuelle PH - ECPv6.6.4.2//NONSGML v1.0//EN
CALSCALE:GREGORIAN
METHOD:PUBLISH
X-ORIGINAL-URL:https://www.virtuelle-ph.at
X-WR-CALDESC:Veranstaltungen für Virtuelle PH
REFRESH-INTERVAL;VALUE=DURATION:PT1H
X-Robots-Tag:noindex
X-PUBLISHED-TTL:PT1H
BEGIN:VTIMEZONE
TZID:Europe/Berlin
BEGIN:DAYLIGHT
TZOFFSETFROM:+0100
TZOFFSETTO:+0200
TZNAME:CEST
DTSTART:20160327T010000
END:DAYLIGHT
BEGIN:STANDARD
TZOFFSETFROM:+0200
TZOFFSETTO:+0100
TZNAME:CET
DTSTART:20161030T010000
END:STANDARD
END:VTIMEZONE
BEGIN:VEVENT
DTSTART;TZID=Europe/Berlin:20160223T180000
DTEND;TZID=Europe/Berlin:20160223T190000
DTSTAMP:20260420T040755
CREATED:20160419T102200Z
LAST-MODIFIED:20160419T102200Z
UID:10002213-1456250400-1456254000@www.virtuelle-ph.at
SUMMARY:eLecture: Die Interaktive Tafelsoftware Open Sankore - die nächsten Schritte
DESCRIPTION:Interaktive Tafeln in all ihren Ausprägungen sind immer mehr ein fixer Bestandteil im Klassenzimmer. Es kann sein\, dass die mitgelieferte Firmensoftware nicht das ist\, was wir uns von einer übersichtlichen und leicht bedienbaren Whiteboardsoftware erwarten. Es gibt jedoch Open Source Alternativen! \nAls Fortsetzung zur eLecture Open Sankore – Erste Schritte wird in dieser eLecture das Programm Open Sankore als freie und quelloffene Interaktive Tafel Software vorgestellt\, wobei nach einem Überblick über die Grundfunktionen dieser Software das Bedienen und die Anwendung von Werkzeugen im Vordergrund stehen wird. Mit diesem Basiswissen soll ein kritischer Vergleich von unterschiedlichen Interactive Whiteboard Softwares möglich werden. Begleitet von Tipps und Tricks zur Methodik und Didaktik wird gezeigt\, wie eigene interaktive Unterrichtsmaterialien hergestellt werden können.\n ergestellt werden können. \n\n			\n				\n			\n			Teilnahmekriterien & Info\n		 \n		\n			Lernziele\n		 \n		\n			Voraussetzungen\n		\n		 \n		\n			\n				\n					\n			Technische Voraussetzungen: Grundlegende Computerkenntnisse\, gute Internetverbindung\, empfehlenswert: Headset. \nBitte finden Sie sich etwa 10 Minuten vor Start der eLecture im virtuellen Seminarraum unter diesem Link ein: virtuelle-ph.adobeconnect.com/electures_meyer/ \nWichtige Hinweise zum Besuch einer eLecture unter: www.virtuelle-ph.at/electures-info \nÜber diesen Link können Sie testen\, ob Ihr Computer optimal für den eLectures-Besuch vorbereitet ist\, und vorgeschlagene Aktualisierungen vornehmen: admin.adobeconnect.com/common/help/de/support/meeting_test.htm \nWenn Sie ein Headset besitzen\, stecken Sie es bitte an bevor Sie den Adobe Connect-Raum betreten. \nDie Teilnahme an allen eLectures der Virtuellen PH ist für österreichische Lehrkräfte und Studierende eines Lehramts kostenlos.\n		 \n		\n			Open Sankore als Open-Source Tafelsimulationssoftware kennenlernen; Anwendung und Anpassung von Werkzeugen und Inhalten erlernen; Einsatzmöglichkeiten der Tafelsimulationssoftware im Unterrichtsalltag kennenlernen; Tipps und Tricks zur Methodik und Didaktik kennenlernen;
URL:https://www.virtuelle-ph.at/veranstaltung/electure-die-interaktive-tafelsoftware-open-sankore-die-naechsten-schritte/
CATEGORIES:eLecture
END:VEVENT
BEGIN:VEVENT
DTSTART;TZID=Europe/Berlin:20160204T180000
DTEND;TZID=Europe/Berlin:20160204T190000
DTSTAMP:20260420T040755
CREATED:20160419T102139Z
LAST-MODIFIED:20160419T102139Z
UID:10002117-1454608800-1454612400@www.virtuelle-ph.at
SUMMARY:eLecture: Interaktive Tafelsysteme im Unterrichtsalltag nutzen
DESCRIPTION:Interaktive Tafeln in all ihren Ausprägungen sind immer mehr ein fixer Bestandteil im Klassenzimmer. Die Entwicklung dieser Informations- und Kommunikationstechnologie ist sehr schnell und ohne Basiswissen verliert man vielleicht schnell den Überblick: was ist damit im Unterricht alles möglich? \nIn dieser eLecture wird den Teilnehmerinnen und Teilnehmern ein erster Überblick über verschiedene Interaktive Tafelsysteme gegeben. Am Beispiel SMART Board werden Best Practise Beispiele vorgestellt\, die zum Großteil auch auf andere Systeme umgelegt werden können. Begleitet von Tipps und Tricks zur Methodik und Didaktik wird gezeigt\, wie eigene interaktive Unterrichtsmaterialien hergestellt werden können. \n\n			\n				\n			\n			Teilnahmekriterien & Info\n		 \n		\n			Lernziele\n		 \n		\n			Voraussetzungen\n		\n		 \n		\n			\n				\n					\n			Technische Voraussetzungen: Grundlegende Computerkenntnisse\, gute Internetverbindung\, empfehlenswert: Headset. \nBitte finden Sie sich etwa 10 Minuten vor Start der eLecture im virtuellen Seminarraum unter diesem Link ein: virtuelle-ph.adobeconnect.com/electures_meyer/ \nWichtige Hinweise zum Besuch einer eLecture unter: www.virtuelle-ph.at/electures-info \nÜber diesen Link können Sie testen\, ob Ihr Computer optimal für den eLectures-Besuch vorbereitet ist\, und vorgeschlagene Aktualisierungen vornehmen: admin.adobeconnect.com/common/help/de/support/meeting_test.htm \nWenn Sie ein Headset besitzen\, stecken Sie es bitte an bevor Sie den Adobe Connect-Raum betreten. \nDie Teilnahme an allen eLectures der Virtuellen PH ist für österreichische Lehrkräfte und Studierende eines Lehramts kostenlos.\n		 \n		\n			Basiswissen zum Einsatz von interaktiven Tafeln erwerben\nDas Arbeiten mit interaktiven Tafeln am Beispiel SMART Board kennen lernen\nDidaktische Überlegungen für die interaktive Tafel kennenlernen\nMethodik und Didaktik für die interaktive Tafel im Unterricht erlernen und verfeinern
URL:https://www.virtuelle-ph.at/veranstaltung/electure-interaktive-tafelsysteme-im-unterrichtsalltag-nutzen/
CATEGORIES:eLecture
END:VEVENT
BEGIN:VEVENT
DTSTART;TZID=Europe/Berlin:20160114T180000
DTEND;TZID=Europe/Berlin:20160114T190000
DTSTAMP:20260420T040755
CREATED:20160419T102404Z
LAST-MODIFIED:20160419T102404Z
UID:10002251-1452794400-1452798000@www.virtuelle-ph.at
SUMMARY:eLecture: Die Interaktive Tafelsoftware Open Sankore - Erste Schritte
DESCRIPTION:Interaktive Tafeln inklusive all seiner Ausprägungen sind immer mehr ein fixer Bestandteil im Klassenzimmer. Es kann sein\, dass die vom Hersteller mitgelieferte Software nicht das ist\, was wir uns von einer übersichtlichen und leicht bedienbaren Whiteboardsoftware erwarten. Als Ergänzung zur Lehrveranstaltung 250.0104 „Interaktive Tafelsysteme im Unterrichtsalltag für Einsteiger“ der Pädagogische Hochschule Steiermark wird in diesem Webinar das Programm Open Sankore als erste freie und quelloffene Interaktive Tafel Software vorgestellt.\nIn einem Überblick über die Grundfunktionen dieser Software wollen wir das Bedienen und die Anwendung von Werkzeugen kennen lernen. Mit diesem Basiswissen soll ein kritischer Vergleich von unterschiedlicher Interactive Whiteboard Software möglich werden. Begleitet von Tipps und Tricks zur Methodik und Didaktik wird gezeigt\, wie interaktive Unterrichtsmaterialien hergestellt werden können. \n\n			\n				\n			\n			Teilnahmekriterien & Info\n		 \n		\n			Lernziele\n		 \n		\n			Voraussetzungen\n		\n		 \n		\n			\n				\n					\n			Technische Voraussetzungen: Grundlegende Computerkenntnisse\, gute Internetverbindung\, empfehlenswert: Headset. \nBitte finden Sie sich etwa 10 Minuten vor Start der eLecture im virtuellen Seminarraum unter diesem Link ein: virtuelle-ph.adobeconnect.com/emeeting_ph_steiermark/ \nWichtige Hinweise zum Besuch einer eLecture unter: www.virtuelle-ph.at/electures-info \nÜber diesen Link können Sie testen\, ob Ihr Computer optimal für den eLectures-Besuch vorbereitet ist\, und vorgeschlagene Aktualisierungen vornehmen: admin.adobeconnect.com/common/help/de/support/meeting_test.htm \nWenn Sie ein Headset besitzen\, stecken Sie es bitte an bevor Sie den Adobe Connect-Raum betreten. \nDie Teilnahme an allen eLectures der Virtuellen PH ist für österreichische Lehrkräfte und Studierende eines Lehramts kostenlos.\n		 \n		\n			* Open Sankore als Open-Source Tafelsimulationssoftware kennen lernen; * Navigieren und Bedienen; * Anwendung von Werkzeugen und Inhalten; * Basiswissen; * Grundfunktionen einer Tafelsimulationssoftware; * Tipps und Tricks zur Methodik und Didaktik für die interaktive Tafeln im Unterricht
URL:https://www.virtuelle-ph.at/veranstaltung/electure-die-interaktive-tafelsoftware-open-sankore-erste-schritte/
CATEGORIES:eLecture
END:VEVENT
END:VCALENDAR