BEGIN:VCALENDAR
VERSION:2.0
PRODID:-//Virtuelle PH - ECPv6.6.4.2//NONSGML v1.0//EN
CALSCALE:GREGORIAN
METHOD:PUBLISH
X-WR-CALNAME:Virtuelle PH
X-ORIGINAL-URL:https://www.virtuelle-ph.at
X-WR-CALDESC:Veranstaltungen für Virtuelle PH
REFRESH-INTERVAL;VALUE=DURATION:PT1H
X-Robots-Tag:noindex
X-PUBLISHED-TTL:PT1H
BEGIN:VTIMEZONE
TZID:Europe/Berlin
BEGIN:DAYLIGHT
TZOFFSETFROM:+0100
TZOFFSETTO:+0200
TZNAME:CEST
DTSTART:20180325T010000
END:DAYLIGHT
BEGIN:STANDARD
TZOFFSETFROM:+0200
TZOFFSETTO:+0100
TZNAME:CET
DTSTART:20181028T010000
END:STANDARD
END:VTIMEZONE
BEGIN:VEVENT
DTSTART;TZID=Europe/Berlin:20180612T183000
DTEND;TZID=Europe/Berlin:20180612T193000
DTSTAMP:20260420T141236
CREATED:20180518T033522Z
LAST-MODIFIED:20180613T113500Z
UID:10002896-1528828200-1528831800@www.virtuelle-ph.at
SUMMARY:eLecture: Einführung in den Glücksunterricht
DESCRIPTION:zur Aufzeichnung \n\n\n						Glücksunterricht etabliert sich bereits in Österreich\, Deutschland\, Italien und der Schweiz. An mehr als 100 Schulen wird derzeit „Glück“ unterrichtet. \nDabei erfolgt Glücksunterricht als: \n# eigenes\, verpflichtendes Unterrichtsfach \n# frei wählbares Wahlfach/Freifach.   \n# integrierter Teil des regulären Unterrichts. \nHelene Körner\, Absolventin des Lehrgangs „Schulfach Glück“\, unterrichtet als Sonderpädagogin  und Glückscoach in einer NMS – Integrationsklasse „Glück“.  \nDiese eLecture gibt Ihnen einen Einblick in den Glückunterricht. Sie erhalten grundlegende Informationen rund um die Fragestellungen: \n# Was ist Glück? \n# Was ist Glücksunterricht? \n# Warum Glücksunterricht? \n# Wie erfolgt Glücksunterricht? \n# Zielgruppe des Glücksunterrichts? \nDiese eLecture ist für Sie geeignet\, wenn Sie Ihren SchülerInnen im Unterricht zusätzlich zum Fachwissen auch Lebenskompetenz vermitteln wollen.  \nCoModeration: Thomas Winkler \n\n			\n				\n			\n			Teilnahmekriterien & Info\n		 \n		\n			Lernziele\n		 \n		\n			Voraussetzungen\n		\n		 \n		\n			\n				\n					\n			Technische Voraussetzungen: Grundlegende Computerkenntnisse\, gute Internetverbindung; optional: Headset.  \nSo treten Sie der eLecture im virtuellen Lernraum bei:  \n1. Rufen Sie 10 min vor Terminstart folgende Seite auf:  \nvph.adobeconnect.com/zwei/ \n2. Geben Sie bitte Ihren Vor- und Nachnamen ein und „Betreten Sie den Raum“ mit Klick auf den Button. \n3. Folgen Sie den Anweisungen auf dem Bildschirm. Sie werden in Kürze eingelassen. \nWenn Sie noch an keiner eLecture teilgenommen haben\, finden Sie alle Infos zum Einstieg unter: www.virtuelle-ph.at/electures/#einstieg \nDie Teilnahme an allen eLectures der Virtuellen PH ist für österreichische Lehrkräfte und Studierende eines Lehramts kostenlos.\n		 \n		\n			# Sie definieren Glück. \n# Sie erhalten grundlegende Informationen zum Glücksunterricht. \n# Sie reflektieren Anwendungsmöglichkeiten von Glück in Ihrem Unterricht. 
URL:https://www.virtuelle-ph.at/veranstaltung/electure-einfuehrung-in-den-gluecksunterricht/
CATEGORIES:eLecture
END:VEVENT
END:VCALENDAR