BEGIN:VCALENDAR
VERSION:2.0
PRODID:-//Virtuelle PH - ECPv6.6.4.2//NONSGML v1.0//EN
CALSCALE:GREGORIAN
METHOD:PUBLISH
X-WR-CALNAME:Virtuelle PH
X-ORIGINAL-URL:https://www.virtuelle-ph.at
X-WR-CALDESC:Veranstaltungen für Virtuelle PH
REFRESH-INTERVAL;VALUE=DURATION:PT1H
X-Robots-Tag:noindex
X-PUBLISHED-TTL:PT1H
BEGIN:VTIMEZONE
TZID:Europe/Berlin
BEGIN:DAYLIGHT
TZOFFSETFROM:+0100
TZOFFSETTO:+0200
TZNAME:CEST
DTSTART:20180325T010000
END:DAYLIGHT
BEGIN:STANDARD
TZOFFSETFROM:+0200
TZOFFSETTO:+0100
TZNAME:CET
DTSTART:20181028T010000
END:STANDARD
END:VTIMEZONE
BEGIN:VEVENT
DTSTART;VALUE=DATE:20181113
DTEND;VALUE=DATE:20181204
DTSTAMP:20260420T185954
CREATED:20181018T033022Z
LAST-MODIFIED:20181113T070929Z
UID:10003024-1542067200-1543881599@www.virtuelle-ph.at
SUMMARY:TeachUP-Kurs 1: Formative Bewertung in der Praxis – Lernen meine Schülerinnen und Schüler?
DESCRIPTION:Zur Anmeldung\n						\n\n						In diesem MOOC lernen Sie… was formative Bewertung ist\, welche Arten der Bewertung es gibt\, warum sie wichtig ist und wie sie im Unterricht umgesetzt werden kann. Im Rahmen des Kurses werden Sie Beispiele aus der Praxis kennenlernen\, mit Kolleginnen und Kollegen diskutieren und interagieren und einen Unterrichtsplan erstellen. \n\n			\n				\n			\n			Teilnahmekriterien & Info\n		 \n		\n			Lernziele\n		 \n		\n			Voraussetzungen\n		\n		 \n		\n			\n				\n					\n			\n		 \n		\n			Die Teilnehmer/innen wissen\, was formative Bewertung ist\, warum sie wichtig ist und wie sie im Unterricht umgesetzt werden kann.\n		 \n		\n			Dieser Kurs richtet sich an alle Lehrerinnen und Lehrer der Unterstufe (Sek1 NMS und AHS) in Österreich. \nGrundwissen im Umgang mit dem Internet und der Installation von Programmen auf dem eigenen Computer.
URL:https://www.virtuelle-ph.at/veranstaltung/teachup-kurs-1-formative-bewertung-in-der-praxis-lernen-meine-schuelerinnen-und-schueler/
CATEGORIES:Online-Seminar
END:VEVENT
END:VCALENDAR