BEGIN:VCALENDAR
VERSION:2.0
PRODID:-//Virtuelle PH - ECPv6.6.4.2//NONSGML v1.0//EN
CALSCALE:GREGORIAN
METHOD:PUBLISH
X-WR-CALNAME:Virtuelle PH
X-ORIGINAL-URL:https://www.virtuelle-ph.at
X-WR-CALDESC:Veranstaltungen für Virtuelle PH
REFRESH-INTERVAL;VALUE=DURATION:PT1H
X-Robots-Tag:noindex
X-PUBLISHED-TTL:PT1H
BEGIN:VTIMEZONE
TZID:Europe/Berlin
BEGIN:DAYLIGHT
TZOFFSETFROM:+0100
TZOFFSETTO:+0200
TZNAME:CEST
DTSTART:20200329T010000
END:DAYLIGHT
BEGIN:STANDARD
TZOFFSETFROM:+0200
TZOFFSETTO:+0100
TZNAME:CET
DTSTART:20201025T010000
END:STANDARD
END:VTIMEZONE
BEGIN:VEVENT
DTSTART;TZID=Europe/Berlin:20200316T193000
DTEND;TZID=Europe/Berlin:20200316T200000
DTSTAMP:20260419T201907
CREATED:20200210T102231Z
LAST-MODIFIED:20200318T090505Z
UID:10003245-1584387000-1584388800@www.virtuelle-ph.at
SUMMARY:eLecture digiPH3: Musikpädagogik im digitalen Dialog: Singen und musikalisches Gestalten mit Hilfe ICM-gestützten Lernens in Studium und Schule
DESCRIPTION:zur Aufzeichnung\n\n\n						Unter der Themenstellung „Musikpädagogik im digitalen Dialog: Singen und musikalisches Gestalten mit Hilfe ICM-gestütztem Lernens in Studium und Schule“ finden als Kooperation zwischen Musikdidaktik und Mediendidaktik an der Pädagogischen Hochschule Niederösterreich Lehrveranstaltungen statt\, deren Ausgangspunkt das „Inverted Classroom Modell“ ist.  Dabei werden gemeinsam mit Studierenden die hochschuldidaktischen und schulpraktischen Möglichkeiten und Qualitäten eines ICM-gestützten Lernens in Verbindung mit Singen und musikalischem Gestalten erarbeitet\, erprobt und erforscht. Dazu entstand eine Reihe von ICM-Videos\, sowohl in deutscher als auch englischer Sprache. \nHubert Gruber lehrt und forscht als Musikpädagoge und Didaktiker an der PH NÖ mit den Arbeits- und Forschungsschwerpunkten: Lehren und Lernen mit Musik im Kontext dialogischer Prozesse; elementare Methodenkonzepte für ein aufbauendes\, kompetenz- und handlungsorientiertes Lehren und Lernen mit Musik von der Primarstufe zur Sekundarstufe\, unter anderem mittels ICM-Videos mit Musik.  \nAnhand einiger ausgewählter Beispiele zu den Themenbereichen „Der Einsatz des Inverted Classroom Model zum Erlernen von Liedern im Studienfach: Musikalisch-künstlerische Praxis“\, „Wie eine Melodie komponieren“ und „KlangWortWeg“ werden die Inhalte\, Zielsetzungen und methodischen Schritte solcher Lernprozesse vorgestellt und näher erläutert. \nDiese eLecture ist für Sie geeignet\, wenn Sie sich für ein ICM-gestütztes Lernen in Verbindung mit Singen und musikalischem Gestalten interessieren. \nDiese eLecture ist Teil des Panels „Digitales Lernen und Lehren an der Pädagogischen Hochschule Niederösterreich“ \nCoModeration: Walter Fikisz \n\n			\n				\n			\n			Teilnahmekriterien & Info\n		 \n		\n			Lernziele\n		 \n		\n			Voraussetzungen\n		\n		 \n		\n			\n				\n					\n			Technische Voraussetzungen: Grundlegende Computerkenntnisse\, gute Internetverbindung; optional: Headset.  \nSo treten Sie der eLecture im virtuellen Lernraum bei:  \n1. Rufen Sie 10 min vor Terminstart folgende Seite auf:  \nvph.adobeconnect.com/digiph1/ \n2. Geben Sie bitte Ihren Vor- und Nachnamen ein und „Betreten Sie den Raum“ mit Klick auf den Button. \n3. Folgen Sie den Anweisungen auf dem Bildschirm. Sie werden in Kürze eingelassen. \nWenn Sie noch an keiner eLecture teilgenommen haben\, finden Sie alle Infos zum Einstieg unter: www.virtuelle-ph.at/electures/#einstieg \nDie Teilnahme an allen eLectures der Virtuellen PH ist für österreichische Lehrkräfte und Studierende eines Lehramts kostenlos.\n		 \n		\n			Sie sind fähig\, mit Hilfe des Inverted Classroom Model Prozesse des Singens und musikalischen Gestaltens zu entwerfen und gezielt anzuwenden. \nSie können gemeinsam mit ihren Studierenden bzw. Schülern*innen einfache ICM-Videos mit Musik entwickeln und erstellen.
URL:https://www.virtuelle-ph.at/veranstaltung/electure-digiph3-musikpaedagogik-im-digitalen-dialog-singen-und-musikalisches-gestalten-mit-hilfe-icm-gestuetzten-lernens-in-studium-und-schule/
CATEGORIES:eLecture,Online-Tagung digiPH3 EL,Panel Panel 1
ATTACH;FMTTYPE=image/png:https://www.virtuelle-ph.at/wp-content/uploads/2020/03/gruber-digiph3-fb.png
END:VEVENT
END:VCALENDAR