BEGIN:VCALENDAR
VERSION:2.0
PRODID:-//Virtuelle PH - ECPv6.6.4.2//NONSGML v1.0//EN
CALSCALE:GREGORIAN
METHOD:PUBLISH
X-WR-CALNAME:Virtuelle PH
X-ORIGINAL-URL:https://www.virtuelle-ph.at
X-WR-CALDESC:Veranstaltungen für Virtuelle PH
REFRESH-INTERVAL;VALUE=DURATION:PT1H
X-Robots-Tag:noindex
X-PUBLISHED-TTL:PT1H
BEGIN:VTIMEZONE
TZID:Europe/Berlin
BEGIN:DAYLIGHT
TZOFFSETFROM:+0100
TZOFFSETTO:+0200
TZNAME:CEST
DTSTART:20170326T010000
END:DAYLIGHT
BEGIN:STANDARD
TZOFFSETFROM:+0200
TZOFFSETTO:+0100
TZNAME:CET
DTSTART:20171029T010000
END:STANDARD
BEGIN:DAYLIGHT
TZOFFSETFROM:+0100
TZOFFSETTO:+0200
TZNAME:CEST
DTSTART:20180325T010000
END:DAYLIGHT
BEGIN:STANDARD
TZOFFSETFROM:+0200
TZOFFSETTO:+0100
TZNAME:CET
DTSTART:20181028T010000
END:STANDARD
BEGIN:DAYLIGHT
TZOFFSETFROM:+0100
TZOFFSETTO:+0200
TZNAME:CEST
DTSTART:20190331T010000
END:DAYLIGHT
BEGIN:STANDARD
TZOFFSETFROM:+0200
TZOFFSETTO:+0100
TZNAME:CET
DTSTART:20191027T010000
END:STANDARD
END:VTIMEZONE
BEGIN:VEVENT
DTSTART;TZID=Europe/Berlin:20190424T190000
DTEND;TZID=Europe/Berlin:20190424T200000
DTSTAMP:20260420T053609
CREATED:20180920T092715Z
LAST-MODIFIED:20190425T134518Z
UID:10003017-1556132400-1556136000@www.virtuelle-ph.at
SUMMARY:eLecture #DigiGrubi: Technische Problemlösung
DESCRIPTION:zur Aufzeichnung\n\n\n						Sie kennen folgende Situation bestimmt: Man steht in der Klasse\, möchte sich mit dem Beamer verbinden und nichts geht… \nReferent Ingo Stein ist Lerndesigner und E-Learning Beauftragter\, Klassenvorstand und Leiter Vertreter an seiner Schule sowie Verantwortlicher für die Implementation des iPad 1:1 Projektes. Er hat die Lehramtsprüfung NMS in den Fächern Mathematik\, Physik/Chemie und Informatik und ist zudem qualifizierter Apple Professional Learning Specialist. \nDas Kapitel Technische Problemlösung beschäftigt sich in der digitalen Grundbildung mit der Identifizierung\, Benennung und bei einfachen Problemen\, mit der Lösung von technischen Herausforderungen.\nAn Hand einfacher Beispiele zur Nutzung digitaler Geräte werden die typischen Probleme\, die bei der Nutzung dieser auftreten\, besprochen und die Lösung gemeinsam erarbeitet. \nDiese eLecture ist für Sie geeignet\, wenn Sie schon immer mal wissen wollten\, was sich hinter der Tastenkombination WIN+P versteckt – oder Sie ganz einfach und ohne Kopfschmerzen mit digitalen Geräten arbeiten möchten. \nCoModeration: Daniel Handle-Pfeiffer \n———————————— \n\n			\n				\n			\n			Teilnahmekriterien & Info\n		 \n		\n			Lernziele\n		 \n		\n			Voraussetzungen\n		\n		 \n		\n			\n				\n					\n			Diese Veranstaltung wird via Zoom abgehalten (siehe Voraussetzungen). So treten Sie der eLecture im virtuellen Lernraum bei:  \n1. Rufen Sie 10 min vor Terminstart folgende Seite auf: \nzoom.us/j/997399120 \n2. Geben Sie bitte Ihren vollen Namen und eine Email-Adresse ein und klicken Sie „Dem Webinar beitreten“ an. Bitte klicken Sie im nächsten Schritt auch „Per Computer dem Audio beitreten“ an: das bewirkt\, dass Sie uns hören und sehen können. \n3. Folgen Sie den Anweisungen auf dem Bildschirm. Sie werden in Kürze eingelassen. \nDie Teilnahme an allen eLectures der Virtuellen PH ist für österreichische Hochschullehrende\, Lehrkräfte und Studierende eines Lehramts kostenlos.\n		 \n		\n			# Technische Bedürfnisse und entsprechende Möglichkeiten identifizieren    \n# Digitale Geräte nutzen \n# Technische Probleme lösen
URL:https://www.virtuelle-ph.at/veranstaltung/electure-digigrubi-technische-problemloesung/
CATEGORIES:eLecture,Reihe Digitale Grundbildung
END:VEVENT
BEGIN:VEVENT
DTSTART;TZID=Europe/Berlin:20170614T193000
DTEND;TZID=Europe/Berlin:20170614T203000
DTSTAMP:20260420T053609
CREATED:20170523T063442Z
LAST-MODIFIED:20170614T101851Z
UID:10002582-1497468600-1497472200@www.virtuelle-ph.at
SUMMARY:eLecture: iTunes U für den Unterricht nutzen
DESCRIPTION:iTunes U  ist das Unterrichts-Organisationstool von Apple für den Einsatz mit iPads. Der Unterricht kann von der Lehrkraft in Ruhe zuhause – von jedem Computer mit Internetzugriff aus – vorbereitet werden. \nEs bietet ein strukturiertes Kurslayout\, eine Hausaufgabenverwaltung\, einen integrierten Notenspiegel und private und öffentliche Diskussionsforen. \nDurch die tiefe Integration in das Betriebssystem ist der Datenaustausch mit den am iPad installierten Apps einfach und daher auch bereits für jüngere SchülerInnen geeignet. \nReferent Ingo Stein ist Lerndesigner und E-Learning Beauftragter\, Klassenvorstand und Leiter Vertreter an seiner Schule sowie Verantwortlicher für die Implementation des iPad 1:1 Projektes. Er hat die Lehramtsprüfung NMS in den Fächern Mathematik\, Physik/Chemie und Informatik und ist zudem qualifizierter Apple Professional Development Trainer. \nIn seiner eLecture führt er Sie in Struktur und Möglichkeiten von iTunes U  und die Erstellung von Kursen darauf ein um Ihnen den effizienten und gewinnbringenden Einsatz von iPads für Ihren Unterricht zu erleichtern! \nCoModeration: Elisabeth Eder-Janca \n\n			\n				\n			\n			Teilnahmekriterien & Info\n		 \n		\n			Lernziele\n		 \n		\n			Voraussetzungen\n		\n		 \n		\n			\n				\n					\n			Technische Voraussetzungen: Grundlegende Computerkenntnisse\, gute Internetverbindung; optional: Headset.  \nSo treten Sie der eLecture im virtuellen Lernraum bei:  \n1. Rufen Sie 10 min vor Terminstart folgende Seite auf:  \nvph.adobeconnect.com/drei/ \n2. Geben Sie bitte Ihren Vor- und Nachnamen ein und „Betreten Sie den Raum“ mit Klick auf den Button. \n3. Folgen Sie den Anweisungen auf dem Bildschirm. Sie werden in Kürze eingelassen. \nWenn Sie noch an keiner eLecture teilgenommen haben\, finden Sie alle Infos zum Einstieg unter:\nwww.virtuelle-ph.at/electures/#einstieg \nDie Teilnahme an allen eLectures der Virtuellen PH ist für österreichische Lehrkräfte und Studierende eines Lehramts kostenlos.\n		 \n		\n			\nSie wissen\, welche Möglichkeiten iTunes U für den Unterricht bietet.\n\nSie wissen\, wie man sich als Dozent_in für die Erstellung von iTunes U Kursen registriert.\n\nSie können einen eigenen iTunes U Kurs anlegen.\n\nSie wissen\, wie sich Schüler_innen in Ihren Kurs einschreiben.\nSie können Hausaufgaben austeilen\, einsammeln\, verbessern und beurteilen.\nSie wissen\, welche zusätzlichen Vorteile Ihnen eine Registrierung als Bildungseinrichtung bietet.
URL:https://www.virtuelle-ph.at/veranstaltung/electure-itunes-u-fuer-den-unterricht-nutzen/
CATEGORIES:eLecture
END:VEVENT
BEGIN:VEVENT
DTSTART;TZID=Europe/Berlin:20170125T180000
DTEND;TZID=Europe/Berlin:20170125T190000
DTSTAMP:20260420T053609
CREATED:20161218T174803Z
LAST-MODIFIED:20170125T033540Z
UID:10002422-1485367200-1485370800@www.virtuelle-ph.at
SUMMARY:eLecture: iPads fit für den Schulalltag machen
DESCRIPTION:Experte: Ingo Stein\nCoModeration: Harald Meyer \nIn dieser eLecture werden von Praktiker Ingo Stein die wichtigen ersten Schritte mit einem neuen iPad behandelt – von der Registrierung über die Anbindung an Internet-Dienste\, die wichtigsten Einstellungen\, die Durchführung von Updates bis zur Installation von Apps. Offene Fragen dazu sollen in diesem Rahmen beantwortet werden. \nIngo Stein ist Lerndesigner und eLearning Beauftragter der NMS Wien 16\, Koppstraße 110/2 sowie Apple Professional Development Trainer. Er unterrichtet Mathematik\, Physik und Chemie\, Geographie\, Bewegung und Sport und Informatik. \nFolgende Themen werden in der eLecture behandelt: \n– Einrichtung des iPads: Was muss ich beim Anlegen der Apple ID beachten?\n– Einstellungen für den Schulalltag: Wie schütze ich die iPads gegen ungewollte Veränderungen?\n– Tipps und Tricks: Welche weniger bekannten Funktionen helfen im Unterricht?\n– Apps für die Schule: Welche wichtigsten Apps haben sich bewährt? \n\n			\n				\n			\n			Teilnahmekriterien & Info\n		 \n		\n			Lernziele\n		 \n		\n			Voraussetzungen\n		\n		 \n		\n			\n				\n					\n			Technische Voraussetzungen: Grundlegende Computerkenntnisse\, gute Internetverbindung; optional: Headset.  \nSo treten Sie der eLecture im virtuellen Lernraum bei:  \n1. Rufen Sie 10 min vor Terminstart folgende Seite auf:\nvph.webex.com/vph/k2/j.php?MTID=t204a6be50017557b7fcf65a631961e36 \n2. Geben Sie bitte Ihren Vor- und Nachnamen und Ihre E-Mail-Adresse ein.  \n3. Klicken Sie auf „Jetzt beitreten“.  \n4. Folgen Sie den Anweisungen auf dem Bildschirm. \n5. Akzeptieren Sie unbedingt mit „Ja“ das Popup zum Beitreten der Sprachkonferenz\, um Ton hören zu können! Ihr MIkrofon wird dadurch nicht aktiviert. \nDie Teilnahme an allen eLectures der Virtuellen PH ist für österreichische Lehrkräfte und Studierende eines Lehramts kostenlos.\n		 \n		\n			(schuleigene) iPads einrichten und optimieren lernen\npraxiserprobte Apps kennenlernen\nFehlerquellen vermeiden lernen\n		 \n		\n			Verwendung von/interesse an iPads (Android-eLectures gibt es u.a. im Jänner 2017!)
URL:https://www.virtuelle-ph.at/veranstaltung/electure-ipads-fit-fuer-den-schulalltag-machen/
CATEGORIES:eLecture
END:VEVENT
END:VCALENDAR