BEGIN:VCALENDAR
VERSION:2.0
PRODID:-//Virtuelle PH - ECPv6.6.4.2//NONSGML v1.0//EN
CALSCALE:GREGORIAN
METHOD:PUBLISH
X-ORIGINAL-URL:https://www.virtuelle-ph.at
X-WR-CALDESC:Veranstaltungen für Virtuelle PH
REFRESH-INTERVAL;VALUE=DURATION:PT1H
X-Robots-Tag:noindex
X-PUBLISHED-TTL:PT1H
BEGIN:VTIMEZONE
TZID:Europe/Berlin
BEGIN:DAYLIGHT
TZOFFSETFROM:+0100
TZOFFSETTO:+0200
TZNAME:CEST
DTSTART:20200329T010000
END:DAYLIGHT
BEGIN:STANDARD
TZOFFSETFROM:+0200
TZOFFSETTO:+0100
TZNAME:CET
DTSTART:20201025T010000
END:STANDARD
END:VTIMEZONE
BEGIN:VEVENT
DTSTART;TZID=Europe/Berlin:20200311T183000
DTEND;TZID=Europe/Berlin:20200311T190000
DTSTAMP:20260425T135459
CREATED:20200210T102220Z
LAST-MODIFIED:20200312T072139Z
UID:10003502-1583951400-1583953200@www.virtuelle-ph.at
SUMMARY:eLecture digiPH3: Nutzung digitaler Medien im Studium – die Sicht der Studierenden
DESCRIPTION:zur Aufzeichnung\n\n\n						Zunehmend treten ‚Digital Natives‘  in die Hochschulen ein. Diese Studierenden wünschen sich Studienformate\, die digitale Angebote und Präsenzveranstaltungen sinnvoll miteinander kombinieren. Vor diesem Hintergrund wird Hochschulen der Ausbau digitaler Infrastrukturen und die Implementierung digitaler Technologien empfohlen. Um Ressourcen richtig einzusetzen\, Drop-Out zu vermeiden und mit digitalen Lernangeboten Studierende bestmöglich zu unterstützen\, ist es wichtig Informationen über den Umgang der Studierenden mit digitalen Medien im Rahmen des Studiums zu generieren.  \n\nPetra Weiss und Ingrid Portenkirchner sind wissenschaftliche Mitarbeiterinnen an der FH Wiener Neustadt und setzen im Rahmen ihrer Lehrveranstaltungen aus den Bereichen Marketing/Vertrieb und Management/Personal laufend digitale Medien für die Lehre ein. Im Rahmen ihres Arbeitsschwerpunkts Future Learning an der Fakultät Wirtschaft beschäftigen sie sich mit innovativen und technologiegestützten Lernformaten.  \n\nDer Beitrag stellt die Ergebnisse von zwei Teilstudien vor\, die sich mit der Nutzung digitaler Medien durch Studierende in wirtschaftswissenschaftlichen Studiengängen beschäftigen. Es geht um Einstellungen und Nutzungsgewohnheiten von Studierenden zu Beginn des Studiums und die Bedeutung digitaler Medien im Studium nicht-traditioneller Studierender.  \n\nDiese eLecture ist für Sie geeignet\, wenn …. \n\n•	Sie wissen wollen\, wie Studierende zu digitalem Lernen stehen \n\n•	Sie überlegen\, ob Sie digitale Medien einsetzen möchten und Hinweise erhalten möchten\, wie das bei Studierenden ankommt. \n\nCoModeration: Daniel Handle-Pfeiffer \n \n\n			\n				\n			\n			Teilnahmekriterien & Info\n		 \n		\n			Lernziele\n		 \n		\n			Voraussetzungen\n		\n		 \n		\n			\n				\n					\n			Technische Voraussetzungen: Grundlegende Computerkenntnisse\, gute Internetverbindung; optional: Headset.  \nSo treten Sie der eLecture im virtuellen Lernraum bei:  \n1. Rufen Sie 10 min vor Terminstart folgende Seite auf:  \nvph.adobeconnect.com/digiph3/ \n2. Geben Sie bitte Ihren Vor- und Nachnamen ein und „Betreten Sie den Raum“ mit Klick auf den Button. \n3. Folgen Sie den Anweisungen auf dem Bildschirm. Sie werden in Kürze eingelassen. \nWenn Sie noch an keiner eLecture teilgenommen haben\, finden Sie alle Infos zum Einstieg unter: www.virtuelle-ph.at/electures/#einstieg \nDie Teilnahme an allen eLectures der Virtuellen PH ist für österreichische Lehrkräfte und Studierende eines Lehramts kostenlos.\n		 \n		\n			Perspektive der Studierenden verstehen\, Tools für digitale Lehre auswählen
URL:https://www.virtuelle-ph.at/veranstaltung/electure-digiph3-nutzung-digitaler-medien-im-studium-die-sicht-der-studierenden/
CATEGORIES:eLecture,Online-Tagung digiPH3 EL
ATTACH;FMTTYPE=image/png:https://www.virtuelle-ph.at/wp-content/uploads/2020/02/weissportenkirchner-digiph3-fb.png
END:VEVENT
END:VCALENDAR