BEGIN:VCALENDAR
VERSION:2.0
PRODID:-//Virtuelle PH - ECPv6.6.4.2//NONSGML v1.0//EN
CALSCALE:GREGORIAN
METHOD:PUBLISH
X-WR-CALNAME:Virtuelle PH
X-ORIGINAL-URL:https://www.virtuelle-ph.at
X-WR-CALDESC:Veranstaltungen für Virtuelle PH
REFRESH-INTERVAL;VALUE=DURATION:PT1H
X-Robots-Tag:noindex
X-PUBLISHED-TTL:PT1H
BEGIN:VTIMEZONE
TZID:Europe/Vienna
BEGIN:DAYLIGHT
TZOFFSETFROM:+0100
TZOFFSETTO:+0200
TZNAME:CEST
DTSTART:20220327T010000
END:DAYLIGHT
BEGIN:STANDARD
TZOFFSETFROM:+0200
TZOFFSETTO:+0100
TZNAME:CET
DTSTART:20221030T010000
END:STANDARD
BEGIN:DAYLIGHT
TZOFFSETFROM:+0100
TZOFFSETTO:+0200
TZNAME:CEST
DTSTART:20230326T010000
END:DAYLIGHT
BEGIN:STANDARD
TZOFFSETFROM:+0200
TZOFFSETTO:+0100
TZNAME:CET
DTSTART:20231029T010000
END:STANDARD
END:VTIMEZONE
BEGIN:VEVENT
DTSTART;VALUE=DATE:20231009
DTEND;VALUE=DATE:20231220
DTSTAMP:20260425T121859
CREATED:20230918T033054Z
LAST-MODIFIED:20231008T033055Z
UID:10004443-1696809600-1703030399@www.virtuelle-ph.at
SUMMARY:Onlineschulung zur Durchführung der iKMPLUS Sekundarstufe 2023
DESCRIPTION:Zur Anmeldung\n						\n\n						Seit dem Schuljahr 2021/22 erfolgt die Überprüfung der Bildungsstandards jährlich im Rahmen der individuellen Kompetenzmessung PLUS (iKMPLUS). Doch was ist die iKMPLUS eigentlich? Wann und in welchen Fächern wird sie durchgeführt? Und welche Aufgaben übernehmen Sie als Lehrperson dabei? Antworten auf diese und viele weitere Fragen liefert Ihnen die Onlineschulung zur Durchführung der iKMPLUS. \nDie Schulung bietet Informationen zur (technischen) Abwicklung und Durchführung der iKMPLUS auf der Sekundarstufe und vermittelt das notwendige Wissen\, um die iKMPLUS mit Ihrer Klasse nach den standardisierten Vorgaben durchführen zu können. Die vier Schulungsmodule geben zunächst einen einführenden Blick auf die Kompetenzerhebung und gehen anschließend auf die wesentlichen Schritte im Rahmen der Vorbereitung\, Durchführung und Nachbereitung der iKMPLUS ein. Auch Einblicke in die iKMPLUS-Plattform werden geboten. \n\nExpert_in: IQS Institut des Bundes für Qualitätssicherung im österreichischen Schulwesen \n\n\n			\n				\n			\n			Teilnahmekriterien & Info\n		 \n		\n			Lernziele\n		 \n		\n			Voraussetzungen\n		\n		 \n		\n			\n				\n					\n			Die Onlineschulung wurde für die Sekundarstufe konzipiert und steht allen Pädagoginnen und Pädagogen offen. Sie richtet sich aber vorwiegend an Lehrpersonen\, die die iKMPLUS im aktuellen Schuljahr auf der 7. und/oder 8. Schulstufe in den Basismodulen Mathematik\, Deutsch (Lesen) und/oder Englisch (Rezeptive Fertigkeiten) durchführen werden.\n		 \n		\n			Nach Absolvierung der Onlineschulung können Teilnehmende… \n· grundlegende Aspekte der iKMPLUS benennen. \n· Vorbereitungen vor dem Durchführungstag sowie am Tag der Durchführung der iKMPLUS ausführen. \n· organisatorische Rahmenbedingungen für die Durchführung abklären. \n· die verschiedenen Materialien rund um die iKMPLUS einsetzen. \n· die iKMPLUS Basismodule nach den standardisierten Vorgaben durchführen. Zudem haben sie grundlegendes Wissen zu den iKMPLUS Fokusmodulen erhalten und wissen\, wo sie weitere Informationen dazu finden. \n· mit der iKMPLUS-Plattform umgehen.\n		 \n		\n			Vorkenntnisse sind nicht notwendig. Die Pädagogischen Hochschulen in Ihrem Bundesland bieten darüber hinaus noch weitere Schulungen an. Ein Besuch dieser Schulungen wird empfohlen.
URL:https://www.virtuelle-ph.at/veranstaltung/onlineschulung-zur-durchfuehrung-der-ikmplus-sekundarstufe-2023-2/
CATEGORIES:Online-Seminar
END:VEVENT
BEGIN:VEVENT
DTSTART;VALUE=DATE:20231009
DTEND;VALUE=DATE:20231010
DTSTAMP:20260425T121859
CREATED:20230918T033042Z
LAST-MODIFIED:20230918T033042Z
UID:10004382-1696809600-1696895999@www.virtuelle-ph.at
SUMMARY:Onlineschulung zur Durchführung der iKMPLUS Sekundarstufe 2023
DESCRIPTION:Zur Anmeldung\n						\n\n						Seit dem Schuljahr 2021/22 erfolgt die Überprüfung der Bildungsstandards jährlich im Rahmen der individuellen Kompetenzmessung PLUS (iKMPLUS). Doch was ist die iKMPLUS eigentlich? Wann und in welchen Fächern wird sie durchgeführt? Und welche Aufgaben übernehmen Sie als Lehrperson dabei? Antworten auf diese und viele weitere Fragen liefert Ihnen die Onlineschulung zur Durchführung der iKMPLUS. \nDie Schulung bietet Informationen zur (technischen) Abwicklung und Durchführung der iKMPLUS auf der Sekundarstufe und vermittelt das notwendige Wissen\, um die iKMPLUS mit Ihrer Klasse nach den standardisierten Vorgaben durchführen zu können. Die vier Schulungsmodule geben zunächst einen einführenden Blick auf die Kompetenzerhebung und gehen anschließend auf die wesentlichen Schritte im Rahmen der Vorbereitung\, Durchführung und Nachbereitung der iKMPLUS ein. Auch Einblicke in die iKMPLUS-Plattform werden geboten. \n\nExpert_in: IQS Institut des Bundes für Qualitätssicherung im österreichischen Schulwesen \n\n\n			\n				\n			\n			Teilnahmekriterien & Info\n		 \n		\n			Lernziele\n		 \n		\n			Voraussetzungen\n		\n		 \n		\n			\n				\n					\n			Die Onlineschulung wurde für die Sekundarstufe konzipiert und steht allen Pädagoginnen und Pädagogen offen. Sie richtet sich aber vorwiegend an Lehrpersonen\, die die iKMPLUS im aktuellen Schuljahr auf der 7. und/oder 8. Schulstufe in den Basismodulen Mathematik\, Deutsch (Lesen) und/oder Englisch (Rezeptive Fertigkeiten) durchführen werden.\n		 \n		\n			Nach Absolvierung der Onlineschulung können Teilnehmende… \n· grundlegende Aspekte der iKMPLUS benennen. \n· Vorbereitungen vor dem Durchführungstag sowie am Tag der Durchführung der iKMPLUS ausführen. \n· organisatorische Rahmenbedingungen für die Durchführung abklären. \n· die verschiedenen Materialien rund um die iKMPLUS einsetzen. \n· die iKMPLUS Basismodule nach den standardisierten Vorgaben durchführen. Zudem haben sie grundlegendes Wissen zu den iKMPLUS Fokusmodulen erhalten und wissen\, wo sie weitere Informationen dazu finden. \n· mit der iKMPLUS-Plattform umgehen.\n		 \n		\n			Vorkenntnisse sind nicht notwendig. Die Pädagogischen Hochschulen in Ihrem Bundesland bieten darüber hinaus noch weitere Schulungen an. Ein Besuch dieser Schulungen wird empfohlen.
URL:https://www.virtuelle-ph.at/veranstaltung/onlineschulung-zur-durchfuehrung-der-ikmplus-sekundarstufe-2023/
CATEGORIES:Online-Seminar
END:VEVENT
BEGIN:VEVENT
DTSTART;VALUE=DATE:20230306
DTEND;VALUE=DATE:20230520
DTSTAMP:20260425T121859
CREATED:20230211T033109Z
LAST-MODIFIED:20230305T033104Z
UID:10003745-1678060800-1684540799@www.virtuelle-ph.at
SUMMARY:Onlineschulung zur Durchführung der iKMPLUS Primarstufe 2023
DESCRIPTION:Zur Anmeldung\n						\n\n						Seit dem Schuljahr 2021/22 erfolgt die Überprüfung der Bildungsstandards jährlich im Rahmen der individuellen Kompetenzmessung PLUS (iKMPLUS). Doch was ist die iKMPLUS eigentlich? Wann und in welchen Fächern wird sie durchgeführt? Und welche Aufgaben übernehmen Sie als Lehrperson dabei? Antworten auf diese und viele weitere Fragen liefert Ihnen die Onlineschulung zur Durchführung der iKMPLUS.\nDie Schulung bietet Informationen zur (technischen) Abwicklung und Durchführung der iKMPLUS in der Primarstufe und vermittelt das notwendige Wissen\, um die iKMPLUS mit Ihrer Klasse nach den standardisierten Vorgaben durchführen zu können. Die vier Schulungsmodule geben zunächst einen einführenden Blick auf die Kompetenzerhebung und gehen anschließend auf die wesentlichen Schritte im Rahmen der Vorbereitung\, Durchführung und Nachbereitung der iKMPLUS ein. Auch Einblicke in die iKMPLUS-Plattform werden geboten. \n\n			\n				\n			\n			Teilnahmekriterien & Info\n		 \n		\n			Lernziele\n		 \n		\n			Voraussetzungen\n		\n		 \n		\n			\n				\n					\n			Die Onlineschulung wurde für die Primarstufe konzipiert und steht allen Pädagoginnen und Pädagogen offen. Sie richtet sich aber vorwiegend an Lehrpersonen\, die die iKMPLUS im aktuellen Schuljahr mit ihrer 3. und/oder 4. Klasse in den Basismodulen Mathematik und/oder Deutsch (Lesen) durchführen werden.\n		 \n		\n			Nach Absolvierung der Onlineschulung können Teilnehmende…\n•	grundlegende Aspekte der iKMPLUS benennen.\n•	Vorbereitungen vor dem Durchführungstag sowie am Tag der Durchführung der iKMPLUS ausführen.\n•	organisatorische Rahmenbedingungen für die Durchführung abklären.\n•	die verschiedenen Materialien rund um die iKMPLUS einsetzen.\n•	die iKMPLUS Basismodule nach den standardisierten Vorgaben durchführen. Zudem haben sie grundlegendes Wissen zu den iKMPLUS Fokusmodulen erhalten und wissen\, wo sie weitere Informationen dazu finden.\n•	Schülerantworten richtig bewerten.\n•	mit der iKMPLUS-Plattform umgehen (z. B. Antworten eingeben und Rückmeldungen generieren).\n		 \n		\n			Vorkenntnisse sind nicht notwendig. Die Pädagogischen Hochschulen in Ihrem Bundesland bieten darüber hinaus noch weitere Schulungen an. Ein Besuch dieser Schulungen wird empfohlen.
URL:https://www.virtuelle-ph.at/veranstaltung/onlineschulung-zur-durchfuehrung-der-ikmplus-primarstufe-2023/
CATEGORIES:Fortbildungsveranstaltung
END:VEVENT
BEGIN:VEVENT
DTSTART;VALUE=DATE:20221010
DTEND;VALUE=DATE:20221221
DTSTAMP:20260425T121859
CREATED:20221003T033008Z
LAST-MODIFIED:20221009T033014Z
UID:10004064-1665360000-1671580799@www.virtuelle-ph.at
SUMMARY:Online-Schulung zur Durchführung der iKMPLUS Sekundarstufe 2022
DESCRIPTION:Zur Anmeldung\n						\n\n						Seit dem Schuljahr 2021/22 erfolgt die Überprüfung der Bildungsstandards jährlich im Rahmen der individuellen Kompetenzmessung PLUS (iKMPLUS). Doch was ist die iKMPLUS eigentlich? Wann und in welchen Fächern wird sie durchgeführt? Und welche Aufgaben übernehmen Sie als Lehrperson dabei? Antworten auf diese und viele weitere Fragen liefert Ihnen die Online-Schulung zur Durchführung der iKMPLUS.\nDie Schulung bietet Informationen zur (technischen) Abwicklung und Durchführung der iKMPLUS in der Sekundarstufe und vermittelt das notwendige Wissen\, um die iKMPLUS mit Ihrer Klasse nach den standardisierten Vorgaben durchführen zu können. Die vier Schulungsmodule geben zunächst einen einführenden Blick auf die neue Kompetenzerhebung und gehen anschließend auf die wesentlichen Schritte im Rahmen der Vorbereitung\, Durchführung und Nachbereitung der iKMPLUS ein. Auch Einblicke in die neue iKMPLUS-Plattform werden geboten. \n\nExpert_in: IQS Institut des Bundes für Qualitätssicherung im österreichischen Schulwesen \n\n\n			\n				\n			\n			Teilnahmekriterien & Info\n		 \n		\n			Lernziele\n		 \n		\n			Voraussetzungen\n		\n		 \n		\n			\n				\n					\n			Die Online-Schulung wurde für die Sekundarstufe konzipiert und steht allen Pädagoginnen und Pädagogen offen. Sie richtet sich aber vorwiegend an Lehrpersonen\, die die iKMPLUS im aktuellen Schuljahr mit ihrer 3. Klasse in den Basismodulen Mathematik\, Deutsch (Lesen) oder Englisch (Rezeptive Fertigkeiten) durchführen werden.\n		 \n		\n			Nach Absolvierung der Online-Schulung können Teilnehmende…\n•	grundlegende Aspekte der iKMPLUS benennen.\n•	Vorbereitungen vor dem Durchführungstag sowie am Tag der Durchführung der iKMPLUS ausführen.\n•	organisatorische Rahmenbedingungen für die Durchführung abklären.\n•	die verschiedenen Materialien rund um die iKMPLUS einsetzen.\n•	die iKMPLUS Basismodule nach den standardisierten Vorgaben durchführen.\n•	mit der iKMPLUS-Plattform umgehen.\n		 \n		\n			Vorkenntnisse sind nicht notwendig.
URL:https://www.virtuelle-ph.at/veranstaltung/online-schulung-zur-durchfuehrung-der-ikmplus-sekundarstufe-2022/
CATEGORIES:Online-Seminar
END:VEVENT
BEGIN:VEVENT
DTSTART;VALUE=DATE:20220310
DTEND;VALUE=DATE:20220526
DTSTAMP:20260425T121859
CREATED:20220202T033007Z
LAST-MODIFIED:20220517T095007Z
UID:10003617-1646870400-1653523199@www.virtuelle-ph.at
SUMMARY:Online-Schulung zur Durchführung der iKM PLUS (Primarstufe)
DESCRIPTION:Zur Anmeldung\n\nAb dem Schuljahr 2021/22 erfolgt die Überprüfung der Bildungsstandards jährlich im Rahmen der individuellen Kompetenzmessung PLUS (iKM PLUS). Doch was ist die iKMPLUS eigentlich? Wann und in welchen Fächern wird sie durchgeführt? Und welche Aufgaben übernehmen Sie als Lehrperson dabei? Antworten auf diese und viele weitere Fragen liefert Ihnen die Online-Schulung zur Durchführung der iKM PLUS. \nDie Schulung bietet Informationen zur (technischen) Abwicklung und Durchführung der iKM PLUS in der Primarstufe und vermittelt das notwendige Wissen\, um die iKM PLUS mit Ihrer Klasse nach den standardisierten Vorgaben durchführen zu können. Die vier Schulungsmodule geben zunächst einen einführenden Blick auf die neue Kompetenzerhebung und gehen anschließend auf die wesentlichen Schritte im Rahmen der Vorbereitung\, Durchführung und Nachbereitung der iKMPLUS ein. Auch Einblicke in die neue iKM PLUS-Plattform werden geboten. \nDie Online-Schulung wurde für die Primarstufe konzipiert und steht allen Pädagoginnen und Pädagogen offen. Sie richtet sich aber vorwiegend an Lehrpersonen\, die die iKM PLUS im aktuellen Schuljahr mit ihrer 3. Klasse in den Basismodulen Mathematik und/oder Deutsch (Lesen) durchführen werden. \nDieser Kurs wird in Kooperation mit der Virtuellen Pädagogischen Hochschule Österreich angeboten. Für die Anmeldung zur Teilnahme müssen Sie sich in PH-Online als Studierende/r der Fortbildung identifizieren. Für Lehrkräfte und Lehramtsstudierende in Österreich gibt es die Möglichkeit\, eine Fortbildungsbestätigung über insgesamt 3 Unterrichtseinheiten zu erhalten. Eine Zertifizierung ist bis zum Ende des Schulungsfensters möglich. Bei Fragen können Sie sich an info@virtuelle-ph.at wenden. \nZum Kurslogin auf der Lernplattform der Virtuellen PH: onlinecampus.virtuelle-ph.at/course/view.php?id=2970 \n\nExpert_in: IQS Institut des Bundes für Qualitätssicherung im österreichischen Schulwesen \n\n\n			\n				\n			\n			Teilnahmekriterien & Info\n		 \n		\n			Lernziele\n		 \n		\n			Voraussetzungen\n		\n		 \n		\n			\n				\n					\n			Für die Anmeldung zur Teilnahme > in PH-Online als Studierende/r der Fortbildung identifizieren. Für Lehrkräfte und Lehramtsstudierende in Österreich gibt es die Möglichkeit\, eine Fortbildungsbestätigung über insgesamt 3 Unterrichtseinheiten zu erhalten. Eine Zertifizierung ist bis zum Ende des Schulungsfensters möglich. Bei Fragen: info@virtuelle-ph.at \nSIE SIND BEREITS AN EINER PH REGISTRIERT?\nMelden Sie sich mit Kennwort & Benutzernamen bei jener PH in PH-Online an\, bei der Sie registriert sind. Rechts oben muss neben dem Namen Stud. der Fortbildung stehen. Falls nicht\, bei den bunten Figuren Profil umschalten.\nIn Ihrer Visitenkarte Immatrikulation an weiteren PHs wählen\, bei Private Pädagogische Hochschule Burgenland auf Aktivieren klicken.\nFür das Aktivieren folgende 2 Hakerl setzen:\n– Ja\, ich bin damit einverstanden\, dass diese Daten bei der Accountierung FÜR DIE FORTBILDUNG übernommen werden\n– Ja\, meine Daten sind richtig\nKlick auf Account aktivieren.\n		 \n		\n			Nach Absolvierung der Online-Schulung können Teilnehmende… \n– grundlegende Aspekte der iKM PLUS benennen.\n– Vorbereitungen vor dem Durchführungstag sowie am Tag der Durchführung der iKM PLUS ausführen.\n– organisatorische Rahmenbedingungen für die Durchführung abklären.\n– die verschiedenen Materialien rund um die iKM PLUS einsetzen.\n– die iKM PLUS Basismodule nach den standardisierten Vorgaben durchführen.\n– Schülerantworten richtig bewerten.\n– mit der iKM PLUS-Plattform umgehen (z.B. Antworten eingeben und Rückmeldungen generieren).\n		 \n		\n			Vorkenntnisse sind nicht notwendig.
URL:https://www.virtuelle-ph.at/veranstaltung/online-schulung-zur-durchfuehrung-der-ikm-plus-primarstufe/
CATEGORIES:Online-Seminar
END:VEVENT
END:VCALENDAR