BEGIN:VCALENDAR
VERSION:2.0
PRODID:-//Virtuelle PH - ECPv6.6.4.2//NONSGML v1.0//EN
CALSCALE:GREGORIAN
METHOD:PUBLISH
X-WR-CALNAME:Virtuelle PH
X-ORIGINAL-URL:https://www.virtuelle-ph.at
X-WR-CALDESC:Veranstaltungen für Virtuelle PH
REFRESH-INTERVAL;VALUE=DURATION:PT1H
X-Robots-Tag:noindex
X-PUBLISHED-TTL:PT1H
BEGIN:VTIMEZONE
TZID:Europe/Berlin
BEGIN:DAYLIGHT
TZOFFSETFROM:+0100
TZOFFSETTO:+0200
TZNAME:CEST
DTSTART:20170326T010000
END:DAYLIGHT
BEGIN:STANDARD
TZOFFSETFROM:+0200
TZOFFSETTO:+0100
TZNAME:CET
DTSTART:20171029T010000
END:STANDARD
END:VTIMEZONE
BEGIN:VEVENT
DTSTART;TZID=Europe/Berlin:20170511T170000
DTEND;TZID=Europe/Berlin:20170511T180000
DTSTAMP:20260420T155832
CREATED:20170328T144635Z
LAST-MODIFIED:20170511T122236Z
UID:10002511-1494522000-1494525600@www.virtuelle-ph.at
SUMMARY:eLecture Schwerpunkt #digiFD: Einstieg in die Programmierung mit Lego Mindstorms
DESCRIPTION:CoModeration: Walter Fikisz \nIn der heutigen digitalisierten Welt wird es  um beruflich anschlussfähig zu bleiben immer wichtiger\, auch das „Dahinter“ von Anwendungen und Programmen kennen und verstehen zu lernen. Fragen\, wie zum Beispiel: „Warum funktioniert das Programm nicht\, wie ich es gern hätte?“\, lassen sich mit Hilfe von Lego Mindstorms Robotern leicht veranschaulichen. \nIrmgard Hausharter ist Lehrerin am BORG Auer von Welsbach in Althofen und verwendet seit ca. einem Jahr die Lego Mindstorms Roboter in ihrem Informatikunterricht. Der Mehrwert: die Schüler_innen können mit Hilfe der Roboter sofort Ergebnisse Ihrer Programmierungen sehen und Fehler erkennen.  \nIn dieser eLecture lernen Sie grob den Aufbau eines Lego Mindstorms Roboters sowie die Lego Mindstorms Education EV3-Software kennen. Exemplarisch schauen Sie sich mit der Referentin kleine Problemstellungen und mögliche Lösungen an und erleben so\, wie eine Einführung ins Programmieren aussehen könnte.  \nDieses eLecture eignet sich für Sie\, \n\nwenn Sie an einer anschaulichen Einführung in die Programmierung interessiert sind\nmit Schüler_innen arbeiten möchten\, die idealerweise schon ein paar Vorkenntnisse bezüglich Schleifen\, Bedingungen haben (eventuell in Scratch).\n\n\n			\n				\n			\n			Teilnahmekriterien & Info\n		 \n		\n			Lernziele\n		 \n		\n			Voraussetzungen\n		\n		 \n		\n			\n				\n					\n			Technische Voraussetzungen: Grundlegende Computerkenntnisse\, gute Internetverbindung; optional: Headset.  \nSo treten Sie der eLecture im virtuellen Lernraum bei:  \n1. Rufen Sie 10 min vor Terminstart folgende Seite auf:  \nvph.adobeconnect.com/vier/ \n2. Geben Sie bitte Ihren Vor- und Nachnamen ein und „Betreten Sie den Raum“ mit Klick auf den Button. \n3. Folgen Sie den Anweisungen auf dem Bildschirm. Sie werden in Kürze eingelassen. \nWenn Sie noch an keiner eLecture teilgenommen haben\, finden Sie alle Infos zum Einstieg unter:\nwww.virtuelle-ph.at/electures/#einstieg \nDie Teilnahme an allen eLectures der Virtuellen PH ist für österreichische Lehrkräfte und Studierende eines Lehramts kostenlos.\n		 \n		\n			# Die Lehrenden lernen\, wie mit Schüler_innen vorgestellte Algorithmen umzusetzen sind.\n# Schüler_innen anregen Lösungsstrategien zu vorgegebenen Problemstellungen zu entwerfen\n# Potenzial selbstständiger Lösungswegermittlung von Schüler_innen für die Gruppe entdecken.
URL:https://www.virtuelle-ph.at/veranstaltung/electure-schwerpunkt-digifd-einstieg-in-die-programmierung-mit-lego-mindstorms/
CATEGORIES:eLecture,Themenschwerpunkt digiFD EL
END:VEVENT
END:VCALENDAR