BEGIN:VCALENDAR
VERSION:2.0
PRODID:-//Virtuelle PH - ECPv6.6.4.2//NONSGML v1.0//EN
CALSCALE:GREGORIAN
METHOD:PUBLISH
X-ORIGINAL-URL:https://www.virtuelle-ph.at
X-WR-CALDESC:Veranstaltungen für Virtuelle PH
REFRESH-INTERVAL;VALUE=DURATION:PT1H
X-Robots-Tag:noindex
X-PUBLISHED-TTL:PT1H
BEGIN:VTIMEZONE
TZID:Europe/Berlin
BEGIN:DAYLIGHT
TZOFFSETFROM:+0100
TZOFFSETTO:+0200
TZNAME:CEST
DTSTART:20180325T010000
END:DAYLIGHT
BEGIN:STANDARD
TZOFFSETFROM:+0200
TZOFFSETTO:+0100
TZNAME:CET
DTSTART:20181028T010000
END:STANDARD
END:VTIMEZONE
BEGIN:VEVENT
DTSTART;TZID=Europe/Berlin:20181106T180000
DTEND;TZID=Europe/Berlin:20181106T183000
DTSTAMP:20260420T092732
CREATED:20180919T072315Z
LAST-MODIFIED:20181129T102855Z
UID:10003014-1541527200-1541529000@www.virtuelle-ph.at
SUMMARY:SIMOOC miniLecture: Urheberrecht und Schule
DESCRIPTION:zur Aufzeichnung\n\n\n						Im Schulalltag nutzen Lehrerinnen und Lehrer\, aber auch Schüler und Schülerinnen fremde Texte\, Videos\, Musikstücke oder Bilder für den Unterricht. Sie kommen damit mit dem Urheberrecht in Kontakt. Der Vortragende geht in dieser eLecture auf die in seiner Beratungstätigkeit für Saferinternet.at häufig aufkommenden Fragen zum Thema ein. \nKonkret erhalten Teilnehmer und Teilnehmerinnen  \n1. eine kurze Einführung in das Urheberrecht\, \n2. hören etwas über die Sonderbestimmungen für den Schulunterricht\,\n3. erfahren von dem in der Praxis wichtigen Recht am eigenen Bild\,\n4. dem Zusammenhang von Fotos und Datenschutz\n5. und hören von Alternativen zu urheberrechtlich geschützen Werken. \nDie Möglichkeit\, dass Teilnehmer und Teilnehmerinnen dem Vortragenden Fragen zum Thema stellen besteht jederzeit und ist sehr gerne gesehen! \nCo-Referenten: Barbara Buchegger und Matthias Jax \nCoModeration: Thomas Winkler \n\n			\n				\n			\n			Teilnahmekriterien & Info\n		 \n		\n			Lernziele\n		 \n		\n			Voraussetzungen\n		\n		 \n		\n			\n				\n					\n			Technische Voraussetzungen: Grundlegende Computerkenntnisse\, gute Internetverbindung; optional: Headset. \nSo treten Sie der eLecture im virtuellen Lernraum bei:  \n1. Rufen Sie 10 min vor Terminstart folgende Seite auf:  \nvph.adobeconnect.com/zwei/ \n2. Geben Sie bitte Ihren Vor- und Nachnamen ein und „Betreten Sie den Raum“ mit Klick auf den Button. \n3. Folgen Sie den Anweisungen auf dem Bildschirm. Sie werden in Kürze eingelassen. \nWenn Sie noch an keiner eLecture teilgenommen haben\, finden Sie alle Infos zum Einstieg unter: www.virtuelle-ph.at/electures/#einstieg \nDie Teilnahme an allen eLectures der Virtuellen PH ist für österreichische Lehrkräfte und Studierende eines Lehramts kostenlos.\n		 \n		\n			1. Teilnehmerinnen und Teilnehmer der eLecture wissen nach der Einheit\, welche urheberrechtlich geschützten Werke sie im Unterricht benutzen dürfen und was sie dabei berücksichtigen müssen. \n2. Sie erlangen ein Verständnis dafür\, was das Recht am eigenen Bild ausmacht und können für sich selbst die Frage beantworten\, welche Bilder oder Videos sie veröffentlichen dürfen. \n3. Zuhörer und Zuhörerinnen können Interessenten und Interessentinnen Alternativen zum Urheberrecht nennen und ihren Schulklassen dabei helfen\, seriöse und gemeinfreie Werke zu finden.
URL:https://www.virtuelle-ph.at/veranstaltung/simooc-minilecture-urheberrecht-und-schule/
CATEGORIES:eLecture,Reihe SIMOOC
END:VEVENT
END:VCALENDAR