BEGIN:VCALENDAR
VERSION:2.0
PRODID:-//Virtuelle PH - ECPv6.6.4.2//NONSGML v1.0//EN
CALSCALE:GREGORIAN
METHOD:PUBLISH
X-ORIGINAL-URL:https://www.virtuelle-ph.at
X-WR-CALDESC:Veranstaltungen für Virtuelle PH
REFRESH-INTERVAL;VALUE=DURATION:PT1H
X-Robots-Tag:noindex
X-PUBLISHED-TTL:PT1H
BEGIN:VTIMEZONE
TZID:Europe/Berlin
BEGIN:DAYLIGHT
TZOFFSETFROM:+0100
TZOFFSETTO:+0200
TZNAME:CEST
DTSTART:20200329T010000
END:DAYLIGHT
BEGIN:STANDARD
TZOFFSETFROM:+0200
TZOFFSETTO:+0100
TZNAME:CET
DTSTART:20201025T010000
END:STANDARD
END:VTIMEZONE
BEGIN:VEVENT
DTSTART;TZID=Europe/Berlin:20200616T170000
DTEND;TZID=Europe/Berlin:20200616T180000
DTSTAMP:20260420T173827
CREATED:20200617T033004Z
LAST-MODIFIED:20200617T033004Z
UID:10003340-1592326800-1592330400@www.virtuelle-ph.at
SUMMARY:LEIDER ABGESAGT: eLecture: Früher Fremdspracherwerb in lebensnahen Situationen
DESCRIPTION:Zur Anmeldung \n\n						Zum virtuellen Lernraum\n						\n\n						Frühe Mehrsprachigkeit ist als gesamteuropäisches Anliegen klar definiert. Dabei sollen zusätzlich zur Muttersprache mindestens zwei Sprachen erlernt werden. \n\nWie kann man frühen Fremdspracherwerb nun bei Kindern in der Schuleingangsphase möglichst effizient gestalten und dabei eventuelle Vorkenntnisse aus dem Kindergarten oder dem häuslichen Umfeld in einem Setting aufgreifen\, in dem auch Kinder mit nur rudimentärer oder völlig fehlender Grundlage in der jeweiligen Fremdsprache gut eingebunden sind? \n\nMag. Jasmin Fischer-Badr hat sich nach Abschluss eines Translationszustudiums  und breiter pädagogischer Ausbildung langjährig mit der Vermittlung von Fremdsprachen in verschiedenen Altersstufen auseinandergesetzt. 2019 erstellte sie im Rahmen eines EU-Projekts einen Leitfaden zu frühem Fremdspracherwerb\, der die Immersionsmethode im Kindergarten in die veränderte Lebenswelt des Schulkindes überführt. \n\nIn dieser eLecture wird nach kurzer theoretischer Einführung ein didaktischer Raster vorgestellt\, anhand dessen Fremdsprachunterricht effizient und lustbetont aufbereitet werden kann. \n\nAngesprochen sind alle Pädagog*innen\, die mit der Fremdsprachvermittlung bei jungen Kindern befasst sind. \n\nCoModeration: Gerlinde Schwabl \n\nExpert_in: Jasmin Fischer-Badr \n\n\n			\n				\n			\n			Teilnahmekriterien & Info\n		 \n		\n			Lernziele\n		 \n		\n			Voraussetzungen\n		\n		 \n		\n			\n				\n					\n			Technische Voraussetzungen: Grundlegende Computerkenntnisse\, gute Internetverbindung; optional: Headset.  \nSo treten Sie der eLecture im virtuellen Lernraum bei:  \n1. Rufen Sie 10 min vor Terminstart folgende Seite auf:  \n	vph.adobeconnect.com/zwei/ \n2. Geben Sie bitte Ihren Vor- und Nachnamen ein und „Betreten Sie den Raum“ mit Klick auf den Button. \n3. Folgen Sie den Anweisungen auf dem Bildschirm. Sie werden in Kürze eingelassen. \nWenn Sie noch an keiner eLecture teilgenommen haben\, finden Sie alle Infos zum Einstieg unter: www.virtuelle-ph.at/electures/#einstieg \nDie Teilnahme an allen eLectures der Virtuellen PH ist für österreichische Lehrkräfte und Studierende eines Lehramts kostenlos.\n		 \n		\n			– Benefit eines frühen Fremdspracherwerbs unter verschiedenen Aspekten kennen lernen \n– Das Prinzip der lebensnahen Situationen gezielt für die Fremdsprachvermittlung einsetzen können \n– Einen didaktischen Raster kennen lernen\, anhand dessen im Kindergarten erworbene Fremdsprachkenntnisse effizient weiter geführt werden\, aber auch Kinder mit unterschiedlichen oder fehlenden Vorkenntnissen in einem lebensnahen Setting gut zusammen geführt werden können.
URL:https://www.virtuelle-ph.at/veranstaltung/leider-abgesagt-electure-frueher-fremdspracherwerb-in-lebensnahen-situationen/
CATEGORIES:eLecture
END:VEVENT
END:VCALENDAR