BEGIN:VCALENDAR
VERSION:2.0
PRODID:-//Virtuelle PH - ECPv6.6.4.2//NONSGML v1.0//EN
CALSCALE:GREGORIAN
METHOD:PUBLISH
X-ORIGINAL-URL:https://www.virtuelle-ph.at
X-WR-CALDESC:Veranstaltungen für Virtuelle PH
REFRESH-INTERVAL;VALUE=DURATION:PT1H
X-Robots-Tag:noindex
X-PUBLISHED-TTL:PT1H
BEGIN:VTIMEZONE
TZID:Europe/Berlin
BEGIN:DAYLIGHT
TZOFFSETFROM:+0100
TZOFFSETTO:+0200
TZNAME:CEST
DTSTART:20190331T010000
END:DAYLIGHT
BEGIN:STANDARD
TZOFFSETFROM:+0200
TZOFFSETTO:+0100
TZNAME:CET
DTSTART:20191027T010000
END:STANDARD
END:VTIMEZONE
BEGIN:VEVENT
DTSTART;TZID=Europe/Berlin:20190312T180000
DTEND;TZID=Europe/Berlin:20190312T183000
DTSTAMP:20260420T000440
CREATED:20190211T100645Z
LAST-MODIFIED:20190313T081249Z
UID:10003133-1552413600-1552415400@www.virtuelle-ph.at
SUMMARY:digiPH2 eLecture: SIMPLE TEACHING  – Methodisch-didaktische Toolbox für Hochschullehrende
DESCRIPTION:zur Aufzeichnung\n\n\n						Das Lernverhalten der Studierenden an Hochschulen verändert sich und Lehrende verspüren einen Druck hinsichtlich ihrer methodisch-didaktischen Arbeit. Eine Tendenz lässt vermuten\, dass die Entwicklung der Informationstechnologie einen großen Einfluss auf das Arbeiten mit Studierenden nehmen wird.  \nAus diesem Anlass wurde eine Plattform konzipiert\, welche methodisch-didaktische Inhalte für Hochschullehrende zur Verfügung stellt. Diese Inhalte bieten Lektorinnen und Lektoren eine Hilfestellung für die Gestaltung ihrer Präsenz- und Fernlehreeinheiten an. \nTamara Solnitzky\, Nazmiye Gnam\, Jennifer Kaser und Christian Martinek sind Experten des Wissensmanagements. Sie absolvieren derzeit ihr Masterstudium „Angewandtes Wissensmanagement“ an der Fachhochschule Burgenland und setzen sich intensiv mit gelingender Wissensvermittlung auseinander. Im Zuge ihres Praxisprojekts im Studium entstand die Idee einer nachhaltigen Methodenplattform für Hochschullehrende.  \nIm Webinar soll die Plattform mit der methodisch-didaktischen Toolbox für Hochschullehrende vorgestellt werden. Es wird kurz auf die theoretischen Grundlagen zum Thema Blended Learning und Unterrichtsgestaltung eingegangen. Im Anschluss werden einige Methoden und Best-Practice Beispiele direkt auf der Plattform präsentiert und erläutert.  \nDiese eLecture ist für Sie geeignet\, wenn \n• Sie innovativen Unterricht planen und durchführen möchten.\n• Sie theoretische Unterstützung bei der Ausübung ihrer Lehrtätigkeit benötigen.  \nCoModeration: Thomas Winkler \n\n			\n				\n			\n			Teilnahmekriterien & Info\n		 \n		\n			Lernziele\n		 \n		\n			Voraussetzungen\n		\n		 \n		\n			\n				\n					\n			Technische Voraussetzungen: Grundlegende Computerkenntnisse\, gute Internetverbindung; optional: Headset. \nSo treten Sie der eLecture im virtuellen Lernraum bei:  \n1. Rufen Sie 10 min vor Terminstart folgende Seite auf:  \nvph.adobeconnect.com/digiph2/ \n2. Geben Sie bitte Ihren Vor- und Nachnamen ein und „Betreten Sie den Raum“ mit Klick auf den Button. \n3. Folgen Sie den Anweisungen auf dem Bildschirm. Sie werden in Kürze eingelassen. \nWenn Sie noch an keiner eLecture teilgenommen haben\, finden Sie alle Infos zum Einstieg unter: www.virtuelle-ph.at/electures/#einstieg \nDie Teilnahme an allen eLectures der Virtuellen PH ist für österreichische Lehrkräfte und Studierende eines Lehramts kostenlos.\n		 \n		\n			# Lehrende konzipieren methodisch-didaktisch durchdachten Unterricht mit Hilfe der vorgestellten Tools auf der Plattform. \n# Lehrende übertragen Best-Practice Beispiele in ihren Unterricht.
URL:https://www.virtuelle-ph.at/veranstaltung/digiph2-electure-simple-teaching-methodisch-didaktische-toolbox-fuer-hochschullehrende/
CATEGORIES:eLecture,Online-Tagung digiPH2 EL
END:VEVENT
END:VCALENDAR