BEGIN:VCALENDAR
VERSION:2.0
PRODID:-//Virtuelle PH - ECPv6.6.4.2//NONSGML v1.0//EN
CALSCALE:GREGORIAN
METHOD:PUBLISH
X-WR-CALNAME:Virtuelle PH
X-ORIGINAL-URL:https://www.virtuelle-ph.at
X-WR-CALDESC:Veranstaltungen für Virtuelle PH
REFRESH-INTERVAL;VALUE=DURATION:PT1H
X-Robots-Tag:noindex
X-PUBLISHED-TTL:PT1H
BEGIN:VTIMEZONE
TZID:Europe/Vienna
BEGIN:DAYLIGHT
TZOFFSETFROM:+0100
TZOFFSETTO:+0200
TZNAME:CEST
DTSTART:20240331T010000
END:DAYLIGHT
BEGIN:STANDARD
TZOFFSETFROM:+0200
TZOFFSETTO:+0100
TZNAME:CET
DTSTART:20241027T010000
END:STANDARD
END:VTIMEZONE
BEGIN:VEVENT
DTSTART;TZID=Europe/Vienna:20241121T190000
DTEND;TZID=Europe/Vienna:20241121T200000
DTSTAMP:20260425T152834
CREATED:20241122T033033Z
LAST-MODIFIED:20241122T033033Z
UID:10005632-1732215600-1732219200@www.virtuelle-ph.at
SUMMARY:eLecture: Bildungsportal und ID-Austria
DESCRIPTION:Zur Anmeldung \n\n						Zum virtuellen Lernraum\n						\n\n						Das Bildungsportal (BIP) bietet als multifunktionale Plattform für die österreichischen Schulen vielfältige Mehrwerte für alle Bezugsgruppen im Bildungsbereich an. Der Möglichkeit\, Dokumente mit der elektronischen Amtssignatur zu versehen\, kommt dabei besondere Bedeutung zu. \nJörg Hopfgartner ist Direkter der BHAK 10 in Wien und hat als langjähriger E-Government-Pionier umfangreiche Erfahrung in den Bereichen elektronische Services / ID Austria / Bildungsportal und eben Amtssignatur. Gemeinsam mit ihm lernen die Teilnehmer*innen diese Funktionalität im Bildungsportal kennen und reflektieren mögliche Anwendungsprozesse für den eigenen Schulstandort. \nZusätzlich runden intensive Erfahrungen mit den Services des Bildungsportals und Anwendungsbereiche für die ID Austria im Schulbereich die Veranstaltung ab. \n\nExpert_in: Jörg Hopfgartner \n\n\n			\n				\n			\n			Teilnahmekriterien & Info\n		 \n		\n			Lernziele\n		 \n		\n			Voraussetzungen\n		\n		 \n		\n			\n				\n					\n			So treten Sie der Veranstaltung im virtuellen Lernraum bei: \n1. Rufen Sie 5 min vor Terminstart den Link zum Virtuellen Lernraum auf: \nvirtuelle-ph-at.zoom.us/my/electures \n2. Geben Sie bitte Ihren vollen Namen ein und klicken Sie den Button „Einem Meeting Beitreten“.                              \n3. Klicken Sie den grünen Button „Per Computer dem Audio beitreten“ an. \nDas bewirkt\, dass Sie uns hören und sehen können. Sie werden in Kürze eingelassen. \nDie Teilnahme an allen eLectures der Virtuellen PH ist für österreichische Hochschullehrende\, Lehrkräfte und Studierende eines Lehramts kostenlos.\n		 \n		\n			Einsatzmöglichkeiten der Amtssignatur analysieren und für den Standort planen können\nVerbesserung der IT-Security durch die Mehrfaktorauthentifizierung mittels ID Austria\nFunktionalitäten des Bildungsportals und der ID Austria im Überblick kennen
URL:https://www.virtuelle-ph.at/veranstaltung/electure-bildungsportal-und-id-austria-2/
CATEGORIES:eLecture,Reihe bip
END:VEVENT
BEGIN:VEVENT
DTSTART;TZID=Europe/Vienna:20241121T190000
DTEND;TZID=Europe/Vienna:20241121T200000
DTSTAMP:20260425T152834
CREATED:20241117T125811Z
LAST-MODIFIED:20241121T033032Z
UID:10005614-1732215600-1732219200@www.virtuelle-ph.at
SUMMARY:eLecture: Bildungsportal und ID-Austria
DESCRIPTION:Zur Anmeldung \n\n						Zum virtuellen Lernraum\n						\n\n						Das Bildungsportal (BIP) bietet als multifunktionale Plattform für die österreichischen Schulen vielfältige Mehrwerte für alle Bezugsgruppen im Bildungsbereich an. Der Möglichkeit\, Dokumente mit der elektronischen Amtssignatur zu versehen\, kommt dabei besondere Bedeutung zu. \nJörg Hopfgartner ist Direkter der BHAK 10 in Wien und hat als langjähriger E-Government-Pionier umfangreiche Erfahrung in den Bereichen elektronische Services / ID Austria / Bildungsportal und eben Amtssignatur. Gemeinsam mit ihm lernen die Teilnehmer*innen diese Funktionalität im Bildungsportal kennen und reflektieren mögliche Anwendungsprozesse für den eigenen Schulstandort. \nZusätzlich runden intensive Erfahrungen mit den Services des Bildungsportals und Anwendungsbereiche für die ID Austria im Schulbereich die Veranstaltung ab. \n\nExpert_in: Jörg Hopfgartner \n\n\n			\n				\n			\n			Teilnahmekriterien & Info\n		 \n		\n			Lernziele\n		 \n		\n			Voraussetzungen\n		\n		 \n		\n			\n				\n					\n			So treten Sie der Veranstaltung im virtuellen Lernraum bei: \n1. Rufen Sie 5 min vor Terminstart den Link zum Virtuellen Lernraum auf: \nvirtuelle-ph-at.zoom.us/my/electures \n2. Geben Sie bitte Ihren vollen Namen ein und klicken Sie den Button „Einem Meeting Beitreten“.                              \n3. Klicken Sie den grünen Button „Per Computer dem Audio beitreten“ an. \nDas bewirkt\, dass Sie uns hören und sehen können. Sie werden in Kürze eingelassen. \nDie Teilnahme an allen eLectures der Virtuellen PH ist für österreichische Hochschullehrende\, Lehrkräfte und Studierende eines Lehramts kostenlos.\n		 \n		\n			Einsatzmöglichkeiten der Amtssignatur analysieren und für den Standort planen können\nVerbesserung der IT-Security durch die Mehrfaktorauthentifizierung mittels ID Austria\nFunktionalitäten des Bildungsportals und der ID Austria im Überblick kennen
URL:https://www.virtuelle-ph.at/veranstaltung/electure-bildungsportal-und-id-austria/
CATEGORIES:eLecture,Reihe bip
END:VEVENT
END:VCALENDAR