BEGIN:VCALENDAR
VERSION:2.0
PRODID:-//Virtuelle PH - ECPv6.6.4.2//NONSGML v1.0//EN
CALSCALE:GREGORIAN
METHOD:PUBLISH
X-ORIGINAL-URL:https://www.virtuelle-ph.at
X-WR-CALDESC:Veranstaltungen für Virtuelle PH
REFRESH-INTERVAL;VALUE=DURATION:PT1H
X-Robots-Tag:noindex
X-PUBLISHED-TTL:PT1H
BEGIN:VTIMEZONE
TZID:Europe/Berlin
BEGIN:DAYLIGHT
TZOFFSETFROM:+0100
TZOFFSETTO:+0200
TZNAME:CEST
DTSTART:20180325T010000
END:DAYLIGHT
BEGIN:STANDARD
TZOFFSETFROM:+0200
TZOFFSETTO:+0100
TZNAME:CET
DTSTART:20181028T010000
END:STANDARD
END:VTIMEZONE
BEGIN:VEVENT
DTSTART;TZID=Europe/Berlin:20180125T170000
DTEND;TZID=Europe/Berlin:20180125T180000
DTSTAMP:20260420T173834
CREATED:20171215T145756Z
LAST-MODIFIED:20180126T101140Z
UID:10002749-1516899600-1516903200@www.virtuelle-ph.at
SUMMARY:eLecture: Einsatz von Feedback zur Verbesserung des eigenen Unterrichts
DESCRIPTION:zur Aufzeichnung \n\n\n						Ich mache heut nur ganz gewöhnlichen Unterricht!“ – so heißt es oft\, wenn Kolleg_innen Hospitieren kommen. \nLehrenden- und Schüler_innenfeedback hat aber auch für Ihren „ganz gewöhnlichen Unterricht“ großes Potenzial! In dieser eLecture werden fachdidaktische Aspekte im Hinblick auf eine Evaluation des eigenen Unterrichts thematisiert und mittels Best-Practice-Beispielen untermauert. Was ist guter Unterricht und wie können Lehrer_innen- und Schüler_innen-Feedback gezielt in der Aktionsforschung eingesetzt werden\, um die Unterrichtsqualität zu steigern?  \nJohanna Michenthaler ist Dozentin am Institut für Didaktik\, Grüne Pädagogik und Schulentwicklung der Hochschule für Agrar- und Umweltpädagogik Wien. Sie forscht und lehrt in den Bereichen Fachdidaktik\, Ernährung und Lebensmitteltechnologie und den Haushaltswissenschaften. Neben ihrer Forschungs- und Lehrtätigkeit leitet sie das internationale Erasmus+Projekt „ProfESus“ zum Thema „Focus on Sustainability – Education for Professionals in guest-orientated Businesses“. Dabei geht es um die Weiterbildung von internationalen Lehrenden der Berufsbildung\, um die Nachhaltigkeitsziele der UN in zukünftigen MitarbeiterInnen und damit in regionalen Betrieben zu verankern.\n \nFolgende Aspekte beleuchtet diese eLecture:\n \n\nAktionsforschung\n \nForschungsgeleitetes Lernen und Lehren\n \nEmpirische Praxisforschung\n \nLesson studies und learning studies\n\n\nHinweis: Bei dieser eLecture handelt es sich um ein begleitetes OTA Praktikum. Mehr zur OTA unter www.virtuelle-ph.at/ota \nCoModeration: Walter Fikisz \n\n			\n				\n			\n			Teilnahmekriterien & Info\n		 \n		\n			Lernziele\n		 \n		\n			Voraussetzungen\n		\n		 \n		\n			\n				\n					\n			Technische Voraussetzungen: Grundlegende Computerkenntnisse\, gute Internetverbindung; optional: Headset.  \nSo treten Sie der eLecture im virtuellen Lernraum bei:  \n1. Rufen Sie 10 min vor Terminstart folgende Seite auf:  \nvph.adobeconnect.com/vier/ \n2. Geben Sie bitte Ihren Vor- und Nachnamen ein und „Betreten Sie den Raum“ mit Klick auf den Button. \n3. Folgen Sie den Anweisungen auf dem Bildschirm. Sie werden in Kürze eingelassen. \nWenn Sie noch an keiner eLecture teilgenommen haben\, finden Sie alle Infos zum Einstieg unter: www.virtuelle-ph.at/electures/#einstieg \nDie Teilnahme an allen eLectures der Virtuellen PH ist für österreichische Lehrkräfte und Studierende eines Lehramts kostenlos.\n		 \n		\n			# Sie kennen pädagogische Forschungsdesigns zur Aktionsforschung und können diese durchführen\, auswerten und reflektieren.\n# Sie können aus Schüler_innenfeedback gezielt Handlungsmaßnahmen für die Qualitätssteigerung des eigenen Unterrichts\, hinsichtlich Schüler_innenmotivation\, individualisierter Leistungsanforderung und Lehrer_innenverhalten ableiten.\n# Sie sind fähig\, Lesson studies und Learning studies mit den Instrumenten der Peerhospitation im eigenen Unterricht erfolgreich einzusetzen.
URL:https://www.virtuelle-ph.at/veranstaltung/electure-einsatz-von-feedback-zur-verbesserung-des-eigenen-unterrichts/
CATEGORIES:eLecture
END:VEVENT
END:VCALENDAR