BEGIN:VCALENDAR
VERSION:2.0
PRODID:-//Virtuelle PH - ECPv6.6.4.2//NONSGML v1.0//EN
CALSCALE:GREGORIAN
METHOD:PUBLISH
X-WR-CALNAME:Virtuelle PH
X-ORIGINAL-URL:https://www.virtuelle-ph.at
X-WR-CALDESC:Veranstaltungen für Virtuelle PH
REFRESH-INTERVAL;VALUE=DURATION:PT1H
X-Robots-Tag:noindex
X-PUBLISHED-TTL:PT1H
BEGIN:VTIMEZONE
TZID:Europe/Vienna
BEGIN:DAYLIGHT
TZOFFSETFROM:+0100
TZOFFSETTO:+0200
TZNAME:CEST
DTSTART:20210328T010000
END:DAYLIGHT
BEGIN:STANDARD
TZOFFSETFROM:+0200
TZOFFSETTO:+0100
TZNAME:CET
DTSTART:20211031T010000
END:STANDARD
BEGIN:DAYLIGHT
TZOFFSETFROM:+0100
TZOFFSETTO:+0200
TZNAME:CEST
DTSTART:20220327T010000
END:DAYLIGHT
BEGIN:STANDARD
TZOFFSETFROM:+0200
TZOFFSETTO:+0100
TZNAME:CET
DTSTART:20221030T010000
END:STANDARD
BEGIN:DAYLIGHT
TZOFFSETFROM:+0100
TZOFFSETTO:+0200
TZNAME:CEST
DTSTART:20230326T010000
END:DAYLIGHT
BEGIN:STANDARD
TZOFFSETFROM:+0200
TZOFFSETTO:+0100
TZNAME:CET
DTSTART:20231029T010000
END:STANDARD
TZID:Europe/Berlin
BEGIN:DAYLIGHT
TZOFFSETFROM:+0100
TZOFFSETTO:+0200
TZNAME:CEST
DTSTART:20190331T010000
END:DAYLIGHT
BEGIN:STANDARD
TZOFFSETFROM:+0200
TZOFFSETTO:+0100
TZNAME:CET
DTSTART:20191027T010000
END:STANDARD
BEGIN:DAYLIGHT
TZOFFSETFROM:+0100
TZOFFSETTO:+0200
TZNAME:CEST
DTSTART:20200329T010000
END:DAYLIGHT
BEGIN:STANDARD
TZOFFSETFROM:+0200
TZOFFSETTO:+0100
TZNAME:CET
DTSTART:20201025T010000
END:STANDARD
END:VTIMEZONE
BEGIN:VEVENT
DTSTART;VALUE=DATE:20230306
DTEND;VALUE=DATE:20230327
DTSTAMP:20260420T101442
CREATED:20230207T083314Z
LAST-MODIFIED:20230305T033118Z
UID:10003736-1678060800-1679875199@www.virtuelle-ph.at
SUMMARY:Informationen beurteilen\, Fake News entlarven
DESCRIPTION:Zur Anmeldung\n						\n\n						Falschmeldungen\, also sogenannte Fake News\, sind in aller Munde – SchülerInnen als auch LehrerInnen sind sowohl im Kontext Schule als auch privat immer häufiger mit fragwürdigen Inhalten konfrontiert. Doch von welchen Falschmeldungen sprechen wir hier überhaupt? Welche Rolle spielen Bilder und Videos dabei? Wie können wir Informationen überprüfen? Wie beeinflussen Algorithmen und Social Bots was wir online sehen? Und wie können wir SchülerInnen für das Thema sensibilisieren\, um ihre Informations- und Medienkompetenz zu stärken? Antworten darauf erarbeiten wir in diesem Online-Seminar gemeinsam! \nwww.virtuelle-ph.at/online-seminare \n\nExpert_in: Johanna Urban \n\n\n			\n				\n			\n			Teilnahmekriterien & Info\n		 \n		\n			Lernziele\n		 \n		\n			Voraussetzungen\n		\n		 \n		\n			\n				\n					\n			Die Teilnahme an allen im Rahmen des Onlineprogramms angebotenen Online-Seminaren der Virtuellen PH ist für österreichische Lehrkräfte und Studierende eines Lehramts kostenlos. Die Seminarplätze werden nach dem Prinzip first come\, first served – also chronologisch nach dem Zeitpunkt Ihrer Seminarbuchung über PH-Online – vergeben. Bis Mittwoch vor Beginn des jeweiligen Online-Seminars können Sie über PH-Online Ihr gebuchtes Online-Seminar selber kostenlos stornieren. Für ein allfälliges Storno zu einem späteren Zeitpunkt wenden Sie sich bitte an: info@virtuelle-ph.at\n		 \n		\n			Das eigene Wissen rund um das Thema Falschmeldungen erweitern und Materialien und Ideen für den eigenen Unterricht kennenlernen und gestalten.\n		 \n		\n			Grundlegende Internet-Kenntnisse.
URL:https://www.virtuelle-ph.at/veranstaltung/informationen-beurteilen-fake-news-entlarven-8/
CATEGORIES:Online-Programm Fruehjahrsprogramm,Online-Seminar
END:VEVENT
BEGIN:VEVENT
DTSTART;VALUE=DATE:20230306
DTEND;VALUE=DATE:20230327
DTSTAMP:20260420T101442
CREATED:20230207T083257Z
LAST-MODIFIED:20230305T033050Z
UID:10004138-1678060800-1679875199@www.virtuelle-ph.at
SUMMARY:Informationen beurteilen\, Fake News entlarven
DESCRIPTION:Zur Anmeldung\n						\n\n						Falschmeldungen\, also sogenannte Fake News\, sind in aller Munde – SchülerInnen als auch LehrerInnen sind sowohl im Kontext Schule als auch privat immer häufiger mit fragwürdigen Inhalten konfrontiert. Doch von welchen Falschmeldungen sprechen wir hier überhaupt? Welche Rolle spielen Bilder und Videos dabei? Wie können wir Informationen überprüfen? Wie beeinflussen Algorithmen und Social Bots was wir online sehen? Und wie können wir SchülerInnen für das Thema sensibilisieren\, um ihre Informations- und Medienkompetenz zu stärken? Antworten darauf erarbeiten wir in diesem Online-Seminar gemeinsam! \nwww.virtuelle-ph.at/online-seminare \n\nExpert_in: Johanna Urban \n\n\n			\n				\n			\n			Teilnahmekriterien & Info\n		 \n		\n			Lernziele\n		 \n		\n			Voraussetzungen\n		\n		 \n		\n			\n				\n					\n			Die Teilnahme an allen im Rahmen des Onlineprogramms angebotenen Online-Seminaren der Virtuellen PH ist für österreichische Lehrkräfte und Studierende eines Lehramts kostenlos. Die Seminarplätze werden nach dem Prinzip first come\, first served – also chronologisch nach dem Zeitpunkt Ihrer Seminarbuchung über PH-Online – vergeben. Bis Mittwoch vor Beginn des jeweiligen Online-Seminars können Sie über PH-Online Ihr gebuchtes Online-Seminar selber kostenlos stornieren. Für ein allfälliges Storno zu einem späteren Zeitpunkt wenden Sie sich bitte an: info@virtuelle-ph.at\n		 \n		\n			Das eigene Wissen rund um das Thema Falschmeldungen erweitern und Materialien und Ideen für den eigenen Unterricht kennenlernen und gestalten.\n		 \n		\n			Grundlegende Internet-Kenntnisse.
URL:https://www.virtuelle-ph.at/veranstaltung/informationen-beurteilen-fake-news-entlarven-7/
CATEGORIES:Online-Programm Fruehjahrsprogramm,Online-Seminar
END:VEVENT
BEGIN:VEVENT
DTSTART;VALUE=DATE:20221128
DTEND;VALUE=DATE:20221219
DTSTAMP:20260420T101442
CREATED:20220914T090850Z
LAST-MODIFIED:20221127T033033Z
UID:10003657-1669593600-1671407999@www.virtuelle-ph.at
SUMMARY:Informationen beurteilen\, Fake News entlarven
DESCRIPTION:Zur Anmeldung\n						\n\n						Falschmeldungen\, also sogenannte Fake News\, sind in aller Munde – SchülerInnen als auch LehrerInnen sind sowohl im Kontext Schule als auch privat immer häufiger mit fragwürdigen Inhalten konfrontiert. Doch von welchen Falschmeldungen sprechen wir hier überhaupt? Welche Rolle spielen Bilder und Videos dabei? Wie können wir Informationen überprüfen? Wie beeinflussen Algorithmen und Social Bots was wir online sehen? Und wie können wir SchülerInnen für das Thema sensibilisieren\, um ihre Informations- und Medienkompetenz zu stärken? Antworten darauf erarbeiten wir in diesem Online-Seminar gemeinsam! \nwww.virtuelle-ph.at/online-seminare \n\nExpert_in: Johanna Urban \n\n\n			\n				\n			\n			Teilnahmekriterien & Info\n		 \n		\n			Lernziele\n		 \n		\n			Voraussetzungen\n		\n		 \n		\n			\n				\n					\n			Die Teilnahme an allen im Rahmen des Onlineprogramms angebotenen Online-Seminaren der Virtuellen PH ist für österreichische Lehrkräfte und Studierende eines Lehramts kostenlos. Die Seminarplätze werden nach dem Prinzip first come\, first served – also chronologisch nach dem Zeitpunkt Ihrer Seminarbuchung über PH-Online – vergeben. Bis Mittwoch vor Beginn des jeweiligen Online-Seminars können Sie über PH-Online Ihr gebuchtes Online-Seminar selber kostenlos stornieren. Für ein allfälliges Storno zu einem späteren Zeitpunkt wenden Sie sich bitte an: info@virtuelle-ph.at\n		 \n		\n			Das eigene Wissen rund um das Thema Falschmeldungen erweitern und Materialien und Ideen für den eigenen Unterricht kennenlernen und gestalten.\n		 \n		\n			Grundlegende Internet-Kenntnisse.
URL:https://www.virtuelle-ph.at/veranstaltung/informationen-beurteilen-fake-news-entlarven-6/
CATEGORIES:Online-Programm HerbstWinterprogramm,Online-Seminar
END:VEVENT
BEGIN:VEVENT
DTSTART;VALUE=DATE:20220307
DTEND;VALUE=DATE:20220328
DTSTAMP:20260420T101442
CREATED:20220214T110957Z
LAST-MODIFIED:20220306T033111Z
UID:10004018-1646611200-1648425599@www.virtuelle-ph.at
SUMMARY:Informationen beurteilen\, Fake News entlarven
DESCRIPTION:Zur Anmeldung\n						\n\n						Falschmeldungen\, also sogenannte Fake News\, sind in aller Munde – SchülerInnen als auch LehrerInnen sind sowohl im Kontext Schule als auch privat immer häufiger mit fragwürdigen Inhalten konfrontiert. Doch von welchen Falschmeldungen sprechen wir hier überhaupt? Welche Rolle spielen Bilder und Videos dabei? Wie können wir Informationen überprüfen? Wie beeinflussen Algorithmen und Social Bots was wir online sehen? Und wie können wir SchülerInnen für das Thema sensibilisieren\, um ihre Informations- und Medienkompetenz zu stärken? Antworten darauf erarbeiten wir in diesem Online-Seminar gemeinsam! \nwww.virtuelle-ph.at/online-seminare \n\nExpert_in: Johanna Urban \n\n\n			\n				\n			\n			Teilnahmekriterien & Info\n		 \n		\n			Lernziele\n		 \n		\n			Voraussetzungen\n		\n		 \n		\n			\n				\n					\n			Die Teilnahme an allen im Rahmen des Onlineprogramms angebotenen Online-Seminaren der Virtuellen PH ist für österreichische Lehrkräfte und Studierende eines Lehramts kostenlos. Die Seminarplätze werden nach dem Prinzip first come\, first served – also chronologisch nach dem Zeitpunkt Ihrer Seminarbuchung über PH-Online – vergeben. Bis Mittwoch vor Beginn des jeweiligen Online-Seminars können Sie über PH-Online Ihr gebuchtes Online-Seminar selber kostenlos stornieren. Für ein allfälliges Storno zu einem späteren Zeitpunkt wenden Sie sich bitte an: info@virtuelle-ph.at\n		 \n		\n			Das eigene Wissen rund um das Thema Falschmeldungen erweitern und Materialien und Ideen für den eigenen Unterricht kennenlernen und gestalten.\n		 \n		\n			Grundlegende Internet-Kenntnisse.
URL:https://www.virtuelle-ph.at/veranstaltung/informationen-beurteilen-fake-news-entlarven-5/
CATEGORIES:Online-Programm Frühjahrsprogramm,Online-Seminar
END:VEVENT
BEGIN:VEVENT
DTSTART;VALUE=DATE:20211122
DTEND;VALUE=DATE:20211213
DTSTAMP:20260420T101442
CREATED:20210920T094041Z
LAST-MODIFIED:20211121T033011Z
UID:10003934-1637539200-1639353599@www.virtuelle-ph.at
SUMMARY:Informationen beurteilen\, Fake News entlarven
DESCRIPTION:Zur Anmeldung\n						\n\n						Falschmeldungen\, also sogenannte Fake News\, sind in aller Munde – SchülerInnen als auch LehrerInnen sind sowohl im Kontext Schule als auch privat immer häufiger mit fragwürdigen Inhalten konfrontiert. Doch von welchen Falschmeldungen sprechen wir hier überhaupt? Welche Rolle spielen Bilder und Videos dabei? Wie können wir Informationen überprüfen? Wie beeinflussen Algorithmen und Social Bots was wir online sehen? Und wie können wir SchülerInnen für das Thema sensibilisieren\, um ihre Informations- und Medienkompetenz zu stärken? Antworten darauf erarbeiten wir in diesem Online-Seminar gemeinsam! \nwww.virtuelle-ph.at/online-seminare \n\nExpert_in: Johanna Urban \n\n\n			\n				\n			\n			Teilnahmekriterien & Info\n		 \n		\n			Lernziele\n		 \n		\n			Voraussetzungen\n		\n		 \n		\n			\n				\n					\n			Die Teilnahme an allen im Rahmen des Onlineprogramms angebotenen Online-Seminaren der Virtuellen PH ist für österreichische Lehrkräfte und Studierende eines Lehramts kostenlos. Die Seminarplätze werden nach dem Prinzip first come\, first served – also chronologisch nach dem Zeitpunkt Ihrer Seminarbuchung über PH-Online – vergeben. Bis Mittwoch vor Beginn des jeweiligen Online-Seminars können Sie über PH-Online Ihr gebuchtes Online-Seminar selber kostenlos stornieren. Für ein allfälliges Storno zu einem späteren Zeitpunkt wenden Sie sich bitte an: info@virtuelle-ph.at\n		 \n		\n			Das eigene Wissen rund um das Thema Falschmeldungen erweitern und Materialien und Ideen für den eigenen Unterricht kennenlernen und gestalten.\n		 \n		\n			Grundlegende Internet-Kenntnisse.
URL:https://www.virtuelle-ph.at/veranstaltung/informationen-beurteilen-fake-news-entlarven-4/
CATEGORIES:Online-Programm HerbstWinterprogramm,Online-Seminar
END:VEVENT
BEGIN:VEVENT
DTSTART;VALUE=DATE:20210419
DTEND;VALUE=DATE:20210510
DTSTAMP:20260420T101442
CREATED:20210209T104210Z
LAST-MODIFIED:20210614T132607Z
UID:10003855-1618790400-1620604799@www.virtuelle-ph.at
SUMMARY:Informationen beurteilen\, Fake News entlarven
DESCRIPTION:Zur Anmeldung\n						\n\n							 \n						Falschmeldungen\, also sogenannte Fake News\, sind in aller Munde – SchülerInnen als auch LehrerInnen sind sowohl im Kontext Schule als auch privat immer häufiger mit fragwürdigen Inhalten konfrontiert. Doch von welchen Falschmeldungen sprechen wir hier überhaupt? Welche Rolle spielen Bilder und Videos dabei? Wie können wir Informationen überprüfen? Wie beeinflussen Algorithmen und Social Bots was wir online sehen? Und wie können wir SchülerInnen für das Thema sensibilisieren\, um ihre Informations- und Medienkompetenz zu stärken? Antworten darauf erarbeiten wir in diesem Online-Seminar gemeinsam! \nwww.virtuelle-ph.at/online-seminare \n\nExpert_in: Johanna Urban \n\n\n			\n				\n			\n			Teilnahmekriterien & Info\n		 \n		\n			Lernziele\n		 \n		\n			Voraussetzungen\n		\n		 \n		\n			\n				\n					\n			Die Teilnahme an allen im Rahmen des Onlineprogramms angebotenen Online-Seminaren der Virtuellen PH ist für österreichische Lehrkräfte und Studierende eines Lehramts kostenlos. Die Seminarplätze werden nach dem Prinzip first come\, first served – also chronologisch nach dem Zeitpunkt Ihrer Seminarbuchung über PH-Online – vergeben. Bis Mittwoch vor Beginn des jeweiligen Online-Seminars können Sie über PH-Online Ihr gebuchtes Online-Seminar selber kostenlos stornieren. Für ein allfälliges Storno zu einem späteren Zeitpunkt wenden Sie sich bitte an: info@virtuelle-ph.at\n		 \n		\n			Das eigene Wissen rund um das Thema Falschmeldungen erweitern und Materialien und Ideen für den eigenen Unterricht kennenlernen und gestalten.\n		 \n		\n			Grundlegende Internet-Kenntnisse.
URL:https://www.virtuelle-ph.at/veranstaltung/informationen-beurteilen-fake-news-entlarven-3/
CATEGORIES:Online-Programm Frühjahrsprogramm,Online-Seminar
END:VEVENT
BEGIN:VEVENT
DTSTART;VALUE=DATE:20201005
DTEND;VALUE=DATE:20201026
DTSTAMP:20260420T101442
CREATED:20200921T091846Z
LAST-MODIFIED:20201004T033109Z
UID:10003728-1601856000-1603670399@www.virtuelle-ph.at
SUMMARY:Informationen beurteilen\, Fake News entlarven
DESCRIPTION:Zur Anmeldung\n						\n\n						Falschmeldungen\, also sogenannte Fake News\, sind in aller Munde – SchülerInnen als auch LehrerInnen sind sowohl im Kontext Schule als auch privat immer häufiger mit fragwürdigen Inhalten konfrontiert. Doch von welchen Falschmeldungen sprechen wir hier überhaupt? Welche Rolle spielen Bilder und Videos dabei? Wie können wir Informationen überprüfen? Wie beeinflussen Algorithmen und Social Bots was wir online sehen? Und wie können wir SchülerInnen für das Thema sensibilisieren\, um ihre Informations- und Medienkompetenz zu stärken? Antworten darauf erarbeiten wir in diesem Online-Seminar gemeinsam! \nwww.virtuelle-ph.at/online-seminare \n\nExpert_in: Johanna Urban \n\n\n			\n				\n			\n			Teilnahmekriterien & Info\n		 \n		\n			Lernziele\n		 \n		\n			Voraussetzungen\n		\n		 \n		\n			\n				\n					\n			Die Teilnahme an allen im Rahmen des Onlineprogramms angebotenen Online-Seminaren der Virtuellen PH ist für österreichische Lehrkräfte und Studierende eines Lehramts kostenlos. Die Seminarplätze werden nach dem Prinzip first come\, first served – also chronologisch nach dem Zeitpunkt Ihrer Seminarbuchung über PH-Online – vergeben. Bis Mittwoch vor Beginn des jeweiligen Online-Seminars können Sie über PH-Online Ihr gebuchtes Online-Seminar selber kostenlos stornieren. Für ein allfälliges Storno zu einem späteren Zeitpunkt wenden Sie sich bitte an: info@virtuelle-ph.at\n		 \n		\n			Das eigene Wissen rund um das Thema Falschmeldungen erweitern und Materialien und Ideen für den eigenen Unterricht kennenlernen und gestalten.\n		 \n		\n			Grundlegende Internet-Kenntnisse.
URL:https://www.virtuelle-ph.at/veranstaltung/informationen-beurteilen-fake-news-entlarven-2/
CATEGORIES:Online-Programm HerbstWinterprogramm,Online-Seminar
END:VEVENT
BEGIN:VEVENT
DTSTART;VALUE=DATE:20200518
DTEND;VALUE=DATE:20200608
DTSTAMP:20260420T101442
CREATED:20200217T132514Z
LAST-MODIFIED:20200517T033011Z
UID:10003593-1589760000-1591574399@www.virtuelle-ph.at
SUMMARY:Informationen beurteilen\, Fake News entlarven
DESCRIPTION:Zur Anmeldung\n						\n\n						Falschmeldungen\, also sogenannte Fake News\, sind in aller Munde – SchülerInnen als auch LehrerInnen sind sowohl im Kontext Schule als auch privat immer häufiger mit fragwürdigen Inhalten konfrontiert. Doch von welchen Falschmeldungen sprechen wir hier überhaupt? Welche Rolle spielen Bilder und Videos dabei? Wie können wir Informationen überprüfen? Wie beeinflussen Algorithmen und Social Bots was wir online sehen? Und wie können wir SchülerInnen für das Thema sensibilisieren\, um ihre Informations- und Medienkompetenz zu stärken? Antworten darauf erarbeiten wir in diesem Online-Seminar gemeinsam! \nwww.virtuelle-ph.at/online-seminare \n\nExpert_in: Julia ProhaskaJohanna Urban \n\n\n			\n				\n			\n			Teilnahmekriterien & Info\n		 \n		\n			Lernziele\n		 \n		\n			Voraussetzungen\n		\n		 \n		\n			\n				\n					\n			Für die Anmeldung zur Teilnahme müssen Sie sich in PH-Online als Studierende/r identifizieren.\nAnmerkung: Die Teilnahme an allen im Rahmen des Online-Programms angebotenen Online-Seminaren der Virtuellen PH ist für österreichische Lehrkräfte und Studierende eines Lehramts kostenlos. Die Seminarplätze werden nach dem Prinzip first come\, first served – also chronologisch nach dem Zeitpunkt Ihrer Seminarbuchung über PH-Online – vergeben. Bis Mittwoch vor Beginn des jeweiligen Online-Seminars können Sie über PH-Online Ihr gebuchtes Online-Seminar selber kostenlos stornieren. Für ein allfälliges Storno zu einem späteren Zeitpunkt wenden Sie sich bitte an: info@virtuelle-ph.at\n		 \n		\n			Das eigene Wissen rund um das Thema Falschmeldungen erweitern und Materialien und Ideen für den eigenen Unterricht kennenlernen und gestalten.\n		 \n		\n			Grundlegende Internet-Kenntnisse.
URL:https://www.virtuelle-ph.at/veranstaltung/informationen-beurteilen-fake-news-entlarven/
CATEGORIES:Online-Programm Frühjahrsprogramm,Online-Seminar
END:VEVENT
BEGIN:VEVENT
DTSTART;TZID=Europe/Berlin:20190304T183000
DTEND;TZID=Europe/Berlin:20190304T200000
DTSTAMP:20260420T101442
CREATED:20190104T091342Z
LAST-MODIFIED:20190305T073123Z
UID:10003074-1551724200-1551729600@www.virtuelle-ph.at
SUMMARY:voXmi eLecture 1: „Fake News“ und Diskriminierung online zum Thema machen und Medienkompetenz stärken
DESCRIPTION:zur Aufzeichnung\n\n\n\n\nvoXmi eLectures | Jahresthema Menschenrechtsbildung\n\nWeitere voXmi eLectures finden Sie unter: http://bit.ly/voxmi-electures \nDas Schulnetzwerk voXmi hat sich für das Schuljahr 2018/19 Menschenrechtsbildung als Schwerpunktthema im Rahmen der Unterrichts- und Schulentwicklung an den voXmi-Schulen gesetzt. \nIn Kooperation mit der Virtuellen Pädagogischen Hochschule bearbeiten zwei eLectures Möglichkeiten der Integration von Menschenrechtsbildung in den voXmi-Unterricht und setzen dabei einen besonderen Fokus auf die Rolle digitaler Medien. \nDiese eLecture bezieht sich auf Artikel 2 (Verbot der Diskriminierung) und Artikel 19 (Meinungsäußerungs- und Informationsfreiheit) der Allgemeinen Erklärung der Menschenrechte. Sie widmet sich dem aktuellen Thema „Fake News“\, mit dem SchülerInnen und LehrerInnen sowohl im Kontext Schule als auch privat immer häufiger konfrontiert sind. Im Rahmen der eLecture wird anhand einiger konkreter Beispiele aufgezeigt\, was sogenannte „Fake News“ ausmacht\, welche Auswirkungen sie auf das Zusammenleben haben können und wie sie zur Diskriminierung und Verbreitung von Vorurteilen gegenüber gesellschaftlichen Gruppen beitragen. \nDenn oftmals werden „Fake News“ gezielt in Umlauf gebracht\, um den sogenannten Hass im Netz zu befeuern. Doch was kann getan werden\, um diesen Entwicklungen entgegenzutreten? Welche Herausforderungen\, aber auch Handlungsoptionen bringt dieses Thema mit sich? \nNeben einigen Tipps und Tricks wird das Projekt „Digital Resistance“ vorgestellt\, im Rahmen dessen sich SchülerInnen und LehrerInnen zweier Partnerschulen in Wien und Oberösterreich mit den vorgestellten Themen auseinandersetzen. \nAufgrund der Komplexität des Themas\, bezieht sich diese eLecture vor allem auf Erfahrungen aus dem Bereich Sek I und Sek II. \n[Reihe: voXmi eLectures | Jahresthema Menschenrechtsbildung] \nCoModeration: Elke Höfler \n———————————— \n\n			\n				\n			\n			Teilnahmekriterien & Info\n		 \n		\n			Lernziele\n		 \n		\n			Voraussetzungen\n		\n		 \n		\n			\n				\n					\n			Technische Voraussetzungen: Grundlegende Computerkenntnisse\, gute Internetverbindung; optional: Headset. \nSo treten Sie der eLecture im virtuellen Lernraum bei: \n1. Rufen Sie 10 min vor Terminstart folgende Seite auf: \nvph.adobeconnect.com/eins \n2. Geben Sie bitte Ihren Vor- und Nachnamen ein und „Betreten Sie den Raum“ mit Klick auf den Button. \n3. Folgen Sie den Anweisungen auf dem Bildschirm. Sie werden in Kürze eingelassen. \nWenn Sie noch an keiner eLecture teilgenommen haben\, finden Sie alle Infos zum Einstieg unter: www.virtuelle-ph.at/electures/#einstieg \nDie Teilnahme an allen eLectures der Virtuellen PH ist für österreichische Lehrkräfte und Studierende eines Lehramts kostenlos.\n		 \n		\n			# Wissen rund um das Thema Falschmeldungen erwerben\n# Medienkompetenz fördern\n# Konkrete Methoden und Ideen kennenlernen\, um Menschenrechtsbildung im Kontext von Mehrsprachigkeit und Digitalen Grundkompetenzen an den Standorten umzusetzen
URL:https://www.virtuelle-ph.at/veranstaltung/voxmi-electure-1-fake-news-und-diskriminierung-online-zum-thema-machen-und-medienkompetenz-staerken/
CATEGORIES:eLecture,voXmi eLectures | Jahresthema Menschenrechtsbildung
END:VEVENT
END:VCALENDAR