BEGIN:VCALENDAR
VERSION:2.0
PRODID:-//Virtuelle PH - ECPv6.6.4.2//NONSGML v1.0//EN
CALSCALE:GREGORIAN
METHOD:PUBLISH
X-ORIGINAL-URL:https://www.virtuelle-ph.at
X-WR-CALDESC:Veranstaltungen für Virtuelle PH
REFRESH-INTERVAL;VALUE=DURATION:PT1H
X-Robots-Tag:noindex
X-PUBLISHED-TTL:PT1H
BEGIN:VTIMEZONE
TZID:Europe/Vienna
BEGIN:DAYLIGHT
TZOFFSETFROM:+0100
TZOFFSETTO:+0200
TZNAME:CEST
DTSTART:20210328T010000
END:DAYLIGHT
BEGIN:STANDARD
TZOFFSETFROM:+0200
TZOFFSETTO:+0100
TZNAME:CET
DTSTART:20211031T010000
END:STANDARD
END:VTIMEZONE
BEGIN:VEVENT
DTSTART;TZID=Europe/Vienna:20211129T193000
DTEND;TZID=Europe/Vienna:20211129T210000
DTSTAMP:20260420T224123
CREATED:20210705T095351Z
LAST-MODIFIED:20211130T113413Z
UID:10003536-1638214200-1638219600@www.virtuelle-ph.at
SUMMARY:iPad Inspiration Series -  Unterrichtsgestaltung
DESCRIPTION:Keine Aufzeichnung\n    \n\n						Lernen Sie unterschiedliche Anwendungen miteinander zu verknüpfen\, um multimediale Erlebniswelten zu kreieren! Optimieren Sie Ihre Arbeitsabläufe in der Klasse und gewinnen Sie dadurch mehr Zeit für Ihre Schüler/-innen! Geben Sie Ihren Schülerinnen und Schülern einen kreativen Freiraum und lassen Sie sich überraschen\, wie Kinder digitale Medien für sich nutzen! Sind Sie bereit? \n——————————- \nDiese eLecture ist Teil der iPad eLecture-Reihe der Virtuellen PH in Kooperation  mit der PH Linz im Herbst 2021.  \nAlle Infos hier:\nwww.virtuelle-ph.at/online-angebot/ipad-inspiration-series \nCoModeration: Gerlinde Schwabl \n\nExpert_in: Josef Hofer\, Thomas Wimmer \n\n\n			\n				\n			\n			Teilnahmekriterien & Info\n		 \n		\n			Lernziele\n		 \n		\n			Voraussetzungen\n		\n		 \n		\n			\n				\n					\n			So treten Sie der Veranstaltung im virtuellen Lernraum bei: \n1. Rufen Sie 5 min vor Terminstart den Link zum Virtuellen Lernraum auf: \nzoom.us/my/virtuelleph.electureeins \n2. Geben Sie bitte Ihren vollen Namen ein und klicken Sie den Button „Einem Meeting Beitreten“.                              \n3. Klicken Sie den grünen Button „Per Computer dem Audio beitreten“ an. \nDas bewirkt\, dass Sie uns hören und sehen können. Sie werden in Kürze eingelassen. \nDie Teilnahme an allen eLectures der Virtuellen PH ist für österreichische Hochschullehrende\, Lehrkräfte und Studierende eines Lehramts kostenlos.\n		 \n		\n			Die Teilnehmer*innen \n# lernen\, verschiedene Apple eigene Apps für die Unterrichtsvorbereitung und Unterrichtsgestaltung zu kombinieren \n# können Lernposter\, Plakate\, interaktive Arbeitsblätter\, etc. mit Pages oder Keynote grafisch ansprechend gestalten \n# können ein multimediales eBook mit Pages erstellen
URL:https://www.virtuelle-ph.at/veranstaltung/ipad-inspiration-series-unterrichtsgestaltung/
CATEGORIES:eLecture,Reihe iPad2122
END:VEVENT
END:VCALENDAR