BEGIN:VCALENDAR
VERSION:2.0
PRODID:-//Virtuelle PH - ECPv6.6.4.2//NONSGML v1.0//EN
CALSCALE:GREGORIAN
METHOD:PUBLISH
X-ORIGINAL-URL:https://www.virtuelle-ph.at
X-WR-CALDESC:Veranstaltungen für Virtuelle PH
REFRESH-INTERVAL;VALUE=DURATION:PT1H
X-Robots-Tag:noindex
X-PUBLISHED-TTL:PT1H
BEGIN:VTIMEZONE
TZID:Europe/Berlin
BEGIN:DAYLIGHT
TZOFFSETFROM:+0100
TZOFFSETTO:+0200
TZNAME:CEST
DTSTART:20210328T010000
END:DAYLIGHT
BEGIN:STANDARD
TZOFFSETFROM:+0200
TZOFFSETTO:+0100
TZNAME:CET
DTSTART:20211031T010000
END:STANDARD
END:VTIMEZONE
BEGIN:VEVENT
DTSTART;TZID=Europe/Berlin:20210202T110000
DTEND;TZID=Europe/Berlin:20210202T123000
DTSTAMP:20260425T135146
CREATED:20210112T130851Z
LAST-MODIFIED:20210203T093802Z
UID:10003837-1612263600-1612269000@www.virtuelle-ph.at
SUMMARY:digiPH4 Hop on\, hop off: Abbildung von Online-Lehre
DESCRIPTION:Keine Aufzeichnung vorhanden\n\n\n						In diesem Format können Sie flexibel auf- und abspringen\, wie schon der Name sagt!\nMehrere Expert_innen geben einen kurzen Input und stehen dann jeweils in einem eigenen Raum (Breakoutroom) zum Vertiefen und Nachfragen bereit: \nEine Mischung aus synchronen und asynchronen Lehrveranstaltungen? Mit welcher Plattform wird gearbeitet? Welche Gewichtung hat sich als optimal erwiesen\, und  welche Erfahrungen wurden gemacht? \nSonja Gabriel (KPH Wien/Krems)\, Florian Geier (PH Salzburg)\, Dieter Langgner (PH Steiermark)\, Petra Traxler und Thomas Schöftner (PH der Diözese Linz) und Josef Vögele (PH Edith Stein) vermitteln in Auszügen\, wie die Abbildung von Online-Lehre an ihren jeweiligen Hochschulen funktioniert. \nDie Referent_innen stehen im Anschluss in Breakout Rooms für Vertiefung und Fragen zur Verfügung – Sie können zwischen den Räumen hin und herspringen und sich die Infos holen\, die für Sie am relevantesten sind! \nCoModeration: Walter Fikisz \n\nExpert_in: Florian GeierWalter FikiszThomas SchöftnerPetra TraxlerSonja GabrielDieter LanggnerJosef Vögele \n\n\n			\n				\n			\n			Teilnahmekriterien & Info\n		 \n		\n			Lernziele\n		 \n		\n			Voraussetzungen\n		\n		 \n		\n			\n				\n					\n			So treten Sie der Veranstaltung im virtuellen Lernraum bei: \n        1. Rufen Sie 5 min vor Terminstart den Link zum Virtuellen Lernraum auf: \nzoom.us/my/virtuelleph.electure2 \n        2. Geben Sie bitte Ihren vollen Namen ein und klicken Sie den Button\n             „Einem Meeting Beitreten“. \n		3. Klicken Sie den grünen Button „Per Computer dem Audio beitreten“ an.\n             Das bewirkt\, dass Sie uns hören und sehen können. Sie werden in Kürze eingelassen. \nDie Teilnahme an allen eLectures der Virtuellen PH ist für österreichische Hochschullehrende\, Lehrkräfte und Studierende eines Lehramts kostenlos.\n		 \n		\n			# Einblick in die Gestaltung von Online-Lehre an anderen Hochschulen gewinnen \n# Online-Lehrformate kennenlernen und auf Eignung prüfen \n# Vernetzung und Austausch betreiben\n		 \n		\n			Headset/Mikrofon aktivieren\, wenn Sie mitreden möchten! \nNur für Hochschullehrende!
URL:https://www.virtuelle-ph.at/veranstaltung/digiph4-hop-on-hop-off-abbildung-von-online-lehre/
CATEGORIES:eLecture,Online-Tagung digiPH4 EL
END:VEVENT
END:VCALENDAR