BEGIN:VCALENDAR
VERSION:2.0
PRODID:-//Virtuelle PH - ECPv6.6.4.2//NONSGML v1.0//EN
CALSCALE:GREGORIAN
METHOD:PUBLISH
X-ORIGINAL-URL:https://www.virtuelle-ph.at
X-WR-CALDESC:Veranstaltungen für Virtuelle PH
REFRESH-INTERVAL;VALUE=DURATION:PT1H
X-Robots-Tag:noindex
X-PUBLISHED-TTL:PT1H
BEGIN:VTIMEZONE
TZID:Europe/Vienna
BEGIN:DAYLIGHT
TZOFFSETFROM:+0100
TZOFFSETTO:+0200
TZNAME:CEST
DTSTART:20220327T010000
END:DAYLIGHT
BEGIN:STANDARD
TZOFFSETFROM:+0200
TZOFFSETTO:+0100
TZNAME:CET
DTSTART:20221030T010000
END:STANDARD
END:VTIMEZONE
BEGIN:VEVENT
DTSTART;TZID=Europe/Vienna:20221013T170000
DTEND;TZID=Europe/Vienna:20221013T180000
DTSTAMP:20260425T165311
CREATED:20220918T111509Z
LAST-MODIFIED:20221013T193628Z
UID:10003665-1665680400-1665684000@www.virtuelle-ph.at
SUMMARY:eLecture: Variable Fragestellungen mit Stack auf eduvidual.at
DESCRIPTION:zur Aufzeichnung \n\n						Übung ist am effektivsten\, wenn Fragen in sich variabel gestaltet sind und sich die Aufgabenstellung bei jedem Durchgang leicht ändert\, während die Antwort immer die gleiche bleibt. Wenn jede/r Schüler/in eine andere Aufgabenstellung bekommt genügt es nicht mehr\, die Lösung einfach abzuschreiben. \nJulia Laßnig ist Lehrerin für Informatik und leistet technischen Support für eduvidual.at. \nDiese eLecture bietet eine kurze Einführung in den Fragetyp Stack und zeigt Möglichkeiten der Fragestaltung auf. \nDiese eLecture ist für Sie interessant\, wenn\n– Sie bereits erste Erfahrungen mit Tests auf eduvidual.at haben\n– Sie mit klassischen Kurzantworten bzw. Lückentexten vertraut sind und diese auf die nächste Ebene transferieren möchten\n– Auch teilweise richtige Lösungen automatisch bewerten möchten \nCoModeration: Sabrina Gerth \n\nExpert_in: Julia Laßnig \n\n\n			\n				\n			\n			Teilnahmekriterien & Info\n		 \n		\n			Lernziele\n		 \n		\n			Voraussetzungen\n		\n		 \n		\n			\n				\n					\n			So treten Sie der Veranstaltung im virtuellen Lernraum bei: \n1. Rufen Sie 5 min vor Terminstart den Link zum Virtuellen Lernraum auf: \nvirtuelle-ph-at.zoom.us/my/virtuelleph.electure4 \n2. Geben Sie bitte Ihren vollen Namen ein und klicken Sie den Button „Einem Meeting Beitreten“.                              \n3. Klicken Sie den grünen Button „Per Computer dem Audio beitreten“ an. \nDas bewirkt\, dass Sie uns hören und sehen können. Sie werden in Kürze eingelassen. \nDie Teilnahme an allen eLectures der Virtuellen PH ist für österreichische Hochschullehrende\, Lehrkräfte und Studierende eines Lehramts kostenlos.\n		 \n		\n			– Möglichkeiten des Fragetyps Stack auf eduvidual.at erkennen\n– anhand einer Vorlage eigene variable Fragestellungen mit Stack auf eduvidual.at erstellen können\n– Automatisierte Bewertung auch für teilweise richtige Antworten einstellen
URL:https://www.virtuelle-ph.at/veranstaltung/electure-variable-fragestellungen-mit-stack-auf-eduvidual-at/
CATEGORIES:eLecture,Reihe eduvidual
END:VEVENT
END:VCALENDAR