BEGIN:VCALENDAR
VERSION:2.0
PRODID:-//Virtuelle PH - ECPv6.6.4.2//NONSGML v1.0//EN
CALSCALE:GREGORIAN
METHOD:PUBLISH
X-WR-CALNAME:Virtuelle PH
X-ORIGINAL-URL:https://www.virtuelle-ph.at
X-WR-CALDESC:Veranstaltungen für Virtuelle PH
REFRESH-INTERVAL;VALUE=DURATION:PT1H
X-Robots-Tag:noindex
X-PUBLISHED-TTL:PT1H
BEGIN:VTIMEZONE
TZID:Europe/Berlin
BEGIN:DAYLIGHT
TZOFFSETFROM:+0100
TZOFFSETTO:+0200
TZNAME:CEST
DTSTART:20190331T010000
END:DAYLIGHT
BEGIN:STANDARD
TZOFFSETFROM:+0200
TZOFFSETTO:+0100
TZNAME:CET
DTSTART:20191027T010000
END:STANDARD
END:VTIMEZONE
BEGIN:VEVENT
DTSTART;TZID=Europe/Berlin:20190321T173000
DTEND;TZID=Europe/Berlin:20190321T180000
DTSTAMP:20260420T043236
CREATED:20190211T100702Z
LAST-MODIFIED:20190322T063744Z
UID:10003200-1553189400-1553191200@www.virtuelle-ph.at
SUMMARY:digiPH2 eLecture: Die Zusatzqualifikation „Informations- und Medienkompetenz“ der Heidelberg School of Education
DESCRIPTION:zur Aufzeichnung\n\n\n						Die Förderung der Medienkompetenz sowie die sinnvolle Integration der digitalen Medien im Unterricht werden schon seit längerem als große Herausforderungen für die Schulen diskutiert. Dennoch fehlt es häufig an einer entsprechenden fachlichen Ausbildung des Lehrpersonals\, um die digitalen Medien im Schulalltag auch aktiv und zielgruppengerecht einzusetzen. Diesen Professionalisierungsbedarf hat die Heidelberg School of Education (HSE) aufgegriffen und die Zusatzqualifikation „Informations- und Medienkompetenz“ für Lehramtsstudierende und Lehrer/innen implementiert. \nJulia Werner ist Medienpädagogin und arbeitet derzeit als Akademische Mitarbeiterin an der HSE. Sie hat die Zusatzqualifikation  konzipiert und ist für die administrative Durchführung sowie für das Ausbringen einiger Lehrveranstaltungen der Zusatzqualifikation zuständig. Zuvor war Sie in der Hochschuldidaktik tätig und hat gemeinsam mi Prof. Dr. Christian Spannagel das Schulprojekt „Flip Your Class“ wissenschaftlich begleitet.  \nIm Webinar werden der Aufbau der Zusatzqualifikation\, die dahinter stehenden Überlegungen sowie konkrete Umsetzungsbeispiele präsentiert. Dabei wird u.a. auf die unterschiedlichen Lehrformate und –inhalte eingegangen. Ergänzend werden in aller Kürze noch weitere Digitalisierungsangebote der HSE für die Lehrer/innenbildung vorgestellt.  \nDiese eLecture ist für Sie geeignet\, wenn\, …\n• Sie in der Lehrerausbildung tätig sind.\n• Sie sich für Weiterbildungskonzepte interessieren.                           \nCoModeration: Walter Fikisz \n\n			\n				\n			\n			Teilnahmekriterien & Info\n		 \n		\n			Lernziele\n		 \n		\n			Voraussetzungen\n		\n		 \n		\n			\n				\n					\n			Technische Voraussetzungen: Grundlegende Computerkenntnisse\, gute Internetverbindung; optional: Headset. \nSo treten Sie der eLecture im virtuellen Lernraum bei:  \n1. Rufen Sie 10 min vor Terminstart folgende Seite auf:  \nvph.adobeconnect.com/digiph4/ \n2. Geben Sie bitte Ihren Vor- und Nachnamen ein und „Betreten Sie den Raum“ mit Klick auf den Button. \n3. Folgen Sie den Anweisungen auf dem Bildschirm. Sie werden in Kürze eingelassen. \nWenn Sie noch an keiner eLecture teilgenommen haben\, finden Sie alle Infos zum Einstieg unter: www.virtuelle-ph.at/electures/#einstieg \nDie Teilnahme an allen eLectures der Virtuellen PH ist für österreichische Lehrkräfte und Studierende eines Lehramts kostenlos.\n		 \n		\n			Die TN können im Anschluss von der Zusatzqualifkation in Ihrem Kollegenkreis berichten und Anregungen/Impulse/ Ideen für eigene Konzepte ableiten.
URL:https://www.virtuelle-ph.at/veranstaltung/digiph2-electure-die-zusatzqualifikation-informations-und-medienkompetenz-der-heidelberg-school-of-education/
CATEGORIES:eLecture,Online-Tagung digiPH2 EL,Panel Panel 2
END:VEVENT
END:VCALENDAR