BEGIN:VCALENDAR
VERSION:2.0
PRODID:-//Virtuelle PH - ECPv6.6.4.2//NONSGML v1.0//EN
CALSCALE:GREGORIAN
METHOD:PUBLISH
X-ORIGINAL-URL:https://www.virtuelle-ph.at
X-WR-CALDESC:Veranstaltungen für Virtuelle PH
REFRESH-INTERVAL;VALUE=DURATION:PT1H
X-Robots-Tag:noindex
X-PUBLISHED-TTL:PT1H
BEGIN:VTIMEZONE
TZID:Europe/Vienna
BEGIN:DAYLIGHT
TZOFFSETFROM:+0100
TZOFFSETTO:+0200
TZNAME:CEST
DTSTART:20230326T010000
END:DAYLIGHT
BEGIN:STANDARD
TZOFFSETFROM:+0200
TZOFFSETTO:+0100
TZNAME:CET
DTSTART:20231029T010000
END:STANDARD
END:VTIMEZONE
BEGIN:VEVENT
DTSTART;TZID=Europe/Vienna:20231214T170000
DTEND;TZID=Europe/Vienna:20231214T180000
DTSTAMP:20260421T011706
CREATED:20231215T033016Z
LAST-MODIFIED:20231215T033016Z
UID:10004770-1702573200-1702576800@www.virtuelle-ph.at
SUMMARY:eLecture: Verwendung des OER-Ressourcenkatalogs und eduTube auf eduvidual.at
DESCRIPTION:Zur Anmeldung \n\n						Zum virtuellen Lernraum\n						\n\n						Der Ressourcenkatalog auf eduvidual.at bietet eine Vielzahl an vorgefertigten OER-Lerneinheiten (z.B.  digi.komp-Beispiele\, eTapas)\, die in den eigenen Kursen unkompliziert verwendet und integriert werden können. Auch Inhalte der eduTube (www.edutube.at) können sehr einfach in eigene Kurse eingefügt werden. In dieser eLecture lernen Sie wie Sie den Ressourcenkatalog und die eduTube auf eduvidual.at in Ihre eigenen Kursen integrieren und nutzen können.\nDiese eLecture ist für Sie interessant\, wenn …\n… Sie Ihr Wissen zu eduvidual auffrischen bzw. erweitern möchten\n… Sie Ihren Unterricht mit eduvidual.at abwechslungsreicher gestalten wollen \nCoModeration: Claudia Schneider \n\nExpert_in: Juliane Braunstein \n\n\n			\n				\n			\n			Teilnahmekriterien & Info\n		 \n		\n			Lernziele\n		 \n		\n			Voraussetzungen\n		\n		 \n		\n			\n				\n					\n			So treten Sie der Veranstaltung im virtuellen Lernraum bei: \n1. Rufen Sie 5 min vor Terminstart den Link zum Virtuellen Lernraum auf: \nvirtuelle-ph-at.zoom.us/my/electures \n2. Geben Sie bitte Ihren vollen Namen ein und klicken Sie den Button „Einem Meeting Beitreten“.                              \n3. Klicken Sie den grünen Button „Per Computer dem Audio beitreten“ an. \nDas bewirkt\, dass Sie uns hören und sehen können. Sie werden in Kürze eingelassen. \nDie Teilnahme an allen eLectures der Virtuellen PH ist für österreichische Hochschullehrende\, Lehrkräfte und Studierende eines Lehramts kostenlos.\n		 \n		\n			– OER-Unterrichtsmaterial des Ressourcenkatalogs suchen\, finden und in eigenen Kursen verwenden können\n– eduTube-Inhalte in eigenen Kursen zur Verfügung stellen können
URL:https://www.virtuelle-ph.at/veranstaltung/electure-verwendung-des-oer-ressourcenkatalogs-und-edutube-auf-eduvidual-at-2/
CATEGORIES:eLecture,Reihe eduvidual
END:VEVENT
BEGIN:VEVENT
DTSTART;TZID=Europe/Vienna:20231214T170000
DTEND;TZID=Europe/Vienna:20231214T180000
DTSTAMP:20260421T011706
CREATED:20230930T033124Z
LAST-MODIFIED:20231214T033017Z
UID:10004675-1702573200-1702576800@www.virtuelle-ph.at
SUMMARY:eLecture: Verwendung des OER-Ressourcenkatalogs und eduTube auf eduvidual.at
DESCRIPTION:Zur Anmeldung \n\n						Zum virtuellen Lernraum\n						\n\n						Der Ressourcenkatalog auf eduvidual.at bietet eine Vielzahl an vorgefertigten OER-Lerneinheiten (z.B.  digi.komp-Beispiele\, eTapas)\, die in den eigenen Kursen unkompliziert verwendet und integriert werden können. Auch Inhalte der eduTube (www.edutube.at) können sehr einfach in eigene Kurse eingefügt werden. In dieser eLecture lernen Sie wie Sie den Ressourcenkatalog und die eduTube auf eduvidual.at in Ihre eigenen Kursen integrieren und nutzen können.\nDiese eLecture ist für Sie interessant\, wenn …\n… Sie Ihr Wissen zu eduvidual auffrischen bzw. erweitern möchten\n… Sie Ihren Unterricht mit eduvidual.at abwechslungsreicher gestalten wollen \nCoModeration: Claudia Schneider \n\nExpert_in: Juliane Braunstein \n\n\n			\n				\n			\n			Teilnahmekriterien & Info\n		 \n		\n			Lernziele\n		 \n		\n			Voraussetzungen\n		\n		 \n		\n			\n				\n					\n			So treten Sie der Veranstaltung im virtuellen Lernraum bei: \n1. Rufen Sie 5 min vor Terminstart den Link zum Virtuellen Lernraum auf: \nvirtuelle-ph-at.zoom.us/my/electures \n2. Geben Sie bitte Ihren vollen Namen ein und klicken Sie den Button „Einem Meeting Beitreten“.                              \n3. Klicken Sie den grünen Button „Per Computer dem Audio beitreten“ an. \nDas bewirkt\, dass Sie uns hören und sehen können. Sie werden in Kürze eingelassen. \nDie Teilnahme an allen eLectures der Virtuellen PH ist für österreichische Hochschullehrende\, Lehrkräfte und Studierende eines Lehramts kostenlos.\n		 \n		\n			– OER-Unterrichtsmaterial des Ressourcenkatalogs suchen\, finden und in eigenen Kursen verwenden können\n– eduTube-Inhalte in eigenen Kursen zur Verfügung stellen können
URL:https://www.virtuelle-ph.at/veranstaltung/electure-verwendung-des-oer-ressourcenkatalogs-und-edutube-auf-eduvidual-at/
CATEGORIES:eLecture,Reihe eduvidual
END:VEVENT
BEGIN:VEVENT
DTSTART;TZID=Europe/Vienna:20231130T170000
DTEND;TZID=Europe/Vienna:20231130T183000
DTSTAMP:20260421T011706
CREATED:20231201T033006Z
LAST-MODIFIED:20231201T033006Z
UID:10004756-1701363600-1701369000@www.virtuelle-ph.at
SUMMARY:eLecture: Interaktive Inhalte mit h5p auf eduvidual.at erstellen und verwenden
DESCRIPTION:Zur Anmeldung \n\n						Zum virtuellen Lernraum\n						\n\n						Interaktive Inhalte nehmen beim eLearning eine zentrale Rolle ein\, da sie Lernenden helfen sich mit den Inhalten eines eLearning-Kurses selbst zu beschäftigen und damit das Gelernte zu verinnerlichen. \nJuliane Braunstein verwendet als Lehrerin an einem Gymnasium seit vielen Jahren eduvidual.at und bereichert die eLearning-Kurse für ihre Schülerinnen und Schüler mit interaktiven h5p-Inhalten.\nIn dieser eLecture zeigt sie den Teilnehmerinnen und Teilnehmern\, wie man mit Hilfe des h5p-Plugins auf eduvidual.at Texte\, Bilder\, Audiofiles oder Videos und diverse Interaktionen miteinander kombinieren kann. Das Ergebnis reicht von einfachen Aktivitäten wie z. B. Lückentext\, Kreuzworträtsel\, Flashcards\, Multiple Choice-Übungen oder Timelines bis hin zu komplexeren Einheiten wie z. B. interaktive Videos oder interaktive Bücher. \nCoModeration: Claudia Schneider \n\nExpert_in: Juliane Braunstein \n\n\n			\n				\n			\n			Teilnahmekriterien & Info\n		 \n		\n			Lernziele\n		 \n		\n			Voraussetzungen\n		\n		 \n		\n			\n				\n					\n			So treten Sie der Veranstaltung im virtuellen Lernraum bei: \n1. Rufen Sie 5 min vor Terminstart den Link zum Virtuellen Lernraum auf: \nvirtuelle-ph-at.zoom.us/my/electures \n2. Geben Sie bitte Ihren vollen Namen ein und klicken Sie den Button „Einem Meeting Beitreten“.                              \n3. Klicken Sie den grünen Button „Per Computer dem Audio beitreten“ an. \nDas bewirkt\, dass Sie uns hören und sehen können. Sie werden in Kürze eingelassen. \nDie Teilnahme an allen eLectures der Virtuellen PH ist für österreichische Hochschullehrende\, Lehrkräfte und Studierende eines Lehramts kostenlos.\n		 \n		\n			– h5p-Inhaltstypen nennen und erstellen können\n– Dem Lernkontext entsprechende Inhaltstypen auswählen können\n– Bereits vorhandene h5p-Inhalte ver- od. bearbeiten können
URL:https://www.virtuelle-ph.at/veranstaltung/electure-interaktive-inhalte-mit-h5p-auf-eduvidual-at-erstellen-und-verwenden-2/
CATEGORIES:eLecture,Reihe eduvidual
END:VEVENT
BEGIN:VEVENT
DTSTART;TZID=Europe/Vienna:20231130T170000
DTEND;TZID=Europe/Vienna:20231130T183000
DTSTAMP:20260421T011706
CREATED:20230930T033031Z
LAST-MODIFIED:20231130T033008Z
UID:10004668-1701363600-1701369000@www.virtuelle-ph.at
SUMMARY:eLecture: Interaktive Inhalte mit h5p auf eduvidual.at erstellen und verwenden
DESCRIPTION:Zur Anmeldung \n\n						Zum virtuellen Lernraum\n						\n\n						Interaktive Inhalte nehmen beim eLearning eine zentrale Rolle ein\, da sie Lernenden helfen sich mit den Inhalten eines eLearning-Kurses selbst zu beschäftigen und damit das Gelernte zu verinnerlichen. \nJuliane Braunstein verwendet als Lehrerin an einem Gymnasium seit vielen Jahren eduvidual.at und bereichert die eLearning-Kurse für ihre Schülerinnen und Schüler mit interaktiven h5p-Inhalten.\nIn dieser eLecture zeigt sie den Teilnehmerinnen und Teilnehmern\, wie man mit Hilfe des h5p-Plugins auf eduvidual.at Texte\, Bilder\, Audiofiles oder Videos und diverse Interaktionen miteinander kombinieren kann. Das Ergebnis reicht von einfachen Aktivitäten wie z. B. Lückentext\, Kreuzworträtsel\, Flashcards\, Multiple Choice-Übungen oder Timelines bis hin zu komplexeren Einheiten wie z. B. interaktive Videos oder interaktive Bücher. \nCoModeration: Claudia Schneider \n\nExpert_in: Juliane Braunstein \n\n\n			\n				\n			\n			Teilnahmekriterien & Info\n		 \n		\n			Lernziele\n		 \n		\n			Voraussetzungen\n		\n		 \n		\n			\n				\n					\n			So treten Sie der Veranstaltung im virtuellen Lernraum bei: \n1. Rufen Sie 5 min vor Terminstart den Link zum Virtuellen Lernraum auf: \nvirtuelle-ph-at.zoom.us/my/electures \n2. Geben Sie bitte Ihren vollen Namen ein und klicken Sie den Button „Einem Meeting Beitreten“.                              \n3. Klicken Sie den grünen Button „Per Computer dem Audio beitreten“ an. \nDas bewirkt\, dass Sie uns hören und sehen können. Sie werden in Kürze eingelassen. \nDie Teilnahme an allen eLectures der Virtuellen PH ist für österreichische Hochschullehrende\, Lehrkräfte und Studierende eines Lehramts kostenlos.\n		 \n		\n			– h5p-Inhaltstypen nennen und erstellen können\n– Dem Lernkontext entsprechende Inhaltstypen auswählen können\n– Bereits vorhandene h5p-Inhalte ver- od. bearbeiten können
URL:https://www.virtuelle-ph.at/veranstaltung/electure-interaktive-inhalte-mit-h5p-auf-eduvidual-at-erstellen-und-verwenden/
CATEGORIES:eLecture,Reihe eduvidual
END:VEVENT
BEGIN:VEVENT
DTSTART;TZID=Europe/Vienna:20230202T170000
DTEND;TZID=Europe/Vienna:20230202T183000
DTSTAMP:20260421T011706
CREATED:20221003T095513Z
LAST-MODIFIED:20230202T212046Z
UID:10004053-1675357200-1675362600@www.virtuelle-ph.at
SUMMARY:eLecture: h5p auf eduvidual.at verwenden
DESCRIPTION:Aufzeichnung \n\n\n						Interaktive Inhalte nehmen beim eLearning eine zentrale Rolle ein\, da sie Lernenden helfen sich mit den Inhalten eines eLearning-Kurses selbst zu beschäftigen und damit das Gelernte zu verinnerlichen. \nJuliane Braunstein verwendet als Lehrerin an einem Gymnasium seit vielen Jahren eduvidual.at und bereichert die eLearning-Kurse für ihre Schülerinnen und Schüler mit interaktiven h5p-Inhalten.\nIn dieser eLecture zeigt sie den Teilnehmerinnen und Teilnehmern\, wie man mit Hilfe des h5p-Plugins auf eduvidual.at Texte\, Bilder\, Audiofiles oder Videos und diverse Interaktionen miteinander kombinieren kann. Das Ergebnis reicht von einfachen Aktivitäten wie z. B. Lückentext\, Kreuzworträtsel\, Flashcards\, Multiple Choice-Übungen oder Timelines bis hin zu komplexeren Einheiten wie z. B. interaktive Videos oder interaktive Bücher. \n\nExpert_in: Juliane Braunstein \n\n\n			\n				\n			\n			Teilnahmekriterien & Info\n		 \n		\n			Lernziele\n		 \n		\n			Voraussetzungen\n		\n		 \n		\n			\n				\n					\n			So treten Sie der Veranstaltung im virtuellen Lernraum bei: \n1. Rufen Sie 5 min vor Terminstart den Link zum Virtuellen Lernraum auf: \nvirtuelle-ph-at.zoom.us/my/virtuelleph.electure4 \n2. Geben Sie bitte Ihren vollen Namen ein und klicken Sie den Button „Einem Meeting Beitreten“.                              \n3. Klicken Sie den grünen Button „Per Computer dem Audio beitreten“ an. \nDas bewirkt\, dass Sie uns hören und sehen können. Sie werden in Kürze eingelassen. \nDie Teilnahme an allen eLectures der Virtuellen PH ist für österreichische Hochschullehrende\, Lehrkräfte und Studierende eines Lehramts kostenlos.\n		 \n		\n			h5p-Inhaltstypen nennen und erstellen können\nDem Lernkontext entsprechende Inhaltstypen auswählen können\nBereits vorhandene h5p-Inhalte ver- od. bearbeiten können
URL:https://www.virtuelle-ph.at/veranstaltung/electure-h5p-auf-eduvidual-at-verwenden/
CATEGORIES:eLecture,Reihe eduvidual
END:VEVENT
END:VCALENDAR