BEGIN:VCALENDAR
VERSION:2.0
PRODID:-//Virtuelle PH - ECPv6.6.4.2//NONSGML v1.0//EN
CALSCALE:GREGORIAN
METHOD:PUBLISH
X-WR-CALNAME:Virtuelle PH
X-ORIGINAL-URL:https://www.virtuelle-ph.at
X-WR-CALDESC:Veranstaltungen für Virtuelle PH
REFRESH-INTERVAL;VALUE=DURATION:PT1H
X-Robots-Tag:noindex
X-PUBLISHED-TTL:PT1H
BEGIN:VTIMEZONE
TZID:Europe/Vienna
BEGIN:DAYLIGHT
TZOFFSETFROM:+0100
TZOFFSETTO:+0200
TZNAME:CEST
DTSTART:20230326T010000
END:DAYLIGHT
BEGIN:STANDARD
TZOFFSETFROM:+0200
TZOFFSETTO:+0100
TZNAME:CET
DTSTART:20231029T010000
END:STANDARD
END:VTIMEZONE
BEGIN:VEVENT
DTSTART;TZID=Europe/Vienna:20230502T170000
DTEND;TZID=Europe/Vienna:20230502T183000
DTSTAMP:20260420T070310
CREATED:20230301T033016Z
LAST-MODIFIED:20230502T074352Z
UID:10003752-1683046800-1683052200@www.virtuelle-ph.at
SUMMARY:eLecture: Online-Wissenshäppchen zum Selbstlernen mit einfachen Tools gestalten
DESCRIPTION:Zur Anmeldung \n\n						Zum virtuellen Lernraum\n						\n\n						Sie möchten kleine Lernpakete zusammenstellen\, die Ihre Lernenden im eigenen Tempo absolvieren können? \nIn dieser eLecture erfahren Sie\, wie das mit drei einfachen Tools gelingen kann. \nOnline-Wissenshäppchen eignen sich für Übungen zwischen zwei Präsenzeinheiten\, als Ergänzung zu einem Live-Online-Format oder als Vorbereitung auf eine synchrone Veranstaltung („Flipped Learning“). \nLehrende sind dabei gefordert\, alle Inhalte vorab in einer schlüssigen Struktur vorzubereiten\, sodass sich die Teilnehmenden selbständig zurechtfinden und erfolgreich lernen können. \nDie eLecture bietet einen kurzen Überblick über drei ausgewählte Tools (Wakelet\, Learning Snacks und Worksheet)\, deren Anwendungsmöglichkeiten\, Vor- und Nachteile sowie die Gelegenheit zum Erfahrungsaustausch. \nReferent*innen: Birgit Aschemann\, Karin Kulmer und Gunter Schüßler (CONEDU/DigiProf). \nCONEDU Verein für Bildungsforschung und -medien betreibt mit dem Arbeitsbereich DigiProf einen qualitätstestierten Weiterbildungsbereich zur digitalen Professionalisierung für Erwachsenenbildner*innen in Österreich. Unter der Marke EBmooc bietet CONEDU kostenlose offene Onlinekurse für Erwachsenenbildner*innen an. \nDiese eLecture ist für Sie geeignet\, wenn Sie kleine Selbstlerneinheiten für Ihre Teilnehmenden online zur Verfügung stellen möchten und dafür Anregungen suchen. \nCoModeration: Thomas Winkler \n\nExpert_in: Karin Kulmer \n\n\n			\n				\n			\n			Teilnahmekriterien & Info\n		 \n		\n			Lernziele\n		 \n		\n			Voraussetzungen\n		\n		 \n		\n			\n				\n					\n			So treten Sie der Veranstaltung im virtuellen Lernraum bei: \n1. Rufen Sie 5 min vor Terminstart den Link zum Virtuellen Lernraum auf: \nvirtuelle-ph-at.zoom.us/my/virtuelleph.electure2 \n2. Geben Sie bitte Ihren vollen Namen ein und klicken Sie den Button „Einem Meeting Beitreten“.                              \n3. Klicken Sie den grünen Button „Per Computer dem Audio beitreten“ an. \nDas bewirkt\, dass Sie uns hören und sehen können. Sie werden in Kürze eingelassen. \nDie Teilnahme an allen eLectures der Virtuellen PH ist für österreichische Hochschullehrende\, Lehrkräfte und Studierende eines Lehramts kostenlos.\n		 \n		\n			Die Teilnehmenden kennen Wakelet\, Learning Snacks und Worksheet als Tools zum Online-Lernen.\nSie haben Anwendungsmöglichkeiten\, Vor- und Nachteile der Tools und deren Einsatz zur Gestaltung von Online-Wissenshäppchen zum Selbstlernen reflektiert.
URL:https://www.virtuelle-ph.at/veranstaltung/electure-online-wissenshaeppchen-zum-selbstlernen-mit-einfachen-tools-gestalten/
CATEGORIES:eLecture
END:VEVENT
BEGIN:VEVENT
DTSTART;TZID=Europe/Vienna:20230124T170000
DTEND;TZID=Europe/Vienna:20230124T180000
DTSTAMP:20260420T070310
CREATED:20221216T033003Z
LAST-MODIFIED:20230130T063713Z
UID:10004081-1674579600-1674583200@www.virtuelle-ph.at
SUMMARY:eLecture: Communities of Practice im Bildungsbereich
DESCRIPTION:Aufzeichnung \n\n\n						Weiterlernen im Austausch mit anderen Fachpersonen: Communities of Practice machen es möglich \nSie möchten im Austausch mit Expert*innen weiterlernen und ein innovatives Bildungsformat kennenlernen? \nCommunities of Practice erfüllen andere Funktionen als formalisierte (Weiter-)Bildungsmaßnahmen: Sie bieten Raum\, gemeinsam auf Augenhöhe etwas Neues auszuprobieren\, Erfahrungen auszutauschen und Kontakte zu pflegen. \nIn dieser eLecture erfahren Sie\, wie Sie Communities of Practice für Ihr persönliches Weiterlernen oder für Ihre Teilnehmenden nutzen können. Voraussetzungen für eine gelingende Community sind dabei ebenso Thema wie Beispiele bestehender Netzwerke im Bildungsbereich – von Austauschplattformen über Veranstaltungen wie Barcamps bis zu sozialen Medien wie Facebook\, Twitter oder Mastodon. \n\nReferent*innen: Karin Kulmer und Gunter Schüßler (CONEDU/DigiProf). \nCONEDU Verein für Bildungsforschung und -medien betreibt mit dem Arbeitsbereich DigiProf einen qualitätstestierten Weiterbildungsbereich zur digitalen Professionalisierung für Erwachsenenbildner*innen in Österreich. Unter der Marke EBmooc bietet CONEDU kostenlose offene Onlinekurse für Erwachsenenbildner*innen an. \nDiese eLecture ist für Sie geeignet\, wenn Sie sich mit anderen Profis aus dem Bildungsbereich zu spezifischen Themen (z.B. im digitalen Bereich) vernetzen möchten und dafür Anregungen suchen. \n\nExpert_in: Karin Kulmer \n\n\n			\n				\n			\n			Teilnahmekriterien & Info\n		 \n		\n			Lernziele\n		 \n		\n			Voraussetzungen\n		\n		 \n		\n			\n				\n					\n			So treten Sie der Veranstaltung im virtuellen Lernraum bei: \n1. Rufen Sie 5 min vor Terminstart den Link zum Virtuellen Lernraum auf: \nvirtuelle-ph-at.zoom.us/my/virtuelleph.electure2 \n2. Geben Sie bitte Ihren vollen Namen ein und klicken Sie den Button „Einem Meeting Beitreten“.                              \n3. Klicken Sie den grünen Button „Per Computer dem Audio beitreten“ an. \nDas bewirkt\, dass Sie uns hören und sehen können. Sie werden in Kürze eingelassen. \nDie Teilnahme an allen eLectures der Virtuellen PH ist für österreichische Hochschullehrende\, Lehrkräfte und Studierende eines Lehramts kostenlos.\n		 \n		\n			Die Teilnehmer*innen…\n…kennen die grundlegenden Funktionen und Vorteile von Communities of Practice\n…wissen\, wie sie diese Communities für sich und ihre Teilnehmenden nutzen können\n…kennen Beispiele bestehender Netzwerke aus dem Bildungsbereich und haben diese mit ihren Kolleg*innen diskutiert
URL:https://www.virtuelle-ph.at/veranstaltung/electure-communities-of-practice-im-bildungsbereich/
CATEGORIES:eLecture
END:VEVENT
END:VCALENDAR