BEGIN:VCALENDAR
VERSION:2.0
PRODID:-//Virtuelle PH - ECPv6.6.4.2//NONSGML v1.0//EN
CALSCALE:GREGORIAN
METHOD:PUBLISH
X-WR-CALNAME:Virtuelle PH
X-ORIGINAL-URL:https://www.virtuelle-ph.at
X-WR-CALDESC:Veranstaltungen für Virtuelle PH
REFRESH-INTERVAL;VALUE=DURATION:PT1H
X-Robots-Tag:noindex
X-PUBLISHED-TTL:PT1H
BEGIN:VTIMEZONE
TZID:Europe/Berlin
BEGIN:DAYLIGHT
TZOFFSETFROM:+0100
TZOFFSETTO:+0200
TZNAME:CEST
DTSTART:20180325T010000
END:DAYLIGHT
BEGIN:STANDARD
TZOFFSETFROM:+0200
TZOFFSETTO:+0100
TZNAME:CET
DTSTART:20181028T010000
END:STANDARD
END:VTIMEZONE
BEGIN:VEVENT
DTSTART;TZID=Europe/Berlin:20180924T170000
DTEND;TZID=Europe/Berlin:20180924T180000
DTSTAMP:20260420T123331
CREATED:20180529T162315Z
LAST-MODIFIED:20181130T105418Z
UID:10002916-1537808400-1537812000@www.virtuelle-ph.at
SUMMARY:eLecture: Digitale Medien in der Primarstufe
DESCRIPTION:zur Aufzeichnung\n\n\n						Medienbildung betrifft alle Lern- und Lehrsettings\, so auch die Elementar- & Primarstufe. Dabei gibt es aber gerade in diesen beiden Bereichen zum Teil noch große Skepsis und Unverständnis.\nDiese eLecture führt überblicksmäßig in die Spezifika von Medienbildung in Elementar- & Primarstufe ein. Anschließend wird Ihnen ein für diese Thematik relevanter Weiterbildungslehrgang der PH Wien für Elementarpädagog*innen und Primarstufenlehrer*innen mit dem Titel „Digitale Medienbildung in der Primarstufe“ (20 ECTS\, 3 Semester) vorgestellt. Zudem gibt es die Möglichkeit\, sich über die Spezifika und notwendige Aus-\, Fort- und Weiterbildungen für Pädagog*nnen der genannten Arbeitsbereiche auszutauschen. \nDie Vortragende\, Mag.a Katharina Mittlböck MSc ist Mitarbeiterin am Zentrum für Lerntechnologie und Innovation (ZLI) der PH Wien. Sie hat langjährige Erfahrungen im Bereich Medienbildung und Schule resp. Kindergarten. Sie hat unter anderem an einer BAfEP unterrichtet. Katharina Mittlböck ist auf Game Based Learning\, so wie den Einsatz digitaler Medien in unterschiedlichen Lernsettings spezialisiert. Sie leitet den Hochschullehrgang „Digitale Medienbildung in der Primarstufe“. \nAufbau:\n# Einführung: Medienbildung allgemein\n# Besonderheiten von Medienbildung in Elementar- & Primarstufe\n# Weiterbildungslehrgang „Digitale Medienbildung in der Primarstufe“ (ZLI/PH Wien)\n# Diskussion und Fragen \nDiese eLecture ist für Sie geeignet\, wenn …. \n# Sie sich für Medienbildung speziell in Bezug auf die Elementar- und/oder Primarstufe\ninteressieren.\n# Sie mehr über den Einsatz (digitaler) Medien in der Elementarpädagogik und im Primarstufenunterricht erfahren wollen.\n# Sie mehr über den Lehrgang „Digitale Medienbildung in der Primarstufe“ der PH Wien erfahren wollen \n\nCoModeration: Elke Höfler \n\n			\n				\n			\n			Teilnahmekriterien & Info\n		 \n		\n			Lernziele\n		 \n		\n			Voraussetzungen\n		\n		 \n		\n			\n				\n					\n			Technische Voraussetzungen: Grundlegende Computerkenntnisse\, gute Internetverbindung; optional: Headset. \nSo treten Sie der eLecture im virtuellen Lernraum bei:  \n1. Rufen Sie 10 min vor Terminstart folgende Seite auf:  \nvph.adobeconnect.com/eins/ \n2. Geben Sie bitte Ihren Vor- und Nachnamen ein und „Betreten Sie den Raum“ mit Klick auf den Button. \n3. Folgen Sie den Anweisungen auf dem Bildschirm. Sie werden in Kürze eingelassen. \nWenn Sie noch an keiner eLecture teilgenommen haben\, finden Sie alle Infos zum Einstieg unter: www.virtuelle-ph.at/electures/#einstieg \nDie Teilnahme an allen eLectures der Virtuellen PH ist für österreichische Lehrkräfte und Studierende eines Lehramts kostenlos.\n		 \n		\n			# die Besonderheiten von Medienbildung in der Elementar- & Primarstufe kennen und wiedergeben können\n# eigene Erfahrungen zum Einsatz digitaler Medien in der Elementar-  & Primarstufe artikulieren und diskutieren können\n# die Bedeutung von entsprechenden Aus-\, Fort- und Weiterbildungen kennen
URL:https://www.virtuelle-ph.at/veranstaltung/electure-digitale-medien-in-der-primarstufe-4/
CATEGORIES:eLecture
END:VEVENT
BEGIN:VEVENT
DTSTART;TZID=Europe/Berlin:20180508T170000
DTEND;TZID=Europe/Berlin:20180508T180000
DTSTAMP:20260420T123331
CREATED:20180425T094213Z
LAST-MODIFIED:20180511T080400Z
UID:10002910-1525798800-1525802400@www.virtuelle-ph.at
SUMMARY:eLecture: Digitale Medien in der Primarstufe
DESCRIPTION:zur Aufzeichnung \n\n\n						Medienbildung betrifft alle Lern- und Lehrsettings\, so auch die Elementar- & Primarstufe. Dabei gibt es aber gerade in diesen beiden Bereichen zum Teil noch große Skepsis und Unverständnis.\nDiese eLecture führt überblicksmäßig in die Spezifika von Medienbildung in Elementar- & Primarstufe ein. Anschließend wird Ihnen ein für diese Thematik relevanter Weiterbildungslehrgang der PH Wien für Elementarpädagog*innen und Primarstufenlehrer*innen mit dem Titel „Digitale Medienbildung in der Primarstufe“ (20 ECTS\, 3 Semester) vorgestellt. Zudem gibt es die Möglichkeit\, sich über die Spezifika und notwendige Aus-\, Fort- und Weiterbildungen für Pädagog*nnen der genannten Arbeitsbereiche auszutauschen. \nDie Vortragende\, Mag.a Katharina Mittlböck MSc ist Mitarbeiterin am Zentrum für Lerntechnologie und Innovation (ZLI) der PH Wien. Sie hat langjährige Erfahrungen im Bereich Medienbildung und Schule resp. Kindergarten. Sie hat unter anderem an einer BAfEP unterrichtet. Katharina Mittlböck ist auf Game Based Learning\, so wie den Einsatz digitaler Medien in unterschiedlichen Lernsettings spezialisiert. Sie leitet den Hochschullehrgang „Digitale Medienbildung in der Primarstufe“. \nAufbau:\n# Einführung: Medienbildung allgemein\n# Besonderheiten von Medienbildung in Elementar- & Primarstufe\n# Weiterbildungslehrgang „Digitale Medienbildung in der Primarstufe“ (ZLI/PH Wien)\n# Diskussion und Fragen \nDiese eLecture ist für Sie geeignet\, wenn …. \n# Sie sich für Medienbildung speziell in Bezug auf die Elementar- und/oder Primarstufe\ninteressieren.\n# Sie mehr über den Einsatz (digitaler) Medien in der Elementarpädagogik und im Primarstufenunterricht erfahren wollen.\n# Sie mehr über den Lehrgang „Digitale Medienbildung in der Primarstufe“ der PH Wien erfahren wollen \n\nCoModeration: Thomas Winkler \n\n			\n				\n			\n			Teilnahmekriterien & Info\n		 \n		\n			Lernziele\n		 \n		\n			Voraussetzungen\n		\n		 \n		\n			\n				\n					\n			Technische Voraussetzungen: Grundlegende Computerkenntnisse\, gute Internetverbindung; optional: Headset. \nSo treten Sie der eLecture im virtuellen Lernraum bei:  \n1. Rufen Sie 10 min vor Terminstart folgende Seite auf:  \nvph.adobeconnect.com/zwei/ \n2. Geben Sie bitte Ihren Vor- und Nachnamen ein und „Betreten Sie den Raum“ mit Klick auf den Button. \n3. Folgen Sie den Anweisungen auf dem Bildschirm. Sie werden in Kürze eingelassen. \nWenn Sie noch an keiner eLecture teilgenommen haben\, finden Sie alle Infos zum Einstieg unter: www.virtuelle-ph.at/electures/#einstieg \nDie Teilnahme an allen eLectures der Virtuellen PH ist für österreichische Lehrkräfte und Studierende eines Lehramts kostenlos.\n		 \n		\n			# die Besonderheiten von Medienbildung in der Elementar- & Primarstufe kennen und wiedergeben können\n# eigene Erfahrungen zum Einsatz digitaler Medien in der Elementar-  & Primarstufe artikulieren und diskutieren können\n# die Bedeutung von entsprechenden Aus-\, Fort- und Weiterbildungen kennen
URL:https://www.virtuelle-ph.at/veranstaltung/electure-digitale-medien-in-der-primarstufe-3/
CATEGORIES:eLecture
END:VEVENT
END:VCALENDAR