BEGIN:VCALENDAR
VERSION:2.0
PRODID:-//Virtuelle PH - ECPv6.6.4.2//NONSGML v1.0//EN
CALSCALE:GREGORIAN
METHOD:PUBLISH
X-ORIGINAL-URL:https://www.virtuelle-ph.at
X-WR-CALDESC:Veranstaltungen für Virtuelle PH
REFRESH-INTERVAL;VALUE=DURATION:PT1H
X-Robots-Tag:noindex
X-PUBLISHED-TTL:PT1H
BEGIN:VTIMEZONE
TZID:Europe/Vienna
BEGIN:DAYLIGHT
TZOFFSETFROM:+0100
TZOFFSETTO:+0200
TZNAME:CEST
DTSTART:20230326T010000
END:DAYLIGHT
BEGIN:STANDARD
TZOFFSETFROM:+0200
TZOFFSETTO:+0100
TZNAME:CET
DTSTART:20231029T010000
END:STANDARD
END:VTIMEZONE
BEGIN:VEVENT
DTSTART;TZID=Europe/Vienna:20230119T090000
DTEND;TZID=Europe/Vienna:20230119T101500
DTSTAMP:20260420T155330
CREATED:20221114T124400Z
LAST-MODIFIED:20230127T220557Z
UID:10004090-1674118800-1674123300@www.virtuelle-ph.at
SUMMARY:digiPH 6 Hop on hop off: Studierende aktivieren und engagieren
DESCRIPTION:Aufzeichnung \n\n\n						In diesem #digiPH6 Hop on hop off dreht sich alles um das Thema\, wie Studierende in der Hochschullehre aktiviert und zum Mitmachen animiert werden können.  \nThomas Wimmer (PHDL):  Best-of Online/Präsenz-Lehre: neu gedachte\, multimediale & vernetzte Konzepte\nMit der kostenlosen und plattformunabhängigen Webanwendung Book Creator können schon Grundschüler*innen ihre Geschichten\, ihre Ideen\, ihren Lernstoff etc. multimedial aufbereiten. Das Hinzufügen von Texten\, Bildern\, Ton- und Videosequenzen ist kinderleicht und macht Spaß. Auch Primarstufenstudierende des Schwerpunkts MusikTheaterMedien an der Privaten Pädagogischen Hochschule führen vier Semester ein Online-Tagebuch\, in dem ihre entstandenen Arbeiten teils kollaborativ gesammelt und dokumentiert werden. Dieses eBook eignet sich z.B. perfekt als digitale Visitenkarte. Lassen Sie sich inspirieren und staunen Sie\, was alles möglich ist… \nKai Wünsche (FH Meißen): Aktive Studierende in synchronen und asynchronen digitalen Lehrveranstaltungen\nIm Kurzinput (Hop on\, Hop off) werden Methoden dargestellt\, wie eine starke Aktivierung und Interaktion der Studierenden gelingen kann. Dies gilt sowohl für asynchrone Lehrveranstaltungen\, als auch für Webinare. (Asynchrone) Onlinekurse erfordern bei der Planung ein besonderes Augenmerk auf die Interaktion. Der – im Vergleich zur Präsenzveranstaltung – fehlende Blick des Dozierenden mag nachteilig erscheinen\, gleichwohl bietet ein solcher Onlinekurs viele Vorteile: Jeder lernt im eigenen Tempo. Kleine Fragen\, die während der Kurzclips eingeblendet werden\, animieren dazu\, aufmerksam zu bleiben. Solche Fragen können das Verständnis des eben Besprochenen abprüfen oder die darauf folgenden Ausführungen „vorbereiten“. Zudem ermöglichen zwischen den Videos eingeblendete Freitextfragen eine intensivere Befassung mit dem Thema. Vorteil: Jede:r Teilnehmende beantwortet die Fragen\, ein Umstand\, der in eine Präsenzveranstaltung nicht praktikabel einführbar ist. Die Fragen können technisch so ausgestaltet werden\, dass die Antworten durch die dozierende Person ausgewertet und für die Planung der Folgeveranstaltung berücksichtigt werden können. Webinare animieren zum Mitmachen und Dabeisein durch zielgerichtete häufige Umfragen. Zudem helfen 2-Personen-kurz-Breakout Rooms\, Scheu vor der Kamera- und Mikrofonnutzung abzulegen und in einen interaktiven Austausch zu kommen. \nKatharina Wieland (Martin-Luther-Universität Halle-Wittenberg): Diversität und Digitalisierung im Fremdsprachenunterricht\nDer Beitrag gibt Einblick in die Arbeit mit Lehramtsstudierende der Romanischen Sprachen (Französisch\, Spanisch und Italienisch) in der Auseinandersetzung mit der Diversität von Lernenden und der Nutzung digitaler Medien\, um dieser Diversität adäquat zu begegnen. Aus dem Seminar „Diversität und Differenzierung im Fremdsprachenunterricht“\, das im Sommersemester 2022 am Institut für Romanistik im Aufbaumodul Fachdidaktik angeboten wurde\, haben Studierende digitale Medien in ihrer Rolle für einen diversitätssensiblen Fremdsprachenunterricht untersucht und Unterrichtsvorschläge für den Anfangsunterricht Französisch\, Spanisch und Italienisch gesammelt bzw. erstellt. Als Arbeitsergebnis ist ein gemeinsamer Blog entstanden\, dessen Inhalte als Creative Commons für Lehrkräfte und Lehramtsstudierende offen sind. \nCo-Moderation: Walter Fikisz \n\nExpert_in: Katharina Wieland\, Kai E. Wünsche\, Thomas Wimmer \n\n\n			\n				\n			\n			Teilnahmekriterien & Info\n		 \n		\n			Lernziele\n		 \n		\n			Voraussetzungen\n		\n		 \n		\n			\n				\n					\n			So treten Sie der Veranstaltung im virtuellen Lernraum bei: \n1. Rufen Sie 5-10 min vor Terminstart den Link zum Virtuellen Lernraum auf: \nvirtuelle-ph-at.zoom.us/my/virtuelleph.electure4 \n2. Geben Sie bitte Ihren vollen Namen ein und klicken Sie den Button „Einem Meeting Beitreten“.                              \n3. Klicken Sie dann auch den grünen Button „Per Computer dem Audio beitreten“ an.\nDas bewirkt\, dass Sie uns hören und sehen können. Sie werden in Kürze eingelassen. \nDie Teilnahme an allen Veranstaltungen der Virtuellen PH ist für österreichische Hochschullehrende\, Lehrkräfte und Studierende eines Lehramts kostenlos.\n		 \n		\n			# Orientierung bezüglich aktueller Hochschulbildungsthemen mit Fokus auf Studierendenaktivierung gewinnen\n# Trends in der digitalen Hochschullehre kennenlernen\n# In Austausch und Vernetzung mit Hochschulkolleg_innen kommen
URL:https://www.virtuelle-ph.at/veranstaltung/digiph-6-hop-on-hop-off-studierende-aktivieren-und-engagieren/
CATEGORIES:eLecture,Online-Tagung digiPH6 EL
END:VEVENT
END:VCALENDAR