BEGIN:VCALENDAR
VERSION:2.0
PRODID:-//Virtuelle PH - ECPv6.6.4.2//NONSGML v1.0//EN
CALSCALE:GREGORIAN
METHOD:PUBLISH
X-ORIGINAL-URL:https://www.virtuelle-ph.at
X-WR-CALDESC:Veranstaltungen für Virtuelle PH
REFRESH-INTERVAL;VALUE=DURATION:PT1H
X-Robots-Tag:noindex
X-PUBLISHED-TTL:PT1H
BEGIN:VTIMEZONE
TZID:Europe/Vienna
BEGIN:DAYLIGHT
TZOFFSETFROM:+0100
TZOFFSETTO:+0200
TZNAME:CEST
DTSTART:20220327T010000
END:DAYLIGHT
BEGIN:STANDARD
TZOFFSETFROM:+0200
TZOFFSETTO:+0100
TZNAME:CET
DTSTART:20221030T010000
END:STANDARD
END:VTIMEZONE
BEGIN:VEVENT
DTSTART;TZID=Europe/Vienna:20220321T180000
DTEND;TZID=Europe/Vienna:20220321T190000
DTSTAMP:20260420T074751
CREATED:20211216T102607Z
LAST-MODIFIED:20220323T083717Z
UID:10003979-1647885600-1647889200@www.virtuelle-ph.at
SUMMARY:eLecture: Die Digital LEVEL-UP Licence im Fachunterricht der 5. und 6. Schulstufe (Level 2)
DESCRIPTION:zur Aufzeichnung\n    \n\n						Die Digital Level-UP Licence unterstützt Lehrpersonen bei der didaktischen Implementierung der mobilen Geräte im Rahmen der Geräteinitiative des Ministeriums. Die gratis zur Verfügung gestellten Checklisten\, Links und Arbeitsmaterialien bieten Hilfestellungen und Impulse für den kompetenzorientierten Einsatz im Unterricht. \nIn der zweiten eLecture der Reihe werden neben dem Einsatz von Standardsoftware (Texte\, Präsentationen) vor allem der Nutzen sowie die Herausforderungen von Apps für den Fachunterricht genauer beleuchtet. Der Schwerpunkt liegt dabei auf der Checkliste und den Materialien von LEVEL 2. Am Ende werden Einsatzmöglichkeiten der Licence im Unterricht diskutiert. \nDiese eLecture ist Teil einer 3-teiligen Reihe zum Thema “Die Digital LEVEL-UP Licence als didaktische Unterstützung im Rahmen der Geräteinitiative”. Alle Termine und die Aufzeichnungen finden Sie hier: www.virtuelle-ph.at/levelup\nWeitere Informationen zur Licence finden Sie hier: digitaleslernen.oead.at/de/dlul \n\nCoModeration: Gerlinde Schwabl \n\nExpert_in: Michael Steiner\, Katja Schirmer \n\n\n			\n				\n			\n			Teilnahmekriterien & Info\n		 \n		\n			Lernziele\n		 \n		\n			Voraussetzungen\n		\n		 \n		\n			\n				\n					\n			So treten Sie der Veranstaltung im virtuellen Lernraum bei: \n1. Rufen Sie 5 min vor Terminstart den Link zum Virtuellen Lernraum auf: \nzoom.us/my/virtuelleph.electureeins \n2. Geben Sie bitte Ihren vollen Namen ein und klicken Sie den Button „Einem Meeting Beitreten“.                              \n3. Klicken Sie den grünen Button „Per Computer dem Audio beitreten“ an. \nDas bewirkt\, dass Sie uns hören und sehen können. Sie werden in Kürze eingelassen. \nDie Teilnahme an allen eLectures der Virtuellen PH ist für österreichische Hochschullehrende\, Lehrkräfte und Studierende eines Lehramts kostenlos.\n		 \n		\n			. die Vorteile der Digital LEVEL-UP Licence für den Unterricht vermitteln \n· die Checkliste und Lernmaterialien von LEVEL 2 zur Standardsoftware und Apps im Unterricht im Detail kennenlernen \n· Einsatzmöglichkeiten der LEVEL-UP Licence im Unterricht diskutieren \n· die Licence als Teil der Schulentwicklungsmaßnahme thematisieren \nDiese eLecture ist für Sie geeignet\, wenn Sie \n· eine Laptop-/Tablet-Klasse im Rahmen der Geräteinitiative unterrichten. \n· Ihre Schülerinnen und Schüler motivieren und unterstützen wollen\, mit den neuen digitalen Geräten vertraut zu werden. \n· am Thema “digitale Schule” im Rahmen der Schulentwicklung interessiert sind. \n· zahlreiche Möglichkeiten des Einsatzes der mobilen Endgeräte im Unterricht kennenlernen wollen.
URL:https://www.virtuelle-ph.at/veranstaltung/electure-die-digital-level-up-licence-im-fachunterricht-der-5-und-6-schulstufe-level-2/
CATEGORIES:eLecture,Reihe DigitalLevelUp
END:VEVENT
END:VCALENDAR