BEGIN:VCALENDAR
VERSION:2.0
PRODID:-//Virtuelle PH - ECPv6.6.4.2//NONSGML v1.0//EN
CALSCALE:GREGORIAN
METHOD:PUBLISH
X-ORIGINAL-URL:https://www.virtuelle-ph.at
X-WR-CALDESC:Veranstaltungen für Virtuelle PH
REFRESH-INTERVAL;VALUE=DURATION:PT1H
X-Robots-Tag:noindex
X-PUBLISHED-TTL:PT1H
BEGIN:VTIMEZONE
TZID:Europe/Vienna
BEGIN:DAYLIGHT
TZOFFSETFROM:+0100
TZOFFSETTO:+0200
TZNAME:CEST
DTSTART:20220327T010000
END:DAYLIGHT
BEGIN:STANDARD
TZOFFSETFROM:+0200
TZOFFSETTO:+0100
TZNAME:CET
DTSTART:20221030T010000
END:STANDARD
END:VTIMEZONE
BEGIN:VEVENT
DTSTART;TZID=Europe/Vienna:20220201T150000
DTEND;TZID=Europe/Vienna:20220201T163000
DTSTAMP:20260425T151557
CREATED:20211115T153409Z
LAST-MODIFIED:20220202T101613Z
UID:10003960-1643727600-1643733000@www.virtuelle-ph.at
SUMMARY:digiPH5 Hop on\, Hop off: Lernraumarchitektur on- und offline
DESCRIPTION:zur Aufzeichnung\n    \n\n						In diesem Format können Sie flexibel „auf- und abspringen“! Mehrere Expert_innen geben einen kurzen Input und stehen dann jeweils in einem eigenen Breakoutroom zum Vertiefen und Nachfragen bereit! Diese Vortragenden geben Input rund ums Überthema Lernraumarchitektur on- und offline und stehen im Anschluss in Breakout Rooms für Vertiefung und Fragen zur Verfügung:  \nKatrin Schillinger (HAW Hamburg): Räume der Zukunft: Anforderungen und Perspektiven für eine strategische Ausrichtung  \nZukunftsfähige Lernraumarchitekturen spielen an Hochschulen noch keine flächendeckende strategische Rolle. Als eine der ersten Hochschulen haben wir an der HAW Hamburg eine Lernraumstrategie entwickelt\, um das Thema strategisch zu verankern. Dynamik und Flexibilität sind mit eingebaut: Die Strategie ist als Beta-Version konzipiert\, die in weiteren Partizipationsprozessen rollierend weiterentwickelt wird. Im Beitrag geht es um die 6 Anforderungen\, die die Lernraumstrategie prägen – natürlich auch beeinflusst durch Erfahrungen aus der Corona-Zeit. Darauf aufbauend werden die vier Dimensionen der HAW-Lernraumstrategie skizziert.  \nElke Szalai (Planung & Vielfalt): Vielfältige Räume zum Lehren  \nRäume sind eine relevante Kategorie um Lehre anregend für unterschiedliche soziale Grupen (Alter\, Herkunft\, Geschlecht\, Zugang zu digitalen Räumen\, …) zu gestalten. Die Verschränkung von digitalen und analogen Räumen ermöglicht die Vielfalt an Lernräumen zu erhöhen und damit für unterschiedliche Lernmöglichkeiten zu sorgen. Welche Erfolgsfaktoren sind speziell bei hybriden Veranstaltungen zu beachten?  Es sollen Erkenntnisse der eigenen Lehre in Bezug zu Forschungsergebnissen vorgestellt werden und eigene erfolgreiche räumliche Settings in Bezug auf Themen und Methoden/Toolwahl diskutiert und auch ausprobiert werden. Die räumliche Dimension im Rahmen der Tagung fließt ebenso in den Beitrag ein\, die alle Teilnehmenden mitgestalten werden.  \nMario Vötsch & Gerlinde Schwabl (PH Tirol): Kooperatives Lernen im virtuellen Raum: Welche Potentiale haben studentische Gruppenarbeiten in Breakout-Rooms?  \nDer vorliegende Beitrag untersucht die Potentiale und Probleme des kooperativen Lernens in virtuellen Räumen anhand des Instruments der Breakout-Rooms. Er stellt die Ergebnisse einer qualitativen Erhebung vor\, in der Studierende und Dozierende eines berufspädagogischen Masterstudiengangs über ihre virtuellen Lern- und Lehrerfahrungen befragt werden. Die zentrale Fragestellung lautet\, wie sich Breakout-Rooms auf die Motivation der Teilnehmenden auswirken und ob die Nutzung verteilter Ressourcen ihre Effizienz und Problemlösungskapazität erhöht… \nThomas Schöftner & Petra Traxler (PHDL): Nationaler Hochschullehrgang – blended virtuell  \nDie Rahmenbedingungen rund um die CORONA-Pandemie erforderten auch in der Weiterbildung neue Strukturen und didaktische Methoden. So wurde der Hochschullehrgang „“Sozialwissenschaftliche Forschungsmethoden““ mit einem „blended virtuellen“ Konzept versehen. Dabei wechselten sich virtuelle synchrone Lehrveranstaltungsblockungen mit asynchron begleiteten Lehrveranstaltungsteilen ab. Der Kurzinput soll einen Einblick darüber geben\, wie ein Hochschullehrgang für Lehrende und Studierende der Weiterbildung gewinnbringend konzipiert werden kann.  \nCoModeration: Sabrina Gerth \n\nExpert_in: Mario Vötsch\, Elke Szalai\, Thomas Schöftner\, Petra Traxler\, Katrin Schillinger\, Gerlinde Schwabl \n\n\n			\n				\n			\n			Teilnahmekriterien & Info\n		 \n		\n			Lernziele\n		 \n		\n			Voraussetzungen\n		\n		 \n		\n			\n				\n					\n			So treten Sie der Veranstaltung im virtuellen Lernraum bei: \n1. Rufen Sie 5-10 min vor Terminstart den Link zum Virtuellen Lernraum auf: \nvirtuelle-ph-at.zoom.us/my/virtuelleph.electuredrei \n2. Geben Sie bitte Ihren vollen Namen ein und klicken Sie den Button „Einem Meeting Beitreten“.                              \n3. Klicken Sie dann auch den grünen Button „Per Computer dem Audio beitreten“ an.\nDas bewirkt\, dass Sie uns hören und sehen können. Sie werden in Kürze eingelassen. \nDie Teilnahme an allen Veranstaltungen der Virtuellen PH ist für österreichische Hochschullehrende\, Lehrkräfte und Studierende eines Lehramts kostenlos.\n		 \n		\n			# Orientierung bezüglich aktueller Hochschulbildungsthemen mit Fokus auf die Lernraumarchitektur on/offline gewinnen \n# Trends in der digitalen Hochschullehre kennenlernen \n# In Austausch und Vernetzung mit Hochschulkolleg_innen kommen
URL:https://www.virtuelle-ph.at/veranstaltung/digiph5-hop-on-hop-off-lernraumarchitektur-on-und-offline/
CATEGORIES:eLecture,NonSync Ref,Online-Tagung digiPH5 EL
ATTACH;FMTTYPE=image/png:https://www.virtuelle-ph.at/wp-content/uploads/2021/11/04-hoponoff-lernraumarchitektur.png
END:VEVENT
END:VCALENDAR