BEGIN:VCALENDAR
VERSION:2.0
PRODID:-//Virtuelle PH - ECPv6.6.4.2//NONSGML v1.0//EN
CALSCALE:GREGORIAN
METHOD:PUBLISH
X-ORIGINAL-URL:https://www.virtuelle-ph.at
X-WR-CALDESC:Veranstaltungen für Virtuelle PH
REFRESH-INTERVAL;VALUE=DURATION:PT1H
X-Robots-Tag:noindex
X-PUBLISHED-TTL:PT1H
BEGIN:VTIMEZONE
TZID:Europe/Berlin
BEGIN:DAYLIGHT
TZOFFSETFROM:+0100
TZOFFSETTO:+0200
TZNAME:CEST
DTSTART:20180325T010000
END:DAYLIGHT
BEGIN:STANDARD
TZOFFSETFROM:+0200
TZOFFSETTO:+0100
TZNAME:CET
DTSTART:20181028T010000
END:STANDARD
END:VTIMEZONE
BEGIN:VEVENT
DTSTART;TZID=Europe/Berlin:20180605T160000
DTEND;TZID=Europe/Berlin:20180605T170000
DTSTAMP:20260420T160914
CREATED:20180515T064934Z
LAST-MODIFIED:20180606T080934Z
UID:10002890-1528214400-1528218000@www.virtuelle-ph.at
SUMMARY:eLecture: digi.DaZ & digi.MU – Deutsch-als-Zweitsprache- und Muttersprachlicher Unterricht online
DESCRIPTION:zur Aufzeichnung \n\n\n						Unter anderem durch die Flüchtlingsbewegung des Jahres 2015 sind Lernende mit anderen Erstsprachen als Deutsch auch an periphere Schulen gekommen\, in denen auf Grund niedriger Zahlen kein Deutsch-als-Zweitsprache bzw. Muttersprachlicher Unterricht für diese Lernenden angeboten werden kann. Hier setzt das in Kooperation zwischen dem Land Steiermark\, dem Landesschulrat für Steiermark und der Pädagogischen Hochschule durchgeführte Projekt digi.DaZ & digi.MU an\, bei dem Lernenden an peripheren Schulen Deutsch als Zweitsprache (und zukünftig auch Muttersprachlicher Unterricht) durch digital unterstützen Distanzunterricht mit Tablets vermittelt wird. Begleitend werden Lernformate entwickelt\, Lehrende geschult und in einem Forschungsprojekt die Eignung der Infrastruktur und der gewählten Formate für den Projektzweck evaluiert.  \nHS-Prof. Univ.-Doz. Mag. Dr. Klaus-Börge Boeckmann\, Hochschulprofessor für Mehrsprachigkeit und Deutsch als Zweitsprache\, beschäftigt sich seit Jahren mit Innovation im Sprachenunterricht und der Hochschullehre\, unter anderem mit e-learning bzw. digital unterstütztem Unterricht. Er hat die Entwicklung des  Projekts digi.DaZ & digi.MU wissenschaftlich begleitet und leitet das „Begleitforschungsprojekt digi.DaZ“ an der Pädagogischen Hochschule Steiermark. \nNach einer kurzen Vorstellung der Projektstruktur und der Projektziele wird dieser Beitrag den konkreten Ablauf des digitalen Distanzunterrichts demonstrieren und verschiedene Problembereiche des digitalen Unterrichtens an einigen Beispielen näher unter die Lupe nehmen. Abschließend soll eine vorläufige Bilanz des Projekts gezogen und eine Reihe von Empfehlungen für Folgeprojekte formuliert werden. \nCoModeration: Thomas Winkler \n\n			\n				\n			\n			Teilnahmekriterien & Info\n		 \n		\n			Lernziele\n		 \n		\n			Voraussetzungen\n		\n		 \n		\n			\n				\n					\n			Technische Voraussetzungen: Grundlegende Computerkenntnisse\, gute Internetverbindung; optional: Headset. \nSo treten Sie der eLecture im virtuellen Lernraum bei:  \n1. Rufen Sie 10 min vor Terminstart folgende Seite auf:  \nvph.adobeconnect.com/zwei/ \n2. Geben Sie bitte Ihren Vor- und Nachnamen ein und „Betreten Sie den Raum“ mit Klick auf den Button. \n3. Folgen Sie den Anweisungen auf dem Bildschirm. Sie werden in Kürze eingelassen. \nWenn Sie noch an keiner eLecture teilgenommen haben\, finden Sie alle Infos zum Einstieg unter: www.virtuelle-ph.at/electures/#einstieg \nDie Teilnahme an allen eLectures der Virtuellen PH ist für österreichische Lehrkräfte und Studierende eines Lehramts kostenlos.\n		 \n		\n			\nDas Projekt digi.DaZ& digi.MU kennen lernen\n\nEinblicke in die Chancen und Probleme digital unterstützten Distanzunterrichts gewinnen\n\nQualitätskriterien und Minimalanforderungen für die Planung und Durchführung digitalen Distanzunterrichts reflektieren
URL:https://www.virtuelle-ph.at/veranstaltung/electure-digi-daz-digi-mu-deutsch-als-zweitsprache-und-muttersprachlicher-unterricht-online/
CATEGORIES:eLecture,Reihe Speziell für PH Lehrende empfohlen
END:VEVENT
END:VCALENDAR