BEGIN:VCALENDAR
VERSION:2.0
PRODID:-//Virtuelle PH - ECPv6.6.4.2//NONSGML v1.0//EN
CALSCALE:GREGORIAN
METHOD:PUBLISH
X-ORIGINAL-URL:https://www.virtuelle-ph.at
X-WR-CALDESC:Veranstaltungen für Virtuelle PH
REFRESH-INTERVAL;VALUE=DURATION:PT1H
X-Robots-Tag:noindex
X-PUBLISHED-TTL:PT1H
BEGIN:VTIMEZONE
TZID:Europe/Berlin
BEGIN:DAYLIGHT
TZOFFSETFROM:+0100
TZOFFSETTO:+0200
TZNAME:CEST
DTSTART:20160327T010000
END:DAYLIGHT
BEGIN:STANDARD
TZOFFSETFROM:+0200
TZOFFSETTO:+0100
TZNAME:CET
DTSTART:20161030T010000
END:STANDARD
BEGIN:DAYLIGHT
TZOFFSETFROM:+0100
TZOFFSETTO:+0200
TZNAME:CEST
DTSTART:20170326T010000
END:DAYLIGHT
BEGIN:STANDARD
TZOFFSETFROM:+0200
TZOFFSETTO:+0100
TZNAME:CET
DTSTART:20171029T010000
END:STANDARD
END:VTIMEZONE
BEGIN:VEVENT
DTSTART;TZID=Europe/Berlin:20170403T170000
DTEND;TZID=Europe/Berlin:20170403T180000
DTSTAMP:20260420T114354
CREATED:20170228T093907Z
LAST-MODIFIED:20170403T133259Z
UID:10002494-1491238800-1491242400@www.virtuelle-ph.at
SUMMARY:ZLS eLecture: Kompetenzorientierter Unterricht in Biologie
DESCRIPTION:CoModeration: Josef Buchner \nDas Kompetenzmodell in Biologie stellt hohe Anforderung an die lehrenden Personen. In dieser e-lecture wird das Kompetenzmodell Schritt für Schritt analysiert. Dabei werden zu jedem Teilbereich Beispiele präsentiert\, die sich sowohl zum Erlernen und Erarbeiten der jeweiligen Kompetenz eignen\, als auch zur Überprüfung. \n\n			\n				\n			\n			Teilnahmekriterien & Info\n		 \n		\n			Lernziele\n		 \n		\n			Voraussetzungen\n		\n		 \n		\n			\n				\n					\n			Technische Voraussetzungen: Grundlegende Computerkenntnisse\, gute Internetverbindung; optional: Headset.  \nSo treten Sie der eLecture im virtuellen Lernraum bei:  \n1. Rufen Sie 10 min vor Terminstart folgende Seite auf:  \nvph.adobeconnect.com/zls/ \n2. Geben Sie bitte Ihren Vor- und Nachnamen ein und „Betreten Sie den Raum“ mit Klick auf den Button. \n3. Folgen Sie den Anweisungen auf dem Bildschirm. Sie werden in Kürze eingelassen. \nWenn Sie noch an keiner eLecture teilgenommen haben\, finden Sie alle Infos zum Einstieg unter:\nwww.virtuelle-ph.at/electures/#einstieg \nDie Teilnahme an allen eLectures der Virtuellen PH ist für österreichische Lehrkräfte und Studierende eines Lehramts kostenlos.\n		 \n		\n			Die TeilnehmerInnen sollen\n# das Kompetenzmodell Biologie verstehen\n# Aufgaben den Bereichen des Kompetenzmodells zuordnen können\n# eine gute Auswahl an Beispiele für ihren Unterricht treffen können
URL:https://www.virtuelle-ph.at/veranstaltung/zls-electure-kompetenzorientierter-unterricht-in-biologie-2/
CATEGORIES:eLecture
END:VEVENT
BEGIN:VEVENT
DTSTART;TZID=Europe/Berlin:20170321T170000
DTEND;TZID=Europe/Berlin:20170321T180000
DTSTAMP:20260420T114354
CREATED:20170206T091656Z
LAST-MODIFIED:20170321T033544Z
UID:10002433-1490115600-1490119200@www.virtuelle-ph.at
SUMMARY:ZLS eLecture: Flexible Differenzierung - was bedeutet das? Wie gehe ich es an?
DESCRIPTION:CoModeration: Josef Buchner \nFlexible Differenzierung stellt eine große Herausforderung für die Lehrperson dar.  \nIn dieser e-lecture soll\n# das Differenzierungsmodell von Tomlinson vorgestellt und erklärt\,\n# mögliche erste Schritte in der Umsetzung gezeigt und \n# einige Tools und Umsetzungsmöglichkeiten diskutiert werden. \n\n			\n				\n			\n			Teilnahmekriterien & Info\n		 \n		\n			Lernziele\n		 \n		\n			Voraussetzungen\n		\n		 \n		\n			\n				\n					\n			Technische Voraussetzungen: Grundlegende Computerkenntnisse\, gute Internetverbindung; optional: Headset.  \nSo treten Sie der eLecture im virtuellen Lernraum bei:  \n1. Rufen Sie 10 min vor Terminstart folgende Seite auf:  \nvph.adobeconnect.com/zls/ \n2. Geben Sie bitte Ihren Vor- und Nachnamen ein und „Betreten Sie den Raum“ mit Klick auf den Button. \n3. Folgen Sie den Anweisungen auf dem Bildschirm. Sie werden in Kürze eingelassen. \nWenn Sie noch an keiner eLecture teilgenommen haben\, finden Sie alle Infos zum Einstieg unter:\nwww.virtuelle-ph.at/electures/#einstieg \nDie Teilnahme an allen eLectures der Virtuellen PH ist für österreichische Lehrkräfte und Studierende eines Lehramts kostenlos.\n		 \n		\n			Die TeilnehmerInnen sollen\n# verstehen was flexible Differenzierung bedeutet\n# die gesetzlichen Bestimmungen bzgl. Differenzierung kennen\n# erste Umsetzungsmöglichkeiten für ihren eigenen Unterricht planen können
URL:https://www.virtuelle-ph.at/veranstaltung/zls-electure-flexible-differenzierung-was-bedeutet-das-wie-gehe-ich-es-an/
CATEGORIES:eLecture
END:VEVENT
BEGIN:VEVENT
DTSTART;TZID=Europe/Berlin:20160411T180000
DTEND;TZID=Europe/Berlin:20160411T190000
DTSTAMP:20260420T114354
CREATED:20160419T102408Z
LAST-MODIFIED:20160419T102408Z
UID:10002239-1460397600-1460401200@www.virtuelle-ph.at
SUMMARY:ZLS eLecture: Biologie kompetenzorientiert Unterrichten 
DESCRIPTION:Kompetenzorientierte Beispiele für den Biologieunterricht werden besprochen. \n\n			\n				\n			\n			Teilnahmekriterien & Info\n		 \n		\n			Lernziele\n		 \n		\n			Voraussetzungen\n		\n		 \n		\n			\n				\n					\n			Technische Voraussetzungen: Grundlegende Computerkenntnisse\, gute Internetverbindung\, empfehlenswert: Headset. \nBitte finden Sie sich etwa 10 Minuten vor Start der eLecture im virtuellen Seminarraum unter diesem Link ein:  proj.adobeconnect.com/zls/  \nWichtige Hinweise zum Besuch einer eLecture unter: www.virtuelle-ph.at/electures-info \nÜber diesen Link können Sie testen\, ob Ihr Computer optimal für den eLectures-Besuch vorbereitet ist\, und vorgeschlagene Aktualisierungen vornehmen: admin.adobeconnect.com/common/help/de/support/meeting_test.htm \nWenn Sie ein Headset besitzen\, stecken Sie es bitte an bevor Sie den Adobe Connect-Raum betreten. \nDie Teilnahme an allen eLectures der Virtuellen PH ist für österreichische Lehrkräfte und Studierende eines Lehramts kostenlos.\n		 \n		\n			Kompetenzorientierte Aufgaben in Biologie erkennen und erstellen können.
URL:https://www.virtuelle-ph.at/veranstaltung/zls-electure-biologie-kompetenzorientiert-unterrichten/
CATEGORIES:eLecture
END:VEVENT
BEGIN:VEVENT
DTSTART;TZID=Europe/Berlin:20160314T190000
DTEND;TZID=Europe/Berlin:20160314T200000
DTSTAMP:20260420T114354
CREATED:20160419T102411Z
LAST-MODIFIED:20160419T102411Z
UID:10002234-1457982000-1457985600@www.virtuelle-ph.at
SUMMARY:ZLS eLecture: Teaching and Assessing Listening - Hörkompetenz im Fremdsprachenunterricht aufbauen und überprüfen
DESCRIPTION:Welche Hörstrategien sollen die Schüler erwerben\, mit welchen Aufgabenstellungen kann man diese trainieren und wie kann die Hörkompetenz gemessen werden\, sodass sie als gleichwertiger Bereich in die Beurteilungen eingehen kann. \n\n			\n				\n			\n			Teilnahmekriterien & Info\n		 \n		\n			Lernziele\n		 \n		\n			Voraussetzungen\n		\n		 \n		\n			\n				\n					\n			Technische Voraussetzungen: Grundlegende Computerkenntnisse\, gute Internetverbindung\, empfehlenswert: Headset. \nBitte finden Sie sich etwa 10 Minuten vor Start der eLecture im virtuellen Seminarraum unter diesem Link ein:  proj.adobeconnect.com/zls/  \nWichtige Hinweise zum Besuch einer eLecture unter: www.virtuelle-ph.at/electures-info \nÜber diesen Link können Sie testen\, ob Ihr Computer optimal für den eLectures-Besuch vorbereitet ist\, und vorgeschlagene Aktualisierungen vornehmen: admin.adobeconnect.com/common/help/de/support/meeting_test.htm \nWenn Sie ein Headset besitzen\, stecken Sie es bitte an bevor Sie den Adobe Connect-Raum betreten. \nDie Teilnahme an allen eLectures der Virtuellen PH ist für österreichische Lehrkräfte und Studierende eines Lehramts kostenlos.\n		 \n		\n			Höraufgaben erstellen und mit Hilfe von Skalen bewerten können.
URL:https://www.virtuelle-ph.at/veranstaltung/zls-electure-teaching-and-assessing-listening-hoerkompetenz-im-fremdsprachenunterricht-aufbauen-und-ueberpruefen/
CATEGORIES:eLecture
END:VEVENT
BEGIN:VEVENT
DTSTART;TZID=Europe/Berlin:20160310T150000
DTEND;TZID=Europe/Berlin:20160310T160000
DTSTAMP:20260420T114354
CREATED:20160419T102240Z
LAST-MODIFIED:20160419T102240Z
UID:10002212-1457622000-1457625600@www.virtuelle-ph.at
SUMMARY:ZLS eLecture: Teaching and Assessing Reading - Lesekompetenz im Fremdsprachenunterricht aufbauen und überprüfen
DESCRIPTION:Welche Lesestrategien sollen die Schüler erwerben\, mit welchen Aufgabenstellungen kann man diese trainieren und wie kann die Hörkompetenz gemessen werden\, sodass sie als gleichwertiger Bereich in die Beurteilungen eingehen kann. \n\n			\n				\n			\n			Teilnahmekriterien & Info\n		 \n		\n			Lernziele\n		 \n		\n			Voraussetzungen\n		\n		 \n		\n			\n				\n					\n			Technische Voraussetzungen: Grundlegende Computerkenntnisse\, gute Internetverbindung\, empfehlenswert: Headset. \nBitte finden Sie sich etwa 10 Minuten vor Start der eLecture im virtuellen Seminarraum unter diesem Link ein:  proj.adobeconnect.com/zls/  \nWichtige Hinweise zum Besuch einer eLecture unter: www.virtuelle-ph.at/electures-info \nÜber diesen Link können Sie testen\, ob Ihr Computer optimal für den eLectures-Besuch vorbereitet ist\, und vorgeschlagene Aktualisierungen vornehmen: admin.adobeconnect.com/common/help/de/support/meeting_test.htm \nWenn Sie ein Headset besitzen\, stecken Sie es bitte an bevor Sie den Adobe Connect-Raum betreten. \nDie Teilnahme an allen eLectures der Virtuellen PH ist für österreichische Lehrkräfte und Studierende eines Lehramts kostenlos.\n		 \n		\n			Leseaufgaben erstellen und mit Hilfe von Skalen bewerten können.
URL:https://www.virtuelle-ph.at/veranstaltung/zls-electure-teaching-and-assessing-reading-lesekompetenz-im-fremdsprachenunterricht-aufbauen-und-ueberpruefen/
CATEGORIES:eLecture
END:VEVENT
END:VCALENDAR