BEGIN:VCALENDAR
VERSION:2.0
PRODID:-//Virtuelle PH - ECPv6.6.4.2//NONSGML v1.0//EN
CALSCALE:GREGORIAN
METHOD:PUBLISH
X-ORIGINAL-URL:https://www.virtuelle-ph.at
X-WR-CALDESC:Veranstaltungen für Virtuelle PH
REFRESH-INTERVAL;VALUE=DURATION:PT1H
X-Robots-Tag:noindex
X-PUBLISHED-TTL:PT1H
BEGIN:VTIMEZONE
TZID:Europe/Berlin
BEGIN:DAYLIGHT
TZOFFSETFROM:+0100
TZOFFSETTO:+0200
TZNAME:CEST
DTSTART:20200329T010000
END:DAYLIGHT
BEGIN:STANDARD
TZOFFSETFROM:+0200
TZOFFSETTO:+0100
TZNAME:CET
DTSTART:20201025T010000
END:STANDARD
END:VTIMEZONE
BEGIN:VEVENT
DTSTART;TZID=Europe/Berlin:20200603T190000
DTEND;TZID=Europe/Berlin:20200603T200000
DTSTAMP:20260420T141235
CREATED:20200128T093422Z
LAST-MODIFIED:20200604T061947Z
UID:10003234-1591210800-1591214400@www.virtuelle-ph.at
SUMMARY:eLecture: Computational Thinking mit micro:bit - praktische Beispiele und Tipps zum OER Schulbuch und DLPL Sek 1 (Beispiele 7\, 20\, 15)
DESCRIPTION:zur Aufzeichnung\n\n\n						Unterstützend zur Umsetzung der Digitalen Grundbildung in der Sekundarstufe 1 wurde von einem Autor_innenteam das OER-Schulbuch zu Computational Thinking (CT) mit dem BBC micro:bit erstellt. Das Konzept des Buches fordert die Lernenden und Lehrenden dazu auf\, selbst auf die Suche nach Lösungen zu gehen und CT durch Anfassen\, Angreifen und Ausprobieren zu erfahren.  In dieser eLecture werden zwei von 22 Unterrichtsbeispielen genauer besprochen und die Hintergründe beleuchtet. \n So werden etwa im ersten Beispiel Kopfhörer gehackt und besprochen\, wie mit wenigen Handgriffen\, Krokodilklemmen (oder Draht oder Alufolie) mit dem micro:bit Sound erzeugt werden kann. \nSchere – Stein – Papier kennt und liebt jedes Kind.  Aber mit den micro:bit-Version – garantiert schummelfrei! – sind auch Teenies zu begeistern. Die eLecture soll den nötigen Hintergrund liefern\,  um nicht nur das  perfekte Wearable zu gestalten  – auch das Spiel mit dem  Code lädt dazu ein\, neue Ideen zu finden.  \nErfahrungen aus dem ersten Jahr „Kreative Projekte mit dem BBC micro:bit – Maker Space für Schüler*innen im Mutterschiff“ sind ebenso Inhalt diese eLecture wie Tipps und Tricks zur Umsetzung im Unterricht.  \nDiese eLecture ist für Sie interessant\, wenn Sie\n# auf der Suche nach Projekt- und Bastelideen mit dem micro:bit sind\n# bereits erste\, einfache Projekte mit dem micro:bit umgesetzt haben\n# fächerübergreifend oder fachfremd mit dem micro:bit arbeiten möchten und  \nCoModeration: Daniel Handle-Pfeiffer  \n\nExpert_in: Leonie DreherTobias Gruber \n\n\n			\n				\n			\n			Teilnahmekriterien & Info\n		 \n		\n			Lernziele\n		 \n		\n			Voraussetzungen\n		\n		 \n		\n			\n				\n					\n			Technische Voraussetzungen: Grundlegende Computerkenntnisse\, gute Internetverbindung; optional: Headset.  \nSo treten Sie der eLecture im virtuellen Lernraum bei:  \n1. Rufen Sie 10 min vor Terminstart folgende Seite auf:  \nvph.adobeconnect.com/drei/ \n2. Geben Sie bitte Ihren Vor- und Nachnamen ein und „Betreten Sie den Raum“ mit Klick auf den Button. \n3. Folgen Sie den Anweisungen auf dem Bildschirm. Sie werden in Kürze eingelassen. \nWenn Sie noch an keiner eLecture teilgenommen haben\, finden Sie alle Infos zum Einstieg unter: www.virtuelle-ph.at/electures/#einstieg \nDie Teilnahme an allen eLectures der Virtuellen PH ist für österreichische Lehrkräfte und Studierende eines Lehramts kostenlos.\n		 \n		\n			Die Teilnehmer*innen sollen \n\n    aufbauend auf den Grundlagen der micro:bit-Programmierung Beispiele für den Einsatz im Unterricht kennenlernen\n      fächerübergreifende\, projektorientierte Unterrichtbeispiele kennenlernen und solche im Kurs erproben können
URL:https://www.virtuelle-ph.at/veranstaltung/electure-computational-thinking-mit-microbit-praktische-beispiele-und-tipps-zum-oer-schulbuch-und-dlpl-sek-1-beispiel-7-20-15/
CATEGORIES:eLecture,Reihe microbit
END:VEVENT
END:VCALENDAR