BEGIN:VCALENDAR
VERSION:2.0
PRODID:-//Virtuelle PH - ECPv6.6.4.2//NONSGML v1.0//EN
CALSCALE:GREGORIAN
METHOD:PUBLISH
X-ORIGINAL-URL:https://www.virtuelle-ph.at
X-WR-CALDESC:Veranstaltungen für Virtuelle PH
REFRESH-INTERVAL;VALUE=DURATION:PT1H
X-Robots-Tag:noindex
X-PUBLISHED-TTL:PT1H
BEGIN:VTIMEZONE
TZID:Europe/Berlin
BEGIN:DAYLIGHT
TZOFFSETFROM:+0100
TZOFFSETTO:+0200
TZNAME:CEST
DTSTART:20170326T010000
END:DAYLIGHT
BEGIN:STANDARD
TZOFFSETFROM:+0200
TZOFFSETTO:+0100
TZNAME:CET
DTSTART:20171029T010000
END:STANDARD
END:VTIMEZONE
BEGIN:VEVENT
DTSTART;TZID=Europe/Berlin:20170919T163000
DTEND;TZID=Europe/Berlin:20170919T173000
DTSTAMP:20260420T225634
CREATED:20170711T120731Z
LAST-MODIFIED:20170927T095653Z
UID:10002616-1505838600-1505842200@www.virtuelle-ph.at
SUMMARY:eLecture: Cartoon Workshop - Ein Online Abenteuer (WH)
DESCRIPTION:Kreatives Schreiben\, Schreibwerkstätte: Lehrkräfte lassen sich viel einfallen\, damit die Motivation beim wiederholten Geschichtenschreiben nicht verloren geht. Die Kinder sind schnell abgelenkt und schon ist der Inhalt vergessen\, die Konzentration weg und manche sind sogar verzweifelt. Das Erstellen von Comics\, vor allem am Tablet/Laptop\, ist dagegen sehr spannend und besonders für lernschwache Kinder geeignet. \nManuela Heindl ist erfahrene Volks- und Hauptschullehrerin\, die auch Nachmittags-\, Förder- und Sommerkurse mit Spaßfaktor anbietet. \nAnwendbar ist die hier vorgestellte Methode im Deutsch-\, Englisch-\, DaZ-\, aber auch in jedem anderen Gegenstand. \nZuerst werden verschiedene Apps für den Geschichtenaufbau präsentiert. Wir werden eine Geschichte bzw. Zusammenfassung in einem Nebengegenstand verfassen und diese dann online stellen. Nach der praxisnahen Experimentierphase werden Reflexionen über den Transfer in die jeweiligen Schulstufen besprochen. Darüber hinaus bietet diese eLecture einfache Tipps und Tricks für den Aufbau und der Gestaltung von Geschichten. Zu den Skizzen\, Drehbuchentwürfen und Szenen gibt es auch noch viele weitere Materialien zu diesem Thema zum Download. \nDiese eLecture ist für Sie interessant\, wenn \n# Sie neue Methoden fürs Festigenn von Lerninhalte nutzen lernen möchten \n# Sie Ihren eigenen Lehrinhalt spannender präsentieren wollen \n# Sie lernen möchten\, wie Sie Comics online gestalten können \nCoModeration: Elisabeth Eder-Janca \n\n			\n				\n			\n			Teilnahmekriterien & Info\n		 \n		\n			Lernziele\n		 \n		\n			Voraussetzungen\n		\n		 \n		\n			\n				\n					\n			Technische Voraussetzungen: Grundlegende Computerkenntnisse\, gute Internetverbindung; optional: Headset. \nSo treten Sie der eLecture im virtuellen Lernraum bei: \n1. Rufen Sie 10 min vor Terminstart folgende Seite auf: \nvph.adobeconnect.com/zwei/ \n2. Geben Sie bitte Ihren Vor- und Nachnamen ein und „Betreten Sie den Raum“ mit Klick auf den Button. \n3. Folgen Sie den Anweisungen auf dem Bildschirm. Sie werden in Kürze eingelassen. \nWenn Sie noch an keiner eLecture teilgenommen haben\, finden Sie alle Infos zum Einstieg unter: www.virtuelle-ph.at/electures/#einstieg \nDie Teilnahme an allen eLectures der Virtuellen PH ist für österreichische Lehrkräfte und Studierende eines Lehramts kostenlos.\n		 \n		\n			# Lerninhalt spannend aufbereiten können \n# Onlineprogramme für Comics im Unterricht nutzen können \n# Umgang mit Geschichten anhand von Comics positiv für Schülerinnen gestalten können
URL:https://www.virtuelle-ph.at/veranstaltung/electure-cartoon-workshop-ein-online-abenteuer-wh/
CATEGORIES:eLecture
END:VEVENT
BEGIN:VEVENT
DTSTART;TZID=Europe/Berlin:20170706T180000
DTEND;TZID=Europe/Berlin:20170706T190000
DTSTAMP:20260420T225634
CREATED:20170516T154419Z
LAST-MODIFIED:20170706T033310Z
UID:10002550-1499364000-1499367600@www.virtuelle-ph.at
SUMMARY:eLecture: Cartoon Workshop - Ein Online Abenteuer
DESCRIPTION:CoModeration: Walter Fikisz \nKreatives Schreiben\, Schreibwerkstätte: Lehrkräfte lassen sich viel einfallen\, damit die Motivation beim wiederholten Geschichtenschreiben nicht verloren geht. Die Kinder sind schnell abgelenkt und schon ist der Inhalt vergessen\, die Konzentration weg und manche sind sogar verzweifelt. Das Erstellen von Comics\, vor allem am Tablet/Laptop\, ist dagegen sehr spannend und besonders für lernschwache Kinder geeignet. \nManuela Heindl ist erfahrene Volks- und Hauptschullehrerin\, die auch Nachmittags-\, Förder- und Sommerkurse mit Spaßfaktor anbietet. \nAnwendbar ist die hier vorgestellte Methode im Deutsch-\, Englisch-\, DaZ-\, aber auch in jedem anderen Gegenstand.  \nZuerst werden verschiedene Apps für den Geschichtenaufbau präsentiert. Wir werden eine Geschichte bzw. Zusammenfassung in einem Nebengegenstand verfassen und diese dann online stellen. Nach der praxisnahen Experimentierphase werden Reflexionen über den Transfer in die jeweiligen Schulstufen besprochen. Darüber hinaus bietet diese eLecture einfache Tipps und Tricks für den Aufbau und der Gestaltung von Geschichten. Zu den Skizzen\, Drehbuchentwürfen und Szenen gibt es auch noch viele weitere Materialien zu diesem Thema zum Download.  \nDiese eLecture ist für Sie interessant\, wenn \n# Sie neue Methoden fürs Festigenn von Lerninhalte nutzen lernen möchten \n# Sie Ihren eigenen Lehrinhalt spannender präsentieren wollen \n# Sie lernen möchten\, wie Sie Comics online gestalten können \n\n			\n				\n			\n			Teilnahmekriterien & Info\n		 \n		\n			Lernziele\n		 \n		\n			Voraussetzungen\n		\n		 \n		\n			\n				\n					\n			Technische Voraussetzungen: Grundlegende Computerkenntnisse\, gute Internetverbindung; optional: Headset.  \nSo treten Sie der eLecture im virtuellen Lernraum bei:  \n1. Rufen Sie 10 min vor Terminstart folgende Seite auf:  \nvph.adobeconnect.com/vier/ \n2. Geben Sie bitte Ihren Vor- und Nachnamen ein und „Betreten Sie den Raum“ mit Klick auf den Button. \n3. Folgen Sie den Anweisungen auf dem Bildschirm. Sie werden in Kürze eingelassen. \nWenn Sie noch an keiner eLecture teilgenommen haben\, finden Sie alle Infos zum Einstieg unter:\nwww.virtuelle-ph.at/electures/#einstieg \nDie Teilnahme an allen eLectures der Virtuellen PH ist für österreichische Lehrkräfte und Studierende eines Lehramts kostenlos.\n		 \n		\n			# Lerninhalt spannend aufbereiten können \n# Onlineprogramme für Comics im Unterricht nutzen können \n# Umgang mit Geschichten anhand von Comics positiv für Schülerinnen gestalten können
URL:https://www.virtuelle-ph.at/veranstaltung/electure-cartoon-workshop-ein-online-abenteuer/
CATEGORIES:eLecture
END:VEVENT
END:VCALENDAR