BEGIN:VCALENDAR
VERSION:2.0
PRODID:-//Virtuelle PH - ECPv6.6.4.2//NONSGML v1.0//EN
CALSCALE:GREGORIAN
METHOD:PUBLISH
X-WR-CALNAME:Virtuelle PH
X-ORIGINAL-URL:https://www.virtuelle-ph.at
X-WR-CALDESC:Veranstaltungen für Virtuelle PH
REFRESH-INTERVAL;VALUE=DURATION:PT1H
X-Robots-Tag:noindex
X-PUBLISHED-TTL:PT1H
BEGIN:VTIMEZONE
TZID:Europe/Berlin
BEGIN:DAYLIGHT
TZOFFSETFROM:+0100
TZOFFSETTO:+0200
TZNAME:CEST
DTSTART:20160327T010000
END:DAYLIGHT
BEGIN:STANDARD
TZOFFSETFROM:+0200
TZOFFSETTO:+0100
TZNAME:CET
DTSTART:20161030T010000
END:STANDARD
END:VTIMEZONE
BEGIN:VEVENT
DTSTART;TZID=Europe/Berlin:20160615T170000
DTEND;TZID=Europe/Berlin:20160615T180000
DTSTAMP:20260420T070608
CREATED:20160613T164442Z
LAST-MODIFIED:20160615T033349Z
UID:10002306-1466010000-1466013600@www.virtuelle-ph.at
SUMMARY:eLecture: Unterricht mit eTwinning – so leicht geht’s!
DESCRIPTION:eTwinning ist eine Online-Tool\, das Lehrende und Schulklassen in Europa vernetzt und zur Arbeit in elektronischen Schulpartnerschaften anregt. Marcela Alzin\, eTwinning-Betreuerin der Nationalagentur\, und die Lehrerin Marlene Ruiter-Gangol zeigen Ihnen in dieser eLecture\, wie leicht es ist mit eTwinning zu arbeiten und auch mit Ihrer Klasse ein kleines Projekt zu starten.\nMarlene Ruiter-Gangol\, die eTwinning bereits seit 2010 in ihren Unterricht integriert\, gibt praktische Tipps aus dem Unterricht und zeigt\, was sie mit ihren Schüler_innen gemacht hat. Marcela Alzin steuert ergänzend Informationen aus dem Programm Erasmus+ bei und steht für Rückfragen zur Verfügung. \n\n			\n				\n			\n			Teilnahmekriterien & Info\n		 \n		\n			Lernziele\n		 \n		\n			Voraussetzungen\n		\n		 \n		\n			\n				\n					\n			Technische Voraussetzungen: Grundlegende Computerkenntnisse\, gute Internetverbindung\, empfehlenswert: Headset. \nBitte finden Sie sich etwa 10 Minuten vor Start der eLecture im virtuellen Seminarraum unter diesem Link ein:virtuelle-ph.adobeconnect.com/electures_etwinning/ \nWichtige Hinweise zum Besuch einer eLecture unter: www.virtuelle-ph.at/electures-info \nÜber diesen Link können Sie testen\, ob Ihr Computer optimal für den eLectures-Besuch vorbereitet ist\, und vorgeschlagene Aktualisierungen vornehmen: admin.adobeconnect.com/common/help/de/support/meeting_test.htm \nWenn Sie ein Headset besitzen\, stecken Sie es bitte an bevor Sie den Adobe Connect-Raum betreten. \nDie Teilnahme an allen eLectures der Virtuellen PH ist für österreichische Lehrkräfte und Studierende eines Lehramts kostenlos.\n		 \n		\n			In dieser eLecture lernen Sie\, wie Sie eTwinning in Ihren Unterricht einbauen können und was Ihnen und Ihren Schüler/innen das Twinnen bringt. Optional: Sie können sich auch schon während der eLecture auf eTwinning registrieren.
URL:https://www.virtuelle-ph.at/veranstaltung/electure-unterricht-mit-etwinning-so-leicht-gehts/
CATEGORIES:eLecture
END:VEVENT
END:VCALENDAR