BEGIN:VCALENDAR
VERSION:2.0
PRODID:-//Virtuelle PH - ECPv6.6.4.2//NONSGML v1.0//EN
CALSCALE:GREGORIAN
METHOD:PUBLISH
X-ORIGINAL-URL:https://www.virtuelle-ph.at
X-WR-CALDESC:Veranstaltungen für Virtuelle PH
REFRESH-INTERVAL;VALUE=DURATION:PT1H
X-Robots-Tag:noindex
X-PUBLISHED-TTL:PT1H
BEGIN:VTIMEZONE
TZID:Europe/Berlin
BEGIN:DAYLIGHT
TZOFFSETFROM:+0100
TZOFFSETTO:+0200
TZNAME:CEST
DTSTART:20200329T010000
END:DAYLIGHT
BEGIN:STANDARD
TZOFFSETFROM:+0200
TZOFFSETTO:+0100
TZNAME:CET
DTSTART:20201025T010000
END:STANDARD
END:VTIMEZONE
BEGIN:VEVENT
DTSTART;TZID=Europe/Berlin:20200325T130000
DTEND;TZID=Europe/Berlin:20200325T140000
DTSTAMP:20260420T152245
CREATED:20200323T083037Z
LAST-MODIFIED:20200326T101159Z
UID:10003600-1585141200-1585144800@www.virtuelle-ph.at
SUMMARY:Eduthek eLecture: Eduthek für die Sek1
DESCRIPTION:zur Aufzeichnung\n\n\n						Das  öffentlich zugängliche Portal eduthek.at wurde erst vor Kurzem vom bmbwf vorgestellt . Man findet hier Materialien\, die von Fachdidaktiker*innen ausgewählt wurden\, damit Schüler*innen\, Eltern sowie auch Lehrkräfte hochwertiges Übungsmaterial\, das sich zur eigenständigen Arbeit eignet\, zusätzlich zur Verfügung haben. \nMargit Stockreiter und Margit Pollek sind Redakteurinnen der Eduthek und haben die bereitgestellten Materialien großteils eingepflegt. Beide sind erfahrene AHS- bzw. BHS-Lehrerinnen und kennen viele erprobte eLearning-Szenarien. Margit Stockreiter gehört zum Team von „Ö 1 macht Schule“\, Margit Pollek ist Mitglied im Kernteam des NCoC eEducation und Bundeslandkoordinatorin in Wien. \nGemeinsam mit ihnen machen Sie einen Streifzug durch die Eduthek im Bereich der Sekundarstufe 1 und lernen die bereitgestellten Materialien näher kennen. \nDie Referentinnen zeigen die Struktur\, die hinter der Sortierung der Materialien steht\, erklären die Elemente sowie deren Details und geben Informationen zum Lehrplanbezug und den Inhaltstypen. \nDarüber hinaus bietet diese eLecture einfache Tipps und Tricks für den Umgang mit den Materialien und die deren Nutzung für das eLearning mit Schülerinnen und Schüler der Sekundarstufe 1. \nWeiters widmen sich die Referentinnen auch der Frage: Welche Unterrichtsszenarien aus der eDidaktik sind ohne viel Technikwissen und aufwändigen Tools für den Unterricht empfehlenswert. \nDiese eLecture ist für Sie interessant\, wenn\n# Sie detaillierte Informationen zu den Materialien der Eduthek bekommen und nutzen wollen\n# Sie lernen möchten\, wie Sie mit Ihren Schülerinnen und Schülern mit den Materialien der Eduthek effizient arbeiten können\n# Sie niederschwellige Methoden für die Fernlehre kennen lernen möchten \nCoModeration: Thomas Winkler \n\n			\n				\n			\n			Teilnahmekriterien & Info\n		 \n		\n			Lernziele\n		 \n		\n			Voraussetzungen\n		\n		 \n		\n			\n				\n					\n			So treten Sie der Veranstaltung im virtuellen Lernraum bei:  \n        1. Rufen Sie 5 min vor Terminstart den Link zum Virtuellen Lernraum auf: \n             zoom.us/j/146030422 \n         2. Geben Sie bitte Ihre Email-Adresse und Ihren vollen Namen ein und klicken Sie den Button\n             „Dem Webinar beitreten“. \n         3. Klicken Sie den grünen Button „Per Computer dem Audio beitreten“ an.\n             Das bewirkt\, dass Sie uns hören und sehen können. Sie werden in Kürze eingelassen. \nDie Teilnahme an allen eLectures der Virtuellen PH ist für österreichische Hochschullehrende\, Lehrkräfte und Studierende eines Lehramts kostenlos.\n		 \n		\n			speziell für den eigenen Unterrichtseinsatz geeignete Materialien aus der Eduthek auswählen können\nBest Practice-Beispiele des Einsatzes von Edutheks-Ressourcen im Unterricht kennen\, adaptieren und anwenden können\nden Lernprozess im Distance Learning durch einfache  Tipps und Tricks motivierend gestalten
URL:https://www.virtuelle-ph.at/veranstaltung/eduthek-electure-eduthek-fuer-die-sek1/
CATEGORIES:eLecture,Reihe EL Eduthek
END:VEVENT
END:VCALENDAR