BEGIN:VCALENDAR
VERSION:2.0
PRODID:-//Virtuelle PH - ECPv6.6.4.2//NONSGML v1.0//EN
CALSCALE:GREGORIAN
METHOD:PUBLISH
X-ORIGINAL-URL:https://www.virtuelle-ph.at
X-WR-CALDESC:Veranstaltungen für Virtuelle PH
REFRESH-INTERVAL;VALUE=DURATION:PT1H
X-Robots-Tag:noindex
X-PUBLISHED-TTL:PT1H
BEGIN:VTIMEZONE
TZID:Europe/Berlin
BEGIN:DAYLIGHT
TZOFFSETFROM:+0100
TZOFFSETTO:+0200
TZNAME:CEST
DTSTART:20190331T010000
END:DAYLIGHT
BEGIN:STANDARD
TZOFFSETFROM:+0200
TZOFFSETTO:+0100
TZNAME:CET
DTSTART:20191027T010000
END:STANDARD
BEGIN:DAYLIGHT
TZOFFSETFROM:+0100
TZOFFSETTO:+0200
TZNAME:CEST
DTSTART:20200329T010000
END:DAYLIGHT
BEGIN:STANDARD
TZOFFSETFROM:+0200
TZOFFSETTO:+0100
TZNAME:CET
DTSTART:20201025T010000
END:STANDARD
END:VTIMEZONE
BEGIN:VEVENT
DTSTART;TZID=Europe/Berlin:20200402T173000
DTEND;TZID=Europe/Berlin:20200402T180000
DTSTAMP:20260420T051755
CREATED:20200210T102236Z
LAST-MODIFIED:20200403T042843Z
UID:10003520-1585848600-1585850400@www.virtuelle-ph.at
SUMMARY:eLecture digiPH3: Lehren lernen? Digital! Kompetenzorientierte Studiengangsentwicklung im Lehramtsfach Deutsch
DESCRIPTION:zur Aufzeichnung\n\n\n\nFür einen technisch versierten und didaktisch sinnvollen Einsatz digitaler Medien braucht es eine kohärente und kompetenzorientierte Ausbildung angehender Lehrkräfte. Im Rahmen des Projekts [D-3] – Deutsch Didaktik Digital an der Martin-Luther-Universität (MLU) Halle-Wittenberg werden digitale Lehr-Lernkonzepte entwickelt und erprobt\, die die Grundlage für die Neugestaltung des Studienprofils im Fach Deutsch und darüber hinaus bilden. \n\nMarie Güntzel studierte Germanistik und Philosophie auf Lehramt und arbeitete national wie international in verschiedenen Kontexten des Bildungswesens. Seit November 2017 ist sie Mitarbeiterin im [D-3] Projekt und dort u.a. für das Curricularmanagement zuständig.  \n\nDas Webinar stellt die Weiterentwicklung des Fächerprofils Deutsch an der MLU in zweierlei Hinsichten vor: Zum einen wird der Prozess der Studiengangentwicklung anhand der dafür nötigen Schritte und Phasen erläutert. Zum anderen wird aufgezeigt\, wie ein solches Profil\, welches noch fortwährend in der Entwicklung und Abstimmung mit beteiligten Akteuren befindlich ist\, künftig aussehen kann. Dazu werden die bisherigen Ergebnisse der Lehrplanarbeit skizziert und weitere Potentiale zur Gestaltung innovativer Studienmodelle im Lehramt gemeinsam diskutiert. \n\nDiese eLecture ist für Sie geeignet\, wenn Sie \n\n– Interesse an (didaktischer) Studiengang- und Hochschulentwicklung haben \n\n– Anregungen zur Entwicklung und Gestaltung kompetenzorientierter Studienprofile im Lehramt bekommen wollen \n\nCoModeration: Walter Fikisz \n\n			\n				\n			\n			Teilnahmekriterien & Info\n		 \n		\n			Lernziele\n		 \n		\n			Voraussetzungen\n		\n		 \n		\n			\n				\n					\n			Technische Voraussetzungen: Grundlegende Computerkenntnisse\, gute Internetverbindung; optional: Headset.  \nSo treten Sie der eLecture im virtuellen Lernraum bei:  \n1. Rufen Sie 10 min vor Terminstart folgende Seite auf:  \nvph.adobeconnect.com/digiph4/ \n2. Geben Sie bitte Ihren Vor- und Nachnamen ein und „Betreten Sie den Raum“ mit Klick auf den Button. \n3. Folgen Sie den Anweisungen auf dem Bildschirm. Sie werden in Kürze eingelassen. \nWenn Sie noch an keiner eLecture teilgenommen haben\, finden Sie alle Infos zum Einstieg unter: www.virtuelle-ph.at/electures/#einstieg \nDie Teilnahme an allen eLectures der Virtuellen PH ist für österreichische Lehrkräfte und Studierende eines Lehramts kostenlos.\n		 \n		\n			Die Teilnehmer*innen können den Prozess einer (didaktischen) Studiengangentwicklung beschreiben. \nDie Teilnehmer*innen können Möglichkeiten zur Gestaltung kompetenzorientierter Studienprofile benennen.
URL:https://www.virtuelle-ph.at/veranstaltung/electure-digiph3-lehren-lernen-digital-kompetenzorientierte-studiengangsentwicklung-im-lehramtsfach-deutsch/
CATEGORIES:eLecture,Online-Tagung digiPH3 EL
ATTACH;FMTTYPE=image/png:https://www.virtuelle-ph.at/wp-content/uploads/2020/02/Güntzel-digiph3-fb.png
END:VEVENT
BEGIN:VEVENT
DTSTART;TZID=Europe/Berlin:20190318T173000
DTEND;TZID=Europe/Berlin:20190318T180000
DTSTAMP:20260420T051755
CREATED:20190211T110447Z
LAST-MODIFIED:20190319T072812Z
UID:10003193-1552930200-1552932000@www.virtuelle-ph.at
SUMMARY:digiPH2 eLecture: What you test is what they learn  –  Das E-Portfolio als Beispiel kompetenzorientierten Prüfens
DESCRIPTION:zur Aufzeichnung\n\n\nKompetenzorientierte Lehre zielt auf Lernergebnisse statt auf Lerninhalte ab. Vor diesem Hintergrund gilt es\, Lehre so zu gestalten\, dass diese Kompetenzen aktiv gefördert und erworben werden. Lernziele\, Prüfungsmethoden und Lehr-Lernmethoden sollten daher aufeinander bezogen und miteinander abgestimmt werden. Bei der Vermittlung von Medien- und Reflexionskompetenz stellt das E-Portfolio ein geeignetes Format dar\, welches der Förderung und Diagnose zugleich dient.      \nMarie Güntzel studierte Germanistik und Philosophie auf Lehramt und arbeitete in verschiedenen Kontexten des Bildungswesens. Seit November 2017 ist sie Mitarbeiterin im [D-3] Projekt und dort u.a. für die Lehrplanentwicklung zuständig. Ein wesentlicher Schwerpunkt besteht dabei in der Implementierung innovativer Lehr-Lernformen und Prüfungsformate\, die auf eine medienkompetente Ausbildung künftiger DeutschlehrerInnen abzielt.   \nDas Webinar stellt den Einsatz des E-Portfolios im Deutschdidaktikseminar vor\, welches das Thema "Prüfen" in Schule und Hochschule in den Blick nimmt. Dabei sollen zentrale Überlegungen zeitgemäßer Prüfungskultur erläutert und Beispiele modernen Prüfens (mündlich\, schriftlich\, praktisch) gegeben werden. Anschließend wird auf die Funktion und Gestaltung des E-Portfolios als kompetenzorientiertes Prüfungsformat sowie auf die Herausforderungen bei der Umsetzung eingegangen.    \nDiese eLecture ist für Sie geeignet\, wenn Sie\n– Anregungen zur Umsetzung des Constructive Alignment bekommen wollen\n– an kompetenzorientierten Prüfungsformaten\, insbesondere dem E-Portfolio\, interessiert sind                            \nCoModeration: Daniel Handle-Pfeiffer \n\n			\n				\n			\n			Teilnahmekriterien & Info\n		 \n		\n			Lernziele\n		 \n		\n			Voraussetzungen\n		\n		 \n		\n			\n				\n					\n			Technische Voraussetzungen: Grundlegende Computerkenntnisse\, gute Internetverbindung; optional: Headset. \nSo treten Sie der eLecture im virtuellen Lernraum bei:  \n1. Rufen Sie 10 min vor Terminstart folgende Seite auf:  \nvph.adobeconnect.com/digiph1/ \n2. Geben Sie bitte Ihren Vor- und Nachnamen ein und „Betreten Sie den Raum“ mit Klick auf den Button. \n3. Folgen Sie den Anweisungen auf dem Bildschirm. Sie werden in Kürze eingelassen. \nWenn Sie noch an keiner eLecture teilgenommen haben\, finden Sie alle Infos zum Einstieg unter: www.virtuelle-ph.at/electures/#einstieg \nDie Teilnahme an allen eLectures der Virtuellen PH ist für österreichische Lehrkräfte und Studierende eines Lehramts kostenlos.\n		 \n		\n			# Möglichkeiten moderner Lehr-Lern-Räume kennenlernen \n# Einsichten in das Prinzip Service Learning erlangen
URL:https://www.virtuelle-ph.at/veranstaltung/digiph2-electure-what-you-test-is-what-they-learn-das-e-portfolio-als-beispiel-kompetenzorientierten-pruefens/
CATEGORIES:eLecture,Online-Tagung digiPH2 EL,Panel Panel 1
END:VEVENT
END:VCALENDAR