BEGIN:VCALENDAR
VERSION:2.0
PRODID:-//Virtuelle PH - ECPv6.6.4.2//NONSGML v1.0//EN
CALSCALE:GREGORIAN
METHOD:PUBLISH
X-ORIGINAL-URL:https://www.virtuelle-ph.at
X-WR-CALDESC:Veranstaltungen für Virtuelle PH
REFRESH-INTERVAL;VALUE=DURATION:PT1H
X-Robots-Tag:noindex
X-PUBLISHED-TTL:PT1H
BEGIN:VTIMEZONE
TZID:Europe/Berlin
BEGIN:DAYLIGHT
TZOFFSETFROM:+0100
TZOFFSETTO:+0200
TZNAME:CEST
DTSTART:20190331T010000
END:DAYLIGHT
BEGIN:STANDARD
TZOFFSETFROM:+0200
TZOFFSETTO:+0100
TZNAME:CET
DTSTART:20191027T010000
END:STANDARD
END:VTIMEZONE
BEGIN:VEVENT
DTSTART;TZID=Europe/Berlin:20190320T183000
DTEND;TZID=Europe/Berlin:20190320T190000
DTSTAMP:20260420T070333
CREATED:20190211T100711Z
LAST-MODIFIED:20190321T074529Z
UID:10003191-1553106600-1553108400@www.virtuelle-ph.at
SUMMARY:digiPH2 eLecture: Recherchieren und Faktencheck
DESCRIPTION:zur Aufzeichnung\n\n\n						Im Internet zu recherchieren und die Ergebnisse zu überprüfen\, sind das Handwerkszeug des heutigen Journalismus. Suchmaschinen liefern innerhalb von Sekunden eine Fülle an Ergebnissen von verschiedenen Autor_innen. Digitale Kompetenz umfasst Wissensmanagement genauso wie das Analysieren und Reflektieren von Suchergebnissen.  \nMarietheres van Veen arbeitet seit über 20 Jahren als Journalistin unter anderem gestaltet sie seit 2015 ORF-Dokumentationen. Sie ist Vortragende zu den Themen „digitale Medien“\, „Medienanalyse“ und „Recherchieren und Faktencheck“ und ist an verschiedenen Instituten tätig.  \nIn dem Beitrag „Recherchieren und Faktencheck“ werden auf der einen Seite gezeigt\, wie Fragestellungen und Auswahl der Suchmaschine Ergebnisse beeinflussen. Und auf der anderen Seite Werkzeuge vorgestellt\, mit Hilfe derer die Glaubwürdigkeit der Beiträge überprüft werden können bzw. aufgrund welcher Motivation diese erstellt wurden.  \nCoModeration: Daniel Handle-Pfeiffer \n\n			\n				\n			\n			Teilnahmekriterien & Info\n		 \n		\n			Lernziele\n		 \n		\n			Voraussetzungen\n		\n		 \n		\n			\n				\n					\n			Technische Voraussetzungen: Grundlegende Computerkenntnisse\, gute Internetverbindung; optional: Headset. \nSo treten Sie der eLecture im virtuellen Lernraum bei:  \n1. Rufen Sie 10 min vor Terminstart folgende Seite auf:  \nvph.adobeconnect.com/digiph3/ \n2. Geben Sie bitte Ihren Vor- und Nachnamen ein und „Betreten Sie den Raum“ mit Klick auf den Button. \n3. Folgen Sie den Anweisungen auf dem Bildschirm. Sie werden in Kürze eingelassen. \nWenn Sie noch an keiner eLecture teilgenommen haben\, finden Sie alle Infos zum Einstieg unter: www.virtuelle-ph.at/electures/#einstieg \nDie Teilnahme an allen eLectures der Virtuellen PH ist für österreichische Lehrkräfte und Studierende eines Lehramts kostenlos.\n		 \n		\n			# Sicherheit im Prüfen von Onlinebeiträgen erfahrenWerkzeuge kennenlernen\,  \n# mit Hilfe derer\, man Online-Beiträge überprüft
URL:https://www.virtuelle-ph.at/veranstaltung/digiph2-electure-recherchieren-und-faktencheck/
CATEGORIES:eLecture,Online-Tagung digiPH2 EL
END:VEVENT
END:VCALENDAR