BEGIN:VCALENDAR
VERSION:2.0
PRODID:-//Virtuelle PH - ECPv6.6.4.2//NONSGML v1.0//EN
CALSCALE:GREGORIAN
METHOD:PUBLISH
X-WR-CALNAME:Virtuelle PH
X-ORIGINAL-URL:https://www.virtuelle-ph.at
X-WR-CALDESC:Veranstaltungen für Virtuelle PH
REFRESH-INTERVAL;VALUE=DURATION:PT1H
X-Robots-Tag:noindex
X-PUBLISHED-TTL:PT1H
BEGIN:VTIMEZONE
TZID:Europe/Vienna
BEGIN:DAYLIGHT
TZOFFSETFROM:+0100
TZOFFSETTO:+0200
TZNAME:CEST
DTSTART:20260329T010000
END:DAYLIGHT
BEGIN:STANDARD
TZOFFSETFROM:+0200
TZOFFSETTO:+0100
TZNAME:CET
DTSTART:20261025T010000
END:STANDARD
END:VTIMEZONE
BEGIN:VEVENT
DTSTART;TZID=Europe/Vienna:20260610T170000
DTEND;TZID=Europe/Vienna:20260610T183000
DTSTAMP:20260419T220054
CREATED:20251022T033142Z
LAST-MODIFIED:20260419T033158Z
UID:10006395-1781110800-1781116200@www.virtuelle-ph.at
SUMMARY:eLectureReihe: Gewalt im digitalen Raum & Präventionsstrategien
DESCRIPTION:Zur Anmeldung \n\n						Zum virtuellen Lernraum\n						\n\n						Digitale Gewalt kann viele Formen annehmen. Diese eLecture beleuchtet rechtliche Hintergründe und pädagogische Handlungsmöglichkeiten im Umgang mit Cybermobbing\, der Verletzung des Rechts am eigenen Bild\, Wiederbetätigung und weiteren Formen strafbarer Online-Inhalte. Neben dem Cybermobbingparagraphen werden auch zentrale Aspekte wie der Schutz persönlicher Daten\, strafrechtlich relevante Inhalte im Netz und die Verantwortung von Jugendlichen im digitalen Raum thematisiert. Ergänzend werden Unterstützungsangebote externer Stellen vorgestellt – darunter Rat auf Draht\, die Kinder- und Jugendanwaltschaft sowie Workshopangebote der Polizei. Präventionsstrategien wie das schulische Kinderschutzkonzept runden die eLecture ab. \n\nExpert_in: Anna Maria Reumann-Buczolich\, Marion Hahn \n\n\n			\n				\n			\n			Teilnahmekriterien & Info\n		 \n		\n			Lernziele\n		 \n		\n			Voraussetzungen\n		\n		 \n		\n			\n				\n					\n			So treten Sie der Veranstaltung im virtuellen Lernraum bei: \n1. Rufen Sie 5 min vor Terminstart den Link zum Virtuellen Lernraum auf: \nvirtuelle-ph-at.zoom.us/my/electures \n2. Geben Sie bitte Ihren vollen Namen ein und klicken Sie den Button „Einem Meeting Beitreten“.                              \n3. Klicken Sie den grünen Button „Per Computer dem Audio beitreten“ an. \nDas bewirkt\, dass Sie uns hören und sehen können. Sie werden in Kürze eingelassen. \nDie Teilnahme an allen eLectures der Virtuellen PH ist für österreichische Hochschullehrende\, Lehrkräfte und Studierende eines Lehramts kostenlos.\n		 \n		\n			Die Teilnehmenden kennen zentrale rechtliche Grundlagen zu Cybermobbing\, der Verletzung des Rechts am eigenen Bild\, Wiederbetätigung und weiteren Formen digitaler Gewalt.\nDie Teilnehmenden setzen sich mit schulischen Präventionsmaßnahmen wie dem Kinderschutzkonzept auseinander und lernen externe Unterstützungsangebote kennen.\nDie Teilnehmenden reflektieren pädagogische Handlungsoptionen im Umgang mit strafbaren Online-Inhalten und entwickeln Strategien für Prävention und Intervention im schulischen Alltag.
URL:https://www.virtuelle-ph.at/veranstaltung/electurereihe-gewalt-im-digitalen-raum-praeventionsstrategien/
CATEGORIES:eLecture,Reihe DGBPPHB
END:VEVENT
END:VCALENDAR