BEGIN:VCALENDAR
VERSION:2.0
PRODID:-//Virtuelle PH - ECPv6.6.4.2//NONSGML v1.0//EN
CALSCALE:GREGORIAN
METHOD:PUBLISH
X-ORIGINAL-URL:https://www.virtuelle-ph.at
X-WR-CALDESC:Veranstaltungen für Virtuelle PH
REFRESH-INTERVAL;VALUE=DURATION:PT1H
X-Robots-Tag:noindex
X-PUBLISHED-TTL:PT1H
BEGIN:VTIMEZONE
TZID:Europe/Berlin
BEGIN:DAYLIGHT
TZOFFSETFROM:+0100
TZOFFSETTO:+0200
TZNAME:CEST
DTSTART:20180325T010000
END:DAYLIGHT
BEGIN:STANDARD
TZOFFSETFROM:+0200
TZOFFSETTO:+0100
TZNAME:CET
DTSTART:20181028T010000
END:STANDARD
END:VTIMEZONE
BEGIN:VEVENT
DTSTART;TZID=Europe/Berlin:20181205T193000
DTEND;TZID=Europe/Berlin:20181205T203000
DTSTAMP:20260421T011802
CREATED:20181011T064833Z
LAST-MODIFIED:20181206T083613Z
UID:10003033-1544038200-1544041800@www.virtuelle-ph.at
SUMMARY:eLecture: EDUPAGE - das Online-Klassenbuch für Pflichtschullehrende
DESCRIPTION:zur Aufzeichnung\n\n\n						EDUPAGE – das Online-Klassenbuch-System des deutschen Klett-Verlages hat sich gerade im Pflichtschulbereich als äußerst nützlich herausgestellt. Das Elektronische Klassenbuch\, die Kontrolle der Anwesenheiten\, Benotungsmöglichkeiten\, Supplierplan und die Erstellung des Stundenplans für die Schulverwaltung sind nur einige Punkte des umfangreichen EDUPAGE-Pakets. \nMarkus Oberländer ist Leiter-Stellvertreter der PTS Deutschfeistritz und administriert seit 3 Jahren rund 250 SchülerInnen und 40 LehrerInnen der NMS & PTS Deutschfeistritz von der Erstellung des Stundenplans bis hin zum eigenen Notensystem mit Hilfe von Edupage. Markus Oberländer wird in dieser eLecture zahlreiche Tipps im Umgang mit Edupage geben\, die das Administrieren und das Lehren in einer Schule erleichtern werden. \nDarüber hinaus bietet diese eLecture einfache Tipps und Tricks für den persönlichen Umgang mit Edupage. \nEin kleiner Exkurs widmet sich auch der Frage: Kommunikation mit Eltern – einfache Wege\, direkt mit Eltern in Kontakt treten zu können. \nDiese eLecture ist für Sie interessant\, wenn \nSie Lehrende_r eine Pflichtschule sind und bereits erste Erfahrungen mit Edupage haben\nSie Lehrende_r einer Pflichtschule sind und sich einmal eine Online-Klassenbuch anschauen wollen \nCoModeration: Daniel Handle-Pfeiffer\n_______________________________ \nBei dieser eLecture handelt es sich um ein begleitetes OTA Praktikum. Mehr zur OTA unter www.virtuelle-ph.at/ota \n\n			\n				\n			\n			Teilnahmekriterien & Info\n		 \n		\n			Lernziele\n		 \n		\n			Voraussetzungen\n		\n		 \n		\n			\n				\n					\n			Technische Voraussetzungen: Grundlegende Computerkenntnisse\, gute Internetverbindung; optional: Headset. \nSo treten Sie der eLecture im virtuellen Lernraum bei:  \n1. Rufen Sie 10 min vor Terminstart folgende Seite auf:  \nvph.adobeconnect.com/drei/ \n2. Geben Sie bitte Ihren Vor- und Nachnamen ein und „Betreten Sie den Raum“ mit Klick auf den Button. \n3. Folgen Sie den Anweisungen auf dem Bildschirm. Sie werden in Kürze eingelassen. \nWenn Sie noch an keiner eLecture teilgenommen haben\, finden Sie alle Infos zum Einstieg unter: www.virtuelle-ph.at/electures/#einstieg \nDie Teilnahme an allen eLectures der Virtuellen PH ist für österreichische Lehrkräfte und Studierende eines Lehramts kostenlos.\n		 \n		\n			# Edupage im Unterricht anwenden \n# eigene Prüfungen mittels Edupage erstellen \n# Noten durch das System einfach berechnen \n# An- und Abwesenheiten eintragen \n# E-Learning-Übungen mit Edupage gestalten \n# Kurse im vorhandenen Stundenplan entwickeln
URL:https://www.virtuelle-ph.at/veranstaltung/electure-edupage-das-online-klassenbuch-fuer-pflichtschullehrende/
CATEGORIES:eLecture
END:VEVENT
END:VCALENDAR