BEGIN:VCALENDAR
VERSION:2.0
PRODID:-//Virtuelle PH - ECPv6.6.4.2//NONSGML v1.0//EN
CALSCALE:GREGORIAN
METHOD:PUBLISH
X-ORIGINAL-URL:https://www.virtuelle-ph.at
X-WR-CALDESC:Veranstaltungen für Virtuelle PH
REFRESH-INTERVAL;VALUE=DURATION:PT1H
X-Robots-Tag:noindex
X-PUBLISHED-TTL:PT1H
BEGIN:VTIMEZONE
TZID:Europe/Vienna
BEGIN:DAYLIGHT
TZOFFSETFROM:+0100
TZOFFSETTO:+0200
TZNAME:CEST
DTSTART:20260329T010000
END:DAYLIGHT
BEGIN:STANDARD
TZOFFSETFROM:+0200
TZOFFSETTO:+0100
TZNAME:CET
DTSTART:20261025T010000
END:STANDARD
END:VTIMEZONE
BEGIN:VEVENT
DTSTART;VALUE=DATE:20260306
DTEND;VALUE=DATE:20260307
DTSTAMP:20260420T151723
CREATED:20260307T033019Z
LAST-MODIFIED:20260307T033019Z
UID:10006681-1772755200-1772841599@www.virtuelle-ph.at
SUMMARY:#DigiPH9 - Learn.Innovate.Transform. Digitale Werkzeuge und Methodenvielfalt Tag2
DESCRIPTION:Zur Anmeldung\n						\n\n						Unter dem Motto „Learn. Innovate. Transform.“ lädt die Tagung Lehrende\, Forschende\, Bildungsdesigner:innen und Studierende ein\, sich in einem transdisziplinären Dialog über die Zukunft der Hochschullehre zu vernetzen. Im Mittelpunkt stehen die Themen digitale Transformation\, didaktische Vielfalt und Diversität. \nDie Tagung bietet eine Plattform für wissenschaftlichen Austausch und praxisnahe Impulse. \nHier gelangen Sie direkt zum Zoom-Raum der Tagung:\nvirtuelle-ph-at.zoom.us/my/digiph \n\n			\n				\n			\n			Teilnahmekriterien & Info\n		 \n		\n			Lernziele\n		 \n		\n			Voraussetzungen\n		\n		 \n		\n			\n				\n					\n			\n		 \n		\n			Die Teilnehmer*innen können: \n– digitale Werkzeuge kennenlernen und reflektiert in die eigene Lehre integrieren\, um Methodenvielfalt als Chance für didaktische Weiterentwicklung zu nutzen. \n– eigene Lehrpraktiken kritisch hinterfragen und weiterentwickeln\, indem sie neue Ansätze erproben und deren Potenziale für unterschiedliche Lernsettings einschätzen. \n– innovative Lehr-Lern-Formate gestalten\, die digitale Möglichkeiten mit bewährten Methoden verbinden und Studierende aktiv einbeziehen. \n– den Dialog zwischen Digitalisierung und Diversität produktiv aufgreifen\, um Lehrangebote inklusiver und chancengerechter zu gestalten. \n– Impulse für eine nachhaltige Transformation der Hochschullehre umsetzen\, indem sie neue Lernkulturen anstoßen\, die zukunftsorientiert und anschlussfähig sind. \n– uvm.
URL:https://www.virtuelle-ph.at/veranstaltung/digiph9-learn-innovate-transform-digitale-werkzeuge-und-methodenvielfalt-tag2-3/
CATEGORIES:Fortbildungsveranstaltung
END:VEVENT
END:VCALENDAR