BEGIN:VCALENDAR
VERSION:2.0
PRODID:-//Virtuelle PH - ECPv6.6.4.2//NONSGML v1.0//EN
CALSCALE:GREGORIAN
METHOD:PUBLISH
X-WR-CALNAME:Virtuelle PH
X-ORIGINAL-URL:https://www.virtuelle-ph.at
X-WR-CALDESC:Veranstaltungen für Virtuelle PH
REFRESH-INTERVAL;VALUE=DURATION:PT1H
X-Robots-Tag:noindex
X-PUBLISHED-TTL:PT1H
BEGIN:VTIMEZONE
TZID:Europe/Berlin
BEGIN:DAYLIGHT
TZOFFSETFROM:+0100
TZOFFSETTO:+0200
TZNAME:CEST
DTSTART:20180325T010000
END:DAYLIGHT
BEGIN:STANDARD
TZOFFSETFROM:+0200
TZOFFSETTO:+0100
TZNAME:CET
DTSTART:20181028T010000
END:STANDARD
END:VTIMEZONE
BEGIN:VEVENT
DTSTART;VALUE=DATE:20180312
DTEND;VALUE=DATE:20180402
DTSTAMP:20260420T103813
CREATED:20180214T152628Z
LAST-MODIFIED:20180311T033045Z
UID:10002774-1520812800-1522627199@www.virtuelle-ph.at
SUMMARY:PowerPoint - verzaubern Sie Ihr Publikum!
DESCRIPTION:Zur Anmeldung\n						\n\n						PowerPoint ist ein gängiges\, leicht zu erlernendes Programm zum Erstellen von Präsentationen. In diesem Online-Seminar lernen Sie mit Hilfe von PowerPoint Präsentationen für Ihren Privatgebrauch\, aber auch für den Einsatz im Unterricht zu erstellen. Neben vielen technischen Tipps und Tricks\, werden im Seminar auch Präsentationstechniken vermittelt. Der didaktische Einsatz von PowerPoint im Unterricht steht vor allem im Zentrum der letzten Seminarwoche. Sie brauchen keine Vorkenntnisse in PowerPoint\, um an diesem Online-Seminar teilnehmen zu können. Ihr/e Trainer/in führen Sie Schritt für Schritt durch PowerPoint. Im Nu haben Sie den Dreh heraus und schon ist eine eindrucksvolle Präsentation fertig! \nIn diesem Online-Seminar ist Ihre aktive Mitarbeit gefragt. Jede Woche gibt es verschiedene Übungen zu erledigen – so lernen Sie Schritt für Schritt den Umgang mit PowerPoint. Durch die kleinen Übungen zwischendurch gibt es zum Schluss keine große Abschlussarbeit! \nBei diesem Online-Seminar handelt es sich um ein begleitetes OTA Praktikum. Mehr Informationen zur Online Tutoring Ausbildung unter www.virtuelle-ph.at/ota! \nwww.virtuelle-ph.at/online-seminare \n\n			\n				\n			\n			Teilnahmekriterien & Info\n		 \n		\n			Lernziele\n		 \n		\n			Voraussetzungen\n		\n		 \n		\n			\n				\n					\n			Anmerkung: Die Teilnahme an allen im Rahmen des Online-Programms angebotenen Online-Seminaren der Virtuellen PH ist für österreichische Lehrkräfte und Studierende eines Lehramts kostenlos. Die Seminarplätze werden nach dem Prinzip first come\, first served – also chronologisch nach dem Zeitpunkt Ihrer Seminarbuchung über PH-Online – vergeben. Bis Mittwoch vor Beginn des jeweiligen Online-Seminars können Sie über PH-Online Ihr gebuchtes Online-Seminar selber kostenlos stornieren. Für ein allfälliges Storno zu einem späteren Zeitpunkt wenden Sie sich bitte an: info@virtuelle-ph.at\n		 \n		\n			Lernen Sie das Office Programm Powerpoint\, das standardmaßig an vielen Computern zu finden ist\, von einer neuen Seite – nämlich für den optimalen Einsatz in Ihrem Unterricht – kennen. Sammeln Sie dazu selbst Erfahrungen\, entwickeln Sie eigene Ideen und reflektieren Sie Ihre Einfälle mit Kolleginnen und Kollegen.\n		 \n		\n			Grundlegende Internet-Kenntnisse.
URL:https://www.virtuelle-ph.at/veranstaltung/powerpoint-verzaubern-sie-ihr-publikum-6/
CATEGORIES:Online-Programm Frühjahrsprogramm,Online-Seminar
END:VEVENT
END:VCALENDAR