BEGIN:VCALENDAR
VERSION:2.0
PRODID:-//Virtuelle PH - ECPv6.6.4.2//NONSGML v1.0//EN
CALSCALE:GREGORIAN
METHOD:PUBLISH
X-ORIGINAL-URL:https://www.virtuelle-ph.at
X-WR-CALDESC:Veranstaltungen für Virtuelle PH
REFRESH-INTERVAL;VALUE=DURATION:PT1H
X-Robots-Tag:noindex
X-PUBLISHED-TTL:PT1H
BEGIN:VTIMEZONE
TZID:Europe/Vienna
BEGIN:DAYLIGHT
TZOFFSETFROM:+0100
TZOFFSETTO:+0200
TZNAME:CEST
DTSTART:20220327T010000
END:DAYLIGHT
BEGIN:STANDARD
TZOFFSETFROM:+0200
TZOFFSETTO:+0100
TZNAME:CET
DTSTART:20221030T010000
END:STANDARD
BEGIN:DAYLIGHT
TZOFFSETFROM:+0100
TZOFFSETTO:+0200
TZNAME:CEST
DTSTART:20230326T010000
END:DAYLIGHT
BEGIN:STANDARD
TZOFFSETFROM:+0200
TZOFFSETTO:+0100
TZNAME:CET
DTSTART:20231029T010000
END:STANDARD
TZID:Europe/Berlin
BEGIN:DAYLIGHT
TZOFFSETFROM:+0100
TZOFFSETTO:+0200
TZNAME:CEST
DTSTART:20190331T010000
END:DAYLIGHT
BEGIN:STANDARD
TZOFFSETFROM:+0200
TZOFFSETTO:+0100
TZNAME:CET
DTSTART:20191027T010000
END:STANDARD
END:VTIMEZONE
BEGIN:VEVENT
DTSTART;TZID=Europe/Vienna:20230118T144500
DTEND;TZID=Europe/Vienna:20230118T160000
DTSTAMP:20260420T092714
CREATED:20221114T124400Z
LAST-MODIFIED:20230127T220212Z
UID:10004086-1674053100-1674057600@www.virtuelle-ph.at
SUMMARY:digiPH6 Hop on hop off: Synchrone und Asynchrone Fortbildungsformate
DESCRIPTION:Aufzeichnung \n\n\n						In diesem digiPH6 Hop on hop off-Format dreht sich alles um synchrone und asynchrone Fortbildungsformate an Pädagogischen Hochschulen in Österreich.  \nMartin Teufel (PHST): Fortbildungen zum Buch „Denken lernen – Probleme lösen mit BBC micro:bit V1 +V2“\nBeschreibung des Projekts und des Buches sowie der Arbeitsweise mit Studienrenden und Schüler_innen. Die Fortbildung kann im Selbststudium im MOOC imoox.at/course/microbitSchulbuch22 bzw. in Präsenzworkshops absolviert werden.Diskussion über Herausforderungen\, Vor- und Nachteile von MOOCs in Lehrer:innenbildung. \nTanja Lobnig\, Martina Greiler-Zauchner und Almut Thomas (PHK): TTOM (Teacher Training online with Materials) – ein digitales Lehrformat in der Lehrer:innenfortbildung \nDieser Beitrag stellt ein theorie- und evidenzbasiertes Lehrer:innenfortbildungsformat – Teacher Training online with Materials (TTOM) – vor. TTOM hat das Ziel didaktisch kommentierte Unterrichtsmaterialien über distance learning einer breiten Unterrichtspraxis zugänglich zu machen und im Zuge dessen den Transfer fachdidaktischer Erkenntnisse in die Unterrichtspraxis zu fördern.\nDie Konzeption basiert auf der Erkenntnis\, dass Lehrpersonen gerne mit Unterrichtsmaterialien arbeiten (Grossman & Thompson\, 2008). Diese Unterrichtsmaterialien werden in TTOM durch didaktische Kommentare und Videosequenzen über Denk- und Lösungswege von Kindern ergänzt. Die Beschäftigung mit diesen kommentierten Unterrichtsmaterialien soll dazu führen\, dass bei den Lehrpersonen Lernprozesse angeregt werden. \nDas Fortbildungsformat besteht aus Präsenz- und Selbstlernphasen. In der Selbstlernphase können die Lehrer:innen selbst entscheiden\, wann und wo sie die Fortbildungsinhalte auf der Lernplattform moodle erarbeiten sowie welche Unterrichtsmaterialien sie für ihre Schüler*innen nutzen wollen. Die Präsenzveranstaltungen finden online via ZOOM statt\, die teilweise in Form von digitalen Stammtischen abgehalten werden\, die dem Austausch dienen.\nTTOM wurde in zwei Durchgängen erprobt. Im Beitrag wird das theoretische Konzept von TTOM vorgestellt\, exemplarisch Praxisszenarien präsentiert sowie Hürden und Herausforderungen diskutiert.\nLiteratur:\nGrossman\, P.\, & Thompson\, C. (2008). Learning from curriculum materials: Scaffolds for new teachers? Teaching and Teacher Education\, 24(8)\, 2014–2026.  \nMichaela Liebhart-Gundacker und Sonja Gabriel (KPH Wien/Krems): Update digiskills.PH Digitale Kompetenzen von Hochschullehrenden \nEs wird ein Einblick in in den an der KPH Wien/Krems laufenden Pilotkurs digiskills.PH – Digitale Kompetenzen von Hochschullehrenden – gegeben\, der als hochschulinterne Fortbildungsmaßnahme läuft. Der modular aufgebaute\, asynchrone und begleitete Selbstlernkurs ist mit dem WiSe 2022/23 gestartet und erstreckt sich über 3 Semester. Ergänzt wird der Selbstlernkurs durch ein ePortfolio\, das von den teilnehmenden Hochschullehrpersonen geführt wird\, um den eigenen Professionalisierungsprozess und Kompetenzzuwachs im Bereich Digitale Kompetenzen für Hochschullehrende zu dokumentieren und zu reflektieren. Es werden erste Erkenntnisse und Ergebnisse der Evaluierung präsentiert. \nCo-Moderation: Sabrina Gerth \n\nExpert_in: Sonja Gabriel\, Martina Greiler-Zauchner\, Martin Teufel\, Tanja Lobnig\, Almut Thomas\, Michaela Liebhart-Gundacker \n\n\n			\n				\n			\n			Teilnahmekriterien & Info\n		 \n		\n			Lernziele\n		 \n		\n			Voraussetzungen\n		\n		 \n		\n			\n				\n					\n			So treten Sie der Veranstaltung im virtuellen Lernraum bei: \n1. Rufen Sie 5-10 min vor Terminstart den Link zum Virtuellen Lernraum auf: \nvirtuelle-ph-at.zoom.us/my/virtuelleph.electuredrei \n2. Geben Sie bitte Ihren vollen Namen ein und klicken Sie den Button „Einem Meeting Beitreten“.                              \n3. Klicken Sie dann auch den grünen Button „Per Computer dem Audio beitreten“ an.\nDas bewirkt\, dass Sie uns hören und sehen können. Sie werden in Kürze eingelassen. \nDie Teilnahme an allen Veranstaltungen der Virtuellen PH ist für österreichische Hochschullehrende\, Lehrkräfte und Studierende eines Lehramts kostenlos.\n		 \n		\n			# Orientierung bezüglich aktueller Hochschulbildungsthemen mit Fokus auf Fortbildungsformate\n# Trends in der digitalen Hochschullehre kennenlernen\n# In Austausch und Vernetzung mit Hochschulkolleg_innen kommen
URL:https://www.virtuelle-ph.at/veranstaltung/digiph6-hop-on-hop-off-synchrone-und-asynchrone-fortbildungsformate/
CATEGORIES:eLecture,Online-Tagung digiPH6 EL
END:VEVENT
BEGIN:VEVENT
DTSTART;TZID=Europe/Vienna:20220502T170000
DTEND;TZID=Europe/Vienna:20220502T180000
DTSTAMP:20260420T092714
CREATED:20211220T084216Z
LAST-MODIFIED:20220503T132230Z
UID:10003983-1651510800-1651514400@www.virtuelle-ph.at
SUMMARY:micro:bit eLecture 1 - Die Version 2 des BBC micro:bit und das neue Schulbuch
DESCRIPTION:zur Aufzeichnung\n    \n\n						Der neue BBC micro:bit v2 gibt Anlass und Gelegenheit das OER-Schulbuch zu Computational Thinking (CT) mit dem BBC micro:bit in einer überarbeiteten und erweiterten Version vorzustellen. Unterstützend zur Umsetzung der Digitalen Grundbildung in der Sekundarstufe 1 wurde das vorhande OER-Schulbuch von einem Autor_innenteam überarbeitet und erweitert. \nEs werden eine Übersicht über den neuen BBC micro:bit v2 sowie des Schulbuches gegeben.\nDabei wird die Verwendung und das Konzept des Schulbuchs vorgestellt. \nDiese eLecture ist für Sie geeignet\, wenn Sie CT mit dem micro:bit integrativ unterrichten wollen und ausgearbeitete Beispiele dafür suchen und verwenden wollen. \n\nDiese eLecture ist Teil der eLecture-Reihe zum Thema micro:bit. Die Aufzeichnungen weitere Infos und alle Termine dazu finden Sie unter: www.virtuelle-ph.at/microbit \nCoModeration: Gerlinde Schwabl \n\nExpert_in: Martin Teufel \n\n\n			\n				\n			\n			Teilnahmekriterien & Info\n		 \n		\n			Lernziele\n		 \n		\n			Voraussetzungen\n		\n		 \n		\n			\n				\n					\n			So treten Sie der Veranstaltung im virtuellen Lernraum bei: \n1. Rufen Sie 5 min vor Terminstart den Link zum Virtuellen Lernraum auf: \nzoom.us/my/virtuelleph.electureeins \n2. Geben Sie bitte Ihren vollen Namen ein und klicken Sie den Button „Einem Meeting Beitreten“.                              \n3. Klicken Sie den grünen Button „Per Computer dem Audio beitreten“ an. \nDas bewirkt\, dass Sie uns hören und sehen können. Sie werden in Kürze eingelassen. \nDie Teilnahme an allen eLectures der Virtuellen PH ist für österreichische Hochschullehrende\, Lehrkräfte und Studierende eines Lehramts kostenlos.\n		 \n		\n			# Eine Übersicht über das neue Schulbuch bekommen. \n# Die Funktionen des BBC micro:bit V2 kennen lernen. \n# Die Verwendung und das Konzept des Schulbuchs kennen lernen.
URL:https://www.virtuelle-ph.at/veranstaltung/microbit-electure-1-die-version-2-des-bbc-micorbit-und-das-neue-schulbuch/
CATEGORIES:eLecture,Reihe microbit2022
END:VEVENT
BEGIN:VEVENT
DTSTART;TZID=Europe/Berlin:20190117T170000
DTEND;TZID=Europe/Berlin:20190117T180000
DTSTAMP:20260420T092714
CREATED:20181204T033129Z
LAST-MODIFIED:20190118T084818Z
UID:10003054-1547744400-1547748000@www.virtuelle-ph.at
SUMMARY:eLecture #DigiGrubi: Computational Thinking mit dem BBC micro:bit
DESCRIPTION:zur Aufzeichnung\n\n\n						Die e-Lecture widmet sich dem neuen österreichischen OER Schulbuch über den BBC micro:bit. Das Buch dient als Ideengeber über spannende und kreative Projekte für die Digitale Grundbildung im Kompetenzbereich Computational Thinking. Die Ideen und Anleitungen sollen einen fächerübergreifenden und projektorientierten Unterricht in der Sekundarstufe I ermöglichen. Es ist kein reines Informatik- oder „Programmierlernbuch“. Dabei wurden vom Projektteam Beispiele kreiert bzw. adaptiert\, die aus möglichst verschiedenen Unterrichtsgegenständen stammen und das darin vermittelte Fachwissen bestmöglich vernetzt und den Zusammenhang mit den Lebenswelten der Schüler und Schülerinnen herstellt. Das Buch wurde von einem Expertenteam aus sechs Pädagogischen Hochschulen und der TU Graz estellt. \nAlois Bachinger und Martin Teufel sind Herausgeber dieses Buches. \nInhalt der eLecture:  \n# Konzept und Idee des Buches\n# Einführung in das Programmieren mit dem BBC micro:bit\n# Übersicht über die Beispiele\n# Fragen&Antworten \nCoModeration: Walter Fikisz \n\n			\n				\n			\n			Teilnahmekriterien & Info\n		 \n		\n			Lernziele\n		 \n		\n			Voraussetzungen\n		\n		 \n		\n			\n				\n					\n			Technische Voraussetzungen: Grundlegende Computerkenntnisse\, gute Internetverbindung; optional: Headset. \nSo treten Sie der eLecture im virtuellen Lernraum bei:  \n1. Rufen Sie 10 min vor Terminstart folgende Seite auf:  \nvph.adobeconnect.com/drei/ \n2. Geben Sie bitte Ihren Vor- und Nachnamen ein und „Betreten Sie den Raum“ mit Klick auf den Button. \n3. Folgen Sie den Anweisungen auf dem Bildschirm. Sie werden in Kürze eingelassen. \nWenn Sie noch an keiner eLecture teilgenommen haben\, finden Sie alle Infos zum Einstieg unter: www.virtuelle-ph.at/electures/#einstieg \nDie Teilnahme an allen eLectures der Virtuellen PH ist für österreichische Lehrkräfte und Studierende eines Lehramts kostenlos.\n		 \n		\n			# Das Buch „Computational Thinking mit dem BBC micro:bit“ kennenlernen.\n# Idee und Arbeitsweise kennlernen
URL:https://www.virtuelle-ph.at/veranstaltung/electure-digigrubi-computational-thinking-mit-dem-bbc-microbit/
CATEGORIES:eLecture,Reihe Digitale Grundbildung
END:VEVENT
END:VCALENDAR