BEGIN:VCALENDAR
VERSION:2.0
PRODID:-//Virtuelle PH - ECPv6.6.4.2//NONSGML v1.0//EN
CALSCALE:GREGORIAN
METHOD:PUBLISH
X-ORIGINAL-URL:https://www.virtuelle-ph.at
X-WR-CALDESC:Veranstaltungen für Virtuelle PH
REFRESH-INTERVAL;VALUE=DURATION:PT1H
X-Robots-Tag:noindex
X-PUBLISHED-TTL:PT1H
BEGIN:VTIMEZONE
TZID:Europe/Berlin
BEGIN:DAYLIGHT
TZOFFSETFROM:+0100
TZOFFSETTO:+0200
TZNAME:CEST
DTSTART:20180325T010000
END:DAYLIGHT
BEGIN:STANDARD
TZOFFSETFROM:+0200
TZOFFSETTO:+0100
TZNAME:CET
DTSTART:20181028T010000
END:STANDARD
END:VTIMEZONE
BEGIN:VEVENT
DTSTART;TZID=Europe/Berlin:20180301T193000
DTEND;TZID=Europe/Berlin:20180301T203000
DTSTAMP:20260420T141226
CREATED:20180205T093055Z
LAST-MODIFIED:20180302T083108Z
UID:10002741-1519932600-1519936200@www.virtuelle-ph.at
SUMMARY:eLecture: Der SQA-Schulentwicklungsplan  – so wird er zum hilfreichen Werkzeug!
DESCRIPTION:zur Aufzeichnung \n\n\n						Oftmals wird der SQA-Schulentwicklungsplan als aufwändige Schreibarbeit und wenig hilfreich empfunden. Hier soll ein Leitfaden geboten werden\, wie der Plan erstellt\, gestaltet und umgesetzt werden kann ohne zusätzliche Belastung\, sondern sinnvoll und wirksam. \nAls SQA-Landeskoordinator (für APS NÖ) und NMS-Schulleiter hat Michel Dollischal bereits viel Erfahrung sammeln dürfen. Diese Expertise gepaart mit fundiertem Wissen möchte ich in dieser E-lecture weitergeben. \nDie geplanten Inhalte sind: \nGrundzüge von Prozessmanagement – Zielformulierungen – Evaluation  – viele praktische Tipps und Hinweise! \nDiese eLecture ist für Sie geeignet\, wenn Sie \n\nSQA-Schulkoordinator/in\,\nSchulleiter/in\, \n\nLehrer/in sind\, \n\n\n\ndie in Schulentwicklungsteams mitarbeiten oder sich dafür interessieren. \n————- \nBei dieser eLecture handelt es sich um ein begleitetes OTA Praktikum. Mehr zur OTA unter www.virtuelle-ph.at/ota \n\n			\n				\n			\n			Teilnahmekriterien & Info\n		 \n		\n			Lernziele\n		 \n		\n			Voraussetzungen\n		\n		 \n		\n			\n				\n					\n			Technische Voraussetzungen: Grundlegende Computerkenntnisse\, gute Internetverbindung; optional: Headset. \nSo treten Sie der eLecture im virtuellen Lernraum bei:  \n1. Rufen Sie 10 min vor Terminstart folgende Seite auf:  \nvph.adobeconnect.com/vier/ \n2. Geben Sie bitte Ihren Vor- und Nachnamen ein und „Betreten Sie den Raum“ mit Klick auf den Button. \n3. Folgen Sie den Anweisungen auf dem Bildschirm. Sie werden in Kürze eingelassen. \nWenn Sie noch an keiner eLecture teilgenommen haben\, finden Sie alle Infos zum Einstieg unter: www.virtuelle-ph.at/electures/#einstieg \nDie Teilnahme an allen eLectures der Virtuellen PH ist für österreichische Lehrkräfte und Studierende eines Lehramts kostenlos.\n		 \n		\n			\nDie TN verstehen SQA-Schulentwicklungsplan als Instrument zur Schulentwicklung.\n\nDie TN können Grundzüge aus den Prozessmanagement an ihrem Standort anwenden.\n\nDie TN formulieren „SMARTE“ Ziele.\n\nDie TN lernen Qualitätsabläufe kennen.\n\nDie TN lernen Evaluation zur Zielerreichung als notwendiges Mittel erkennen.
URL:https://www.virtuelle-ph.at/veranstaltung/electure-der-sqa-schulentwicklungsplan-so-wird-er-zum-hilfreichen-werkzeug/
CATEGORIES:eLecture
END:VEVENT
END:VCALENDAR