BEGIN:VCALENDAR
VERSION:2.0
PRODID:-//Virtuelle PH - ECPv6.6.4.2//NONSGML v1.0//EN
CALSCALE:GREGORIAN
METHOD:PUBLISH
X-ORIGINAL-URL:https://www.virtuelle-ph.at
X-WR-CALDESC:Veranstaltungen für Virtuelle PH
REFRESH-INTERVAL;VALUE=DURATION:PT1H
X-Robots-Tag:noindex
X-PUBLISHED-TTL:PT1H
BEGIN:VTIMEZONE
TZID:Europe/Vienna
BEGIN:DAYLIGHT
TZOFFSETFROM:+0100
TZOFFSETTO:+0200
TZNAME:CEST
DTSTART:20230326T010000
END:DAYLIGHT
BEGIN:STANDARD
TZOFFSETFROM:+0200
TZOFFSETTO:+0100
TZNAME:CET
DTSTART:20231029T010000
END:STANDARD
END:VTIMEZONE
BEGIN:VEVENT
DTSTART;TZID=Europe/Vienna:20230118T090000
DTEND;TZID=Europe/Vienna:20230118T100000
DTSTAMP:20260420T203749
CREATED:20221115T230309Z
LAST-MODIFIED:20230119T122446Z
UID:10004091-1674032400-1674036000@www.virtuelle-ph.at
SUMMARY:digiPH6 Keynote: Aktive Lernkultur in der Hochschullehre
DESCRIPTION:Aufzeichnung \n\n						Die diesjährige Auftaktveranstaltung der #digiPH6 beginnt mit der Keynote von Michael Folgmann (TU München)\, der über aktive Lernkultur in der Hochschullehre sprechen wird. Nach der Diskussion gibt es noch einen Überblick über die #digiPH6 Formate und Beiträge.  \nAbstract Michael Folgmann: Aktive Lernkultur in der Hochschullehre\nDas Digitalisierungspendel schwingt nach einer großen Auslenkung zu Beginn der Pandemie derzeit eher wieder Richtung klassische Präsenzlehre. Dennoch: In der Hochschullehre wird heute mehr denn je über diverse Formate mit diversen digitalen Tools diskutiert. Neue Lehrformate – z.B. hybrid Lehre – machen die Runde und eine wachsende Zahl von immer ausgefeilteren digitalen Tools ermöglicht mannigfaltig nutzbare Lehrmethoden in kleinen wie großen Gruppen. Die didaktische Währung dieser Lehre heißt Aktivierung. \nCo-Moderation: Gerlinde Schwabl\nModeration: Walter Fikisz \n\nExpert_in: Michael Folgmann \n\n\n			\n				\n			\n			Teilnahmekriterien & Info\n		 \n		\n			Lernziele\n		 \n		\n			Voraussetzungen\n		\n		 \n		\n			\n				\n					\n			So treten Sie der Veranstaltung im virtuellen Lernraum bei: \n1. Rufen Sie 5-10 min vor Terminstart den Link zum Virtuellen Lernraum auf: \nvirtuelle-ph-at.zoom.us/my/virtuelleph.electureeins \n2. Geben Sie bitte Ihren vollen Namen ein und klicken Sie den Button „Einem Meeting Beitreten“.                              \n3. Klicken Sie dann auch den grünen Button „Per Computer dem Audio beitreten“ an.\nDas bewirkt\, dass Sie uns hören und sehen können. Sie werden in Kürze eingelassen. \nDie Teilnahme an allen Veranstaltungen der Virtuellen PH ist für österreichische Hochschullehrende\, Lehrkräfte und Studierende eines Lehramts kostenlos.\n		 \n		\n			# Orientierung bezüglich aktueller Hochschulbildungsthemen mit Fokus auf Digitale Hochschullehre in großen und kleinen Gruppen gewinnen\n# Trends in der digitalen Hochschullehre kennenlernen\n# In Austausch und Vernetzung mit Hochschulkolleg_innen kommen
URL:https://www.virtuelle-ph.at/veranstaltung/digiph6-keynote-aktive-lernkultur-in-der-hochschullehre/
CATEGORIES:eLecture,Online-Tagung digiPH6 AT
END:VEVENT
END:VCALENDAR