BEGIN:VCALENDAR
VERSION:2.0
PRODID:-//Virtuelle PH - ECPv6.6.4.2//NONSGML v1.0//EN
CALSCALE:GREGORIAN
METHOD:PUBLISH
X-ORIGINAL-URL:https://www.virtuelle-ph.at
X-WR-CALDESC:Veranstaltungen für Virtuelle PH
REFRESH-INTERVAL;VALUE=DURATION:PT1H
X-Robots-Tag:noindex
X-PUBLISHED-TTL:PT1H
BEGIN:VTIMEZONE
TZID:Europe/Berlin
BEGIN:DAYLIGHT
TZOFFSETFROM:+0100
TZOFFSETTO:+0200
TZNAME:CEST
DTSTART:20170326T010000
END:DAYLIGHT
BEGIN:STANDARD
TZOFFSETFROM:+0200
TZOFFSETTO:+0100
TZNAME:CET
DTSTART:20171029T010000
END:STANDARD
BEGIN:DAYLIGHT
TZOFFSETFROM:+0100
TZOFFSETTO:+0200
TZNAME:CEST
DTSTART:20180325T010000
END:DAYLIGHT
BEGIN:STANDARD
TZOFFSETFROM:+0200
TZOFFSETTO:+0100
TZNAME:CET
DTSTART:20181028T010000
END:STANDARD
END:VTIMEZONE
BEGIN:VEVENT
DTSTART;TZID=Europe/Berlin:20180108T180000
DTEND;TZID=Europe/Berlin:20180108T190000
DTSTAMP:20260420T123618
CREATED:20171218T141506Z
LAST-MODIFIED:20200512T043528Z
UID:10002752-1515434400-1515438000@www.virtuelle-ph.at
SUMMARY:eLecture: Urheberrecht für Lehrende
DESCRIPTION:zur Aufzeichnung \n\n\nUrheberrecht ist ein Thema\, das sich stark an den jeweiligen technischen Möglichkeiten orientiert. Dies führt dazu\, dass oft mehr möglich ist\, als eigentlich rechtlich zulässig. Gerade Lehrende haben hier eine wichtige Rolle\, sollen sie doch nicht nur bei den Lernenden Bewusstsein schaffen sondern auch selbst Urheberrechtsverstöße vermeiden. Diese eLecture stellt Informationen zum Urheberrecht fokussiert auf die Lehre bereit und räumt auch mit urbanen Mythen wie der Raubkopie auf. \nMag. Michael Lanzinger war nach seinem Studium der Rechtswissenschaften im Bereich eLearning am Institut für Multimediale Linzer Rechtsstudien tätig und ist seither auch externer Lektor im Bereich IT- und Urheberrecht. Überdies ist er selbständiger Rechtsanwalt in Wels\, der in seiner Freizeit gerne Science-Fiction liest. \nInhalte: \n– Übersicht über das österreichische Urheberrecht \n– freie Werknutzung und Zitatrecht \n– Grenzen der freien Werknutzung\, insbesondere. die Schulbuch-Ausnahme \n– Creative Commons \nDiese eLecture ist für Sie geeignet wenn \n– Sie schon immer etwas über Creative Commons wissen wollten \n– Sie sich nicht sicher sind\, was auf eine Lernplattform gestellt werden kann \n– Sie Ihren Lernenden einen Überblick über das Zitatrecht geben möchten \n– Sie selbst in Ihrer Tätigkeit Plagiate vermeiden möchten \nCoModeration: Daniel Pfeiffer \n\n			\n				\n			\n			Teilnahmekriterien & Info\n		 \n		\n			Lernziele\n		 \n		\n			Voraussetzungen\n		\n		 \n		\n			\n				\n					\n			Technische Voraussetzungen: Grundlegende Computerkenntnisse\, gute Internetverbindung; optional: Headset. \nSo treten Sie der eLecture im virtuellen Lernraum bei: \n1. Rufen Sie 10 min vor Terminstart folgende Seite auf: \nvph.adobeconnect.com/eins/ \n2. Geben Sie bitte Ihren Vor- und Nachnamen ein und „Betreten Sie den Raum“ mit Klick auf den Button. \n3. Folgen Sie den Anweisungen auf dem Bildschirm. Sie werden in Kürze eingelassen. \nWenn Sie noch an keiner eLecture teilgenommen haben\, finden Sie alle Infos zum Einstieg unter: www.virtuelle-ph.at/electures/#einstieg \nDie Teilnahme an allen eLectures der Virtuellen PH ist für österreichische Lehrkräfte und Studierende eines Lehramts kostenlos.\n		 \n		\n			– die Grundlagen des österreichischen Urheberrechtes kennen \n– Infos zur Schulbuch-Ausnahme bei der freien Werknutzung haben
URL:https://www.virtuelle-ph.at/veranstaltung/electure-urheberrecht-fuer-lehrende/
CATEGORIES:eLecture
END:VEVENT
BEGIN:VEVENT
DTSTART;TZID=Europe/Berlin:20171009T180000
DTEND;TZID=Europe/Berlin:20171009T190000
DTSTAMP:20260420T123618
CREATED:20170627T084013Z
LAST-MODIFIED:20171010T094703Z
UID:10002572-1507572000-1507575600@www.virtuelle-ph.at
SUMMARY:eLecture: Akademische Unredlichkeiten vermeiden – Plagiat & Co
DESCRIPTION:Spätestens seit bei Personen der Öffentlichkeit erstmals akademische Grade aberkannt wurde\, da diese nicht wissenschaftlich korrekt gearbeitet haben\, ist das Thema Plagiat in der Gesellschaft angekommen. Selbst Schüler_innen werden nunmehr darüber informiert\, was es bedeutet\, wissenschaftlich zu arbeiten und wie man Plagiate am besten vermeidet\, und die Bedeutung für Studierende und Hochschullehrende liegt auf der Hand. \nDiese eLecture soll den Teilnehmer_innen als Lehrenden und Lernenden einen Einblick in wissenschaftlich korrektes Arbeiten geben\, um falsche Zitierweisen und dadurch letztlich Plagiate zu vermeiden und dies auch weitervermitteln zu können. \nMag.a Dr.in Natascha Miljković ist Science Counsellor und Expertin für akademische Integrität. Sie betreibt die Agentur Zitier-Weise und betreut regelmäßig auch Personen bei der Überprüfung von wissenschaftlichen Arbeiten unter Zuhilfenahme von Textanalyseprogrammen. \nMag. Michael Lanzinger ist selbständiger Rechtsanwalt mit Schwerpunkt im Urheberrecht\, weiters Vortragender und Lehrender in den rechtlichen Bereichen des E-Learning sowie hinsichtlich Creative Commons und Open Educational Ressources. \nIn ihrer gemeinsamen eLecture führt zunächst Natascha Miljković in Wissenschaftsprinzipien vs. Formen akademischer Unredlichkeiten ein. So werden Phänomene wie „Contract Cheating“\, Plagiarismus und akademisches Ghostwriting genauer betrachtet. Zudem erfahren Sie Wissenswertes über Plagiatsprüfprogramme. Michael Lanzinger steuert seinerseits Informationen zur freien Werknutzung im österreichischen Urheberrecht und zum Zitatrecht als Form der freien Werknutzung ein und behandelt Ausnahmefällte (Schulbücher!) stellt die Frage nach „Creative Commons als Zitat 2.0?“ \nDiese eLecture ist für Sie interessant\, wenn Sie \n\nsich eingehender mit Wissenschaftlichem Arbeiten beschäftigen möchten\nkompetent wissenschaftliches Arbeiten begleiten wollen\n\nCoModeration: Elisabeth Eder-Janca \n\n			\n				\n			\n			Teilnahmekriterien & Info\n		 \n		\n			Lernziele\n		 \n		\n			Voraussetzungen\n		\n		 \n		\n			\n				\n					\n			Technische Voraussetzungen: Grundlegende Computerkenntnisse\, gute Internetverbindung; optional: Headset. \nSo treten Sie der eLecture im virtuellen Lernraum bei: \n1. Rufen Sie 10 min vor Terminstart folgende Seite auf: \nvph.adobeconnect.com/eins/ \n2. Geben Sie bitte Ihren Vor- und Nachnamen ein und „Betreten Sie den Raum“ mit Klick auf den Button. \n3. Folgen Sie den Anweisungen auf dem Bildschirm. Sie werden in Kürze eingelassen. \nWenn Sie noch an keiner eLecture teilgenommen haben\, finden Sie alle Infos zum Einstieg unter: www.virtuelle-ph.at/electures/#einstieg \nDie Teilnahme an allen eLectures der Virtuellen PH ist für österreichische Lehrkräfte und Studierende eines Lehramts kostenlos.\n		 \n		\n			\nMerkmale wissenschaftlich\nkorrekten Arbeitens kennen und dieses beherrschen\nfalsche Zitierweisen erkennen und (somit auch Plagiate) vermeiden können\nWege zur Ermittlung von Plagiaten kennenlernen
URL:https://www.virtuelle-ph.at/veranstaltung/electure-akademische-unredlichkeiten-vermeiden-plagiat-co/
CATEGORIES:eLecture,Reihe Speziell für PH Lehrende empfohlen
END:VEVENT
BEGIN:VEVENT
DTSTART;TZID=Europe/Berlin:20170926T180000
DTEND;TZID=Europe/Berlin:20170926T190000
DTSTAMP:20260420T123618
CREATED:20170629T080115Z
LAST-MODIFIED:20170927T065630Z
UID:10002574-1506448800-1506452400@www.virtuelle-ph.at
SUMMARY:eLecture: die Law Busters zu Urheberrecht und Geschäftsfähigkeit
DESCRIPTION:Hand aufs Herz\, wer kennt sich wirklich aus\, was man im Internet darf? Und gleichzeitig\, wie viele Bilder\, Beiträge und so weiter werden trotzdem täglich gepostet? Bald kennen Sie sich besser aus\, denn die Law Busters geben Ihnen einen Überblick über die Dos und Don’ts im Web aus rechtlicher Sicht\, sei das nun der Umgang mit Fotos oder dem Urheberrecht generell. \nDie Vortragenden Mag. Michael Lanzinger und Mag. Maximilian Modl sind Teil der sogenannten Law Busters\, einer Gruppe aus vier Jurist_innen\, die alle an der Johannes-Kepler-Universität studiert haben und danach auch an der Universität als Wissenschaftliche Mitarbeiter_innen tätig waren. Mag. Lanzinger ist überdies auch als Rechtsanwalt im Bereich IT-Recht tätig. \nFolgende Inhalte werden in dieser eLecture behandelt: \n# Urheberrecht und Persönlichkeitsrechte bei Fotos\n# Urheberrecht bei der Veröffentlichung von Aufsätzen (von Lernenden)\n# Urheberrecht und Datenschutz im Zusammenspiel mit Geschäftsfähigkeit \nDiese eLecture ist für Sie interessant\, wenn\n# Sie Lehrende_r und/oder Lernende_r sind und sich mit diesen rechtlichen Themen auseinandersetzen möchten\, um im Schulalltag auf der sicheren Seite zu sein\n# Sie den Experten Fragen rund um diese rechtliche Themen im Schulkontext stellen möchten \nCoModeration: Elisabeth Eder-Janca \n\n			\n				\n			\n			Teilnahmekriterien & Info\n		 \n		\n			Lernziele\n		 \n		\n			Voraussetzungen\n		\n		 \n		\n			\n				\n					\n			Technische Voraussetzungen: Grundlegende Computerkenntnisse\, gute Internetverbindung; optional: Headset.  \nSo treten Sie der eLecture im virtuellen Lernraum bei:  \n1. Rufen Sie 10 min vor Terminstart folgende Seite auf:  \nvph.adobeconnect.com/zwei/ \n2. Geben Sie bitte Ihren Vor- und Nachnamen ein und „Betreten Sie den Raum“ mit Klick auf den Button. \n3. Folgen Sie den Anweisungen auf dem Bildschirm. Sie werden in Kürze eingelassen. \nWenn Sie noch an keiner eLecture teilgenommen haben\, finden Sie alle Infos zum Einstieg unter: www.virtuelle-ph.at/electures/#einstieg \nDie Teilnahme an allen eLectures der Virtuellen PH ist für österreichische Lehrkräfte und Studierende eines Lehramts kostenlos.\n		 \n		\n			# Kenntnisse über das Urheberrecht in Österreich erlangen \n# Kenntnisse über die Geschäftsfähigkeit (abgestuft nach Alter) in Österreich erlangen \n# Kenntnisse über die Sonderprobleme bei Fotos und Inhalten\, die online gestellt werden erlangen
URL:https://www.virtuelle-ph.at/veranstaltung/electure-die-law-busters-zu-urheberrecht-und-geschaeftsfaehigkeit-2/
CATEGORIES:eLecture
END:VEVENT
BEGIN:VEVENT
DTSTART;TZID=Europe/Berlin:20170621T180000
DTEND;TZID=Europe/Berlin:20170621T190000
DTSTAMP:20260420T123618
CREATED:20170517T081922Z
LAST-MODIFIED:20170621T112300Z
UID:10002591-1498068000-1498071600@www.virtuelle-ph.at
SUMMARY:LEIDER ABGESAGT: eLecture: die Law Busters zu Urheberrecht und Geschäftsfähigkeit
DESCRIPTION:CoModeration: Elisabeth Eder-Janca \nHand aufs Herz\, wer kennt sich wirklich aus\, was man im Internet darf? Und gleichzeitig\, wie viele Bilder\, Beiträge und so weiter werden trotzdem täglich gepostet? Bald kennen Sie sich besser aus\, denn die Law Busters geben Ihnen einen Überblick über die Dos und Don’ts im Web aus rechtlicher Sicht\, sei das nun der Umgang mit Fotos oder dem Urheberrecht generell. \nDie Vortragenden Mag. Michael Lanzinger und Mag. Maximilian Modl sind Teil der sogenannten Law Busters\, einer Gruppe aus vier Jurist_innen\, die alle an der Johannes-Kepler-Universität studiert haben und danach auch an der Universität als Wissenschaftliche Mitarbeiter_innen tätig waren. Mag. Lanzinger ist überdies auch als Rechtsanwalt im Bereich IT-Recht tätig. \nFolgende Inhalte werden in dieser eLecture behandelt: \n# Urheberrecht und Persönlichkeitsrechte bei Fotos\n# Urheberrecht bei der Veröffentlichung von Aufsätzen (von Lernenden)\n# Urheberrecht und Datenschutz im Zusammenspiel mit Geschäftsfähigkeit \nDiese eLecture ist für Sie interessant\, wenn\n# Sie Lehrende_r und/oder Lernende_r sind und sich mit diesen rechtlichen Themen auseinandersetzen möchten\, um im Schulalltag auf der sicheren Seite zu sein\n# Sie den Experten Fragen rund um diese rechtliche Themen im Schulkontext stellen möchten \n\n			\n				\n			\n			Teilnahmekriterien & Info\n		 \n		\n			Lernziele\n		 \n		\n			Voraussetzungen\n		\n		 \n		\n			\n				\n					\n			Technische Voraussetzungen: Grundlegende Computerkenntnisse\, gute Internetverbindung; optional: Headset. \nSo treten Sie der eLecture im virtuellen Lernraum bei: \n1. Rufen Sie 10 min vor Terminstart folgende Seite auf: \nvph.adobeconnect.com/drei/ \n2. Geben Sie bitte Ihren Vor- und Nachnamen ein und „Betreten Sie den Raum“ mit Klick auf den Button. \n3. Folgen Sie den Anweisungen auf dem Bildschirm. Sie werden in Kürze eingelassen. \nWenn Sie noch an keiner eLecture teilgenommen haben\, finden Sie alle Infos zum Einstieg unter:\nwww.virtuelle-ph.at/electures/#einstieg \nDie Teilnahme an allen eLectures der Virtuellen PH ist für österreichische Lehrkräfte und Studierende eines Lehramts kostenlos.\n		 \n		\n			# Kenntnisse über das Urheberrecht in Österreich erlangen\n# Kenntnisse über die Geschäftsfähigkeit (abgestuft nach Alter) in Österreich erlangen\n# Kenntnisse über die Sonderprobleme bei Fotos und Inhalten\, die online gestellt werden erlangen
URL:https://www.virtuelle-ph.at/veranstaltung/electure-die-law-busters-zu-urheberrecht-und-geschaeftsfaehigkeit/
CATEGORIES:eLecture
END:VEVENT
END:VCALENDAR