BEGIN:VCALENDAR
VERSION:2.0
PRODID:-//Virtuelle PH - ECPv6.6.4.2//NONSGML v1.0//EN
CALSCALE:GREGORIAN
METHOD:PUBLISH
X-WR-CALNAME:Virtuelle PH
X-ORIGINAL-URL:https://www.virtuelle-ph.at
X-WR-CALDESC:Veranstaltungen für Virtuelle PH
REFRESH-INTERVAL;VALUE=DURATION:PT1H
X-Robots-Tag:noindex
X-PUBLISHED-TTL:PT1H
BEGIN:VTIMEZONE
TZID:Europe/Berlin
BEGIN:DAYLIGHT
TZOFFSETFROM:+0100
TZOFFSETTO:+0200
TZNAME:CEST
DTSTART:20180325T010000
END:DAYLIGHT
BEGIN:STANDARD
TZOFFSETFROM:+0200
TZOFFSETTO:+0100
TZNAME:CET
DTSTART:20181028T010000
END:STANDARD
BEGIN:DAYLIGHT
TZOFFSETFROM:+0100
TZOFFSETTO:+0200
TZNAME:CEST
DTSTART:20190331T010000
END:DAYLIGHT
BEGIN:STANDARD
TZOFFSETFROM:+0200
TZOFFSETTO:+0100
TZNAME:CET
DTSTART:20191027T010000
END:STANDARD
END:VTIMEZONE
BEGIN:VEVENT
DTSTART;VALUE=DATE:20190114
DTEND;VALUE=DATE:20190204
DTSTAMP:20260420T112242
CREATED:20180611T140501Z
LAST-MODIFIED:20190113T033017Z
UID:10002965-1547424000-1549238399@www.virtuelle-ph.at
SUMMARY:Unternehmerführerschein – Modul C
DESCRIPTION:Zur Anmeldung\n						\n\n						Dieses dreiwöchige Online-Seminar soll Ihnen helfen betriebswirtschaftliches Basiswissen vor allem im Bereich der Unternehmensgründung aufzubauen bzw. zu vertiefen. Zudem sollen Sie trainieren\, wie dieses Wissen didaktisch im Unterricht vermittelt werden kann\, um Ihre Schüler/innen optimal auf die erfolgreiche Absolvierung des Unternehmerführerscheins Modul C vorzubereiten. \nThemenbereiche umfassen:\n– Unternehmensgründung\n– Rechtliche Grundlagen und Finanzen\n– Marketing \n\n			\n				\n			\n			Teilnahmekriterien & Info\n		 \n		\n			Lernziele\n		 \n		\n			Voraussetzungen\n		\n		 \n		\n			\n				\n					\n			Anmerkung: Die Teilnahme an allen im Rahmen des Online-Programms angebotenen Online-Seminaren der Virtuellen PH ist für österreichische Lehrkräfte und Studierende eines Lehramts kostenlos. Die Seminarplätze werden nach dem Prinzip first come\, first served – also chronologisch nach dem Zeitpunkt Ihrer Seminarbuchung über PH-Online – vergeben. Bis Mittwoch vor Beginn des jeweiligen Online-Seminars können Sie über PH-Online Ihr gebuchtes Online-Seminar selber kostenlos stornieren. Für ein allfälliges Storno zu einem späteren Zeitpunkt wenden Sie sich bitte an: info@virtuelle-ph.at\n		 \n		\n			Erwerb bzw. Vertiefung von betriebswirtschaftlichem Grundlagenwissen. Erweiterung der eigenen Kompetenzen bei der Vermittlung dieses Wissens an Schülerinnen und Schüler.\n		 \n		\n			Der Kurs richtet sich an Lehrkräfte\, die ihr volkswirtschaftliches Grundlagenwissen aufbauen bzw. vertiefen möchten. Sie entwickeln und erhalten zudem zahlreiche Materialien zu ausgewählten Themen\, die Sie für sich und Ihren Unterricht verwenden können.
URL:https://www.virtuelle-ph.at/veranstaltung/unternehmerfuehrerschein-modul-c/
CATEGORIES:Online-Programm HerbstWinterprogramm,Online-Seminar
END:VEVENT
BEGIN:VEVENT
DTSTART;VALUE=DATE:20181022
DTEND;VALUE=DATE:20181112
DTSTAMP:20260420T112242
CREATED:20180611T140523Z
LAST-MODIFIED:20181113T071154Z
UID:10002956-1540166400-1541980799@www.virtuelle-ph.at
SUMMARY:Unternehmerführerschein – Modul A
DESCRIPTION:Zur Anmeldung\n						\n\n						Dieses dreiwöchige Online-Seminar soll Ihnen helfen wirtschaftliches Basiswissen aufzubauen bzw. zu vertiefen. Zudem sollen Sie verschiedene Methoden anwenden\, mit denen dieses Wissen didaktisch im Unterricht vermittelt werden kann\, um Ihre Schüler_innen optimal auf die erfolgreiche Absolvierung des WKO Unternehmerführerscheins Modul A vorzubereiten. \nFolgende Fachinhalte werden dabei aus fachlicher sowie fachdidaktischer Sicht behandelt:\n* Der Wirtschaftskreislauf  (Bedürfnisse\, Arbeitsteilung\, Wirtschaftsakteure und Austauschbeziehungen)\n* Der Markt und der Staat (Angebot und Nachfrage\, Preisbildung\, Wirtschaftsordnungen)\n* Die Leistungserstellung im Unternehmen (Das Unternehmen und sein Umfeld\, Kern- und Unterstützungsbereiche der Leistungserstellung) \nBei diesem Online-Seminar handelt es sich um ein begleitetes OTA Praktikum. Mehr Informationen zur Online Tutoring Ausbildung unter www.virtuelle-ph.at/ota! \nwww.virtuelle-ph.at/online-seminare \n\n			\n				\n			\n			Teilnahmekriterien & Info\n		 \n		\n			Lernziele\n		 \n		\n			Voraussetzungen\n		\n		 \n		\n			\n				\n					\n			Anmerkung: Die Teilnahme an allen im Rahmen des Online-Programms angebotenen Online-Seminaren der Virtuellen PH ist für österreichische Lehrkräfte\, PH-Lehrende und Studierende eines Lehramts kostenlos. Die Seminarplätze werden nach dem Prinzip first come\, first served – also chronologisch nach dem Zeitpunkt Ihrer Seminarbuchung über PH-Online – vergeben. Bis Mittwoch vor Beginn des jeweiligen Online-Seminars können Sie über PH-Online Ihr gebuchtes Online-Seminar selber kostenlos stornieren. Für ein allfälliges Storno zu einem späteren Zeitpunkt wenden Sie sich bitte an: info@virtuelle-ph.at\n		 \n		\n			Erwerb bzw. Vertiefung wirtschaftlichen Basiswissens. Erweiterung der eigenen Kompetenzen bei der Vermittlung dieses Wissens an Schülerinnen und Schüler.\n		 \n		\n			Der Kurs richtet sich an Lehrkräfte\, die ihr wirtschaftliches Basiswissen aufbauen bzw. vertiefen möchten. Sie entwickeln und erhalten zudem zahlreiche Materialien zu ausgewählten Themen\, die Sie für sich und Ihren Unterricht verwenden können.
URL:https://www.virtuelle-ph.at/veranstaltung/unternehmerfuehrerschein-modul-a-3/
CATEGORIES:Online-Programm HerbstWinterprogramm,Online-Seminar
END:VEVENT
BEGIN:VEVENT
DTSTART;VALUE=DATE:20180305
DTEND;VALUE=DATE:20180326
DTSTAMP:20260420T112242
CREATED:20180223T121232Z
LAST-MODIFIED:20180304T033443Z
UID:10002826-1520208000-1522022399@www.virtuelle-ph.at
SUMMARY:Unternehmerführerschein Modul A
DESCRIPTION:Zur Anmeldung\n						\n\n						Dieses dreiwöchige Online-Seminar soll Ihnen helfen wirtschaftliches Basiswissen aufzubauen bzw. zu vertiefen. Zudem sollen Sie verschiedene Methoden anwenden\, mit denen dieses Wissen didaktisch im Unterricht vermittelt werden kann\, um Ihre Schüler_innen optimal auf die erfolgreiche Absolvierung des WKO Unternehmerführerscheins Modul A vorzubereiten. \nFolgende Fachinhalte werden dabei aus fachlicher sowie fachdidaktischer Sicht behandelt:\n* Der Wirtschaftskreislauf  (Bedürfnisse\, Arbeitsteilung\, Wirtschaftsakteure und Austauschbeziehungen)\n* Der Markt und der Staat (Angebot und Nachfrage\, Preisbildung\, Wirtschaftsordnungen)\n* Die Leistungserstellung im Unternehmen (Das Unternehmen und sein Umfeld\, Kern- und Unterstützungsbereiche der Leistungserstellung) \nBei diesem Online-Seminar handelt es sich um ein begleitetes OTA Praktikum. Mehr Informationen zur Online Tutoring Ausbildung unter www.virtuelle-ph.at/ota! \nwww.virtuelle-ph.at/online-seminare \n\n			\n				\n			\n			Teilnahmekriterien & Info\n		 \n		\n			Lernziele\n		 \n		\n			Voraussetzungen\n		\n		 \n		\n			\n				\n					\n			Anmerkung: Die Teilnahme an allen im Rahmen des Online-Programms angebotenen Online-Seminaren der Virtuellen PH ist für österreichische Lehrkräfte und Studierende eines Lehramts kostenlos. Die Seminarplätze werden nach dem Prinzip first come\, first served – also chronologisch nach dem Zeitpunkt Ihrer Seminarbuchung über PH-Online – vergeben. Bis Mittwoch vor Beginn des jeweiligen Online-Seminars können Sie über PH-Online Ihr gebuchtes Online-Seminar selber kostenlos stornieren. Für ein allfälliges Storno zu einem späteren Zeitpunkt wenden Sie sich bitte an: info@virtuelle-ph.at\n		 \n		\n			Erwerb bzw. Vertiefung wirtschaftlichen Basiswissens. Erweiterung der eigenen Kompetenzen bei der Vermittlung dieses Wissens an Schülerinnen und Schüler.\n		 \n		\n			Der Kurs richtet sich an Lehrkräfte\, die ihr wirtschaftliches Basiswissen aufbauen bzw. vertiefen möchten. Sie entwickeln und erhalten zudem zahlreiche Materialien zu ausgewählten Themen\, die Sie für sich und Ihren Unterricht verwenden können.
URL:https://www.virtuelle-ph.at/veranstaltung/unternehmerfuehrerschein-modul-a/
CATEGORIES:Online-Programm Frühjahrsprogramm,Online-Seminar
END:VEVENT
BEGIN:VEVENT
DTSTART;VALUE=DATE:20180305
DTEND;VALUE=DATE:20180326
DTSTAMP:20260420T112242
CREATED:20171215T145519Z
LAST-MODIFIED:20180304T033429Z
UID:10002734-1520208000-1522022399@www.virtuelle-ph.at
SUMMARY:Unternehmerführerschein Modul A
DESCRIPTION:Zur Anmeldung\n						\n\n						Dieses dreiwöchige Online-Seminar soll Ihnen helfen wirtschaftliches Basiswissen aufzubauen bzw. zu vertiefen. Zudem sollen Sie verschiedene Methoden anwenden\, mit denen dieses Wissen didaktisch im Unterricht vermittelt werden kann\, um Ihre Schüler_innen optimal auf die erfolgreiche Absolvierung des WKO Unternehmerführerscheins Modul A vorzubereiten. \nFolgende Fachinhalte werden dabei aus fachlicher sowie fachdidaktischer Sicht behandelt:\n* Der Wirtschaftskreislauf  (Bedürfnisse\, Arbeitsteilung\, Wirtschaftsakteure und Austauschbeziehungen)\n* Der Markt und der Staat (Angebot und Nachfrage\, Preisbildung\, Wirtschaftsordnungen)\n* Die Leistungserstellung im Unternehmen (Das Unternehmen und sein Umfeld\, Kern- und Unterstützungsbereiche der Leistungserstellung) \nBei diesem Online-Seminar handelt es sich um ein begleitetes OTA Praktikum. Mehr Informationen zur Online Tutoring Ausbildung unter www.virtuelle-ph.at/ota! \nwww.virtuelle-ph.at/online-seminare \n\n			\n				\n			\n			Teilnahmekriterien & Info\n		 \n		\n			Lernziele\n		 \n		\n			Voraussetzungen\n		\n		 \n		\n			\n				\n					\n			Anmerkung: Die Teilnahme an allen im Rahmen des Online-Programms angebotenen Online-Seminaren der Virtuellen PH ist für österreichische Lehrkräfte und Studierende eines Lehramts kostenlos. Die Seminarplätze werden nach dem Prinzip first come\, first served – also chronologisch nach dem Zeitpunkt Ihrer Seminarbuchung über PH-Online – vergeben. Bis Mittwoch vor Beginn des jeweiligen Online-Seminars können Sie über PH-Online Ihr gebuchtes Online-Seminar selber kostenlos stornieren. Für ein allfälliges Storno zu einem späteren Zeitpunkt wenden Sie sich bitte an: info@virtuelle-ph.at\n		 \n		\n			Erwerb bzw. Vertiefung wirtschaftlichen Basiswissens. Erweiterung der eigenen Kompetenzen bei der Vermittlung dieses Wissens an Schülerinnen und Schüler.\n		 \n		\n			Der Kurs richtet sich an Lehrkräfte\, die ihr wirtschaftliches Basiswissen aufbauen bzw. vertiefen möchten. Sie entwickeln und erhalten zudem zahlreiche Materialien zu ausgewählten Themen\, die Sie für sich und Ihren Unterricht verwenden können.
URL:https://www.virtuelle-ph.at/veranstaltung/unternehmerfuehrerschein-modul-a-2/
CATEGORIES:Online-Programm Frühjahrsprogramm,Online-Seminar
END:VEVENT
END:VCALENDAR