BEGIN:VCALENDAR
VERSION:2.0
PRODID:-//Virtuelle PH - ECPv6.6.4.2//NONSGML v1.0//EN
CALSCALE:GREGORIAN
METHOD:PUBLISH
X-ORIGINAL-URL:https://www.virtuelle-ph.at
X-WR-CALDESC:Veranstaltungen für Virtuelle PH
REFRESH-INTERVAL;VALUE=DURATION:PT1H
X-Robots-Tag:noindex
X-PUBLISHED-TTL:PT1H
BEGIN:VTIMEZONE
TZID:Europe/Vienna
BEGIN:DAYLIGHT
TZOFFSETFROM:+0100
TZOFFSETTO:+0200
TZNAME:CEST
DTSTART:20240331T010000
END:DAYLIGHT
BEGIN:STANDARD
TZOFFSETFROM:+0200
TZOFFSETTO:+0100
TZNAME:CET
DTSTART:20241027T010000
END:STANDARD
END:VTIMEZONE
BEGIN:VEVENT
DTSTART;TZID=Europe/Vienna:20240603T170000
DTEND;TZID=Europe/Vienna:20240603T180000
DTSTAMP:20260425T201543
CREATED:20240604T033002Z
LAST-MODIFIED:20240604T033002Z
UID:10005269-1717434000-1717437600@www.virtuelle-ph.at
SUMMARY:eLecture: Digitale Grundbildung – AstroPi
DESCRIPTION:Zur Anmeldung \n\n						Zum virtuellen Lernraum\n						\n\n						Die Astro Pi Challenge der Europäischen Weltraumorganisation ESA begeistert sowohl Programmieranfänger*innen als auch -fortgeschrittene. Mit dem AstroPi (ein erweiterter Raspberry Pi) können Schüler*innen  eine einfache visuelle Botschaft an die Crew der Internationalen Raumstation senden (Mission Zero)\, oder die Geschwindigkeit der ISS messen (Mission Space Lab). Gerade bei Mission Zero ist auch ein kreativ-gestalterischer Zugang möglich. \nars.electronica.art/esero/de/projects/astro-pi-challenge/ \nInhalte:\nVorstellung des Astro Pi Wettbewerbs\nEinführung in Phyton\nProgrammieren einer visuellen Botschaft auf der LED-Matrix eines Astro Pis \nMichael Trebo ist IT-Berater und Trainer \nDiese eLecture ist für Sie geeignet\, wenn…\n…Sie Ihren Unterricht für digitale Grundbildung mit einer einzigartigen\, spannenden\, auch für junge Programmieranfänger*innen geeigneten Aufgabe erweitern möchten\n…Sie Ihre Schüler*innen unterstützen möchten\, bei einem internationalen Projekt der Europäischen Weltraumorganisation mitzumachen\n… Sie Lehrkraft sind für die Primarstufe oder Sekundarstufe I (MINT-Fächer\, auch interessant für z.B. Kunst und Gestaltung) \n\nExpert_in: Michael Trebo \n\n\n			\n				\n			\n			Teilnahmekriterien & Info\n		 \n		\n			Lernziele\n		 \n		\n			Voraussetzungen\n		\n		 \n		\n			\n				\n					\n			So treten Sie der Veranstaltung im virtuellen Lernraum bei: \n1. Rufen Sie 5 min vor Terminstart den Link zum Virtuellen Lernraum auf: \nvirtuelle-ph-at.zoom.us/my/electures \n2. Geben Sie bitte Ihren vollen Namen ein und klicken Sie den Button „Einem Meeting Beitreten“.                              \n3. Klicken Sie den grünen Button „Per Computer dem Audio beitreten“ an. \nDas bewirkt\, dass Sie uns hören und sehen können. Sie werden in Kürze eingelassen. \nDie Teilnahme an allen eLectures der Virtuellen PH ist für österreichische Hochschullehrende\, Lehrkräfte und Studierende eines Lehramts kostenlos.\n		 \n		\n			Raspberry Pi einrichten und benutzen\nHauptfunktionen und Erweiterungen des Raspberry Pi kennenlernen\nGrundlagen der Programmierung mit Python\nSensoren eines Astro Pi auslesen
URL:https://www.virtuelle-ph.at/veranstaltung/electure-digitale-grundbildung-astropi-2/
CATEGORIES:eLecture
END:VEVENT
BEGIN:VEVENT
DTSTART;TZID=Europe/Vienna:20240603T170000
DTEND;TZID=Europe/Vienna:20240603T180000
DTSTAMP:20260425T201543
CREATED:20240130T084603Z
LAST-MODIFIED:20240603T033002Z
UID:10004821-1717434000-1717437600@www.virtuelle-ph.at
SUMMARY:eLecture: Digitale Grundbildung – AstroPi
DESCRIPTION:Zur Anmeldung \n\n						Zum virtuellen Lernraum\n						\n\n						Die Astro Pi Challenge der Europäischen Weltraumorganisation ESA begeistert sowohl Programmieranfänger*innen als auch -fortgeschrittene. Mit dem AstroPi (ein erweiterter Raspberry Pi) können Schüler*innen  eine einfache visuelle Botschaft an die Crew der Internationalen Raumstation senden (Mission Zero)\, oder die Geschwindigkeit der ISS messen (Mission Space Lab). Gerade bei Mission Zero ist auch ein kreativ-gestalterischer Zugang möglich. \nars.electronica.art/esero/de/projects/astro-pi-challenge/ \nInhalte:\nVorstellung des Astro Pi Wettbewerbs\nEinführung in Phyton\nProgrammieren einer visuellen Botschaft auf der LED-Matrix eines Astro Pis \nMichael Trebo ist IT-Berater und Trainer \nDiese eLecture ist für Sie geeignet\, wenn…\n…Sie Ihren Unterricht für digitale Grundbildung mit einer einzigartigen\, spannenden\, auch für junge Programmieranfänger*innen geeigneten Aufgabe erweitern möchten\n…Sie Ihre Schüler*innen unterstützen möchten\, bei einem internationalen Projekt der Europäischen Weltraumorganisation mitzumachen\n… Sie Lehrkraft sind für die Primarstufe oder Sekundarstufe I (MINT-Fächer\, auch interessant für z.B. Kunst und Gestaltung) \n\nExpert_in: Michael Trebo \n\n\n			\n				\n			\n			Teilnahmekriterien & Info\n		 \n		\n			Lernziele\n		 \n		\n			Voraussetzungen\n		\n		 \n		\n			\n				\n					\n			So treten Sie der Veranstaltung im virtuellen Lernraum bei: \n1. Rufen Sie 5 min vor Terminstart den Link zum Virtuellen Lernraum auf: \nvirtuelle-ph-at.zoom.us/my/electures \n2. Geben Sie bitte Ihren vollen Namen ein und klicken Sie den Button „Einem Meeting Beitreten“.                              \n3. Klicken Sie den grünen Button „Per Computer dem Audio beitreten“ an. \nDas bewirkt\, dass Sie uns hören und sehen können. Sie werden in Kürze eingelassen. \nDie Teilnahme an allen eLectures der Virtuellen PH ist für österreichische Hochschullehrende\, Lehrkräfte und Studierende eines Lehramts kostenlos.\n		 \n		\n			Raspberry Pi einrichten und benutzen\nHauptfunktionen und Erweiterungen des Raspberry Pi kennenlernen\nGrundlagen der Programmierung mit Python\nSensoren eines Astro Pi auslesen
URL:https://www.virtuelle-ph.at/veranstaltung/electure-digitale-grundbildung-astropi/
CATEGORIES:eLecture
END:VEVENT
END:VCALENDAR