BEGIN:VCALENDAR
VERSION:2.0
PRODID:-//Virtuelle PH - ECPv6.6.4.2//NONSGML v1.0//EN
CALSCALE:GREGORIAN
METHOD:PUBLISH
X-WR-CALNAME:Virtuelle PH
X-ORIGINAL-URL:https://www.virtuelle-ph.at
X-WR-CALDESC:Veranstaltungen für Virtuelle PH
REFRESH-INTERVAL;VALUE=DURATION:PT1H
X-Robots-Tag:noindex
X-PUBLISHED-TTL:PT1H
BEGIN:VTIMEZONE
TZID:Europe/Berlin
BEGIN:DAYLIGHT
TZOFFSETFROM:+0100
TZOFFSETTO:+0200
TZNAME:CEST
DTSTART:20170326T010000
END:DAYLIGHT
BEGIN:STANDARD
TZOFFSETFROM:+0200
TZOFFSETTO:+0100
TZNAME:CET
DTSTART:20171029T010000
END:STANDARD
END:VTIMEZONE
BEGIN:VEVENT
DTSTART;TZID=Europe/Berlin:20171108T180000
DTEND;TZID=Europe/Berlin:20171108T190000
DTSTAMP:20260420T150939
CREATED:20170818T063411Z
LAST-MODIFIED:20171109T075345Z
UID:10002606-1510164000-1510167600@www.virtuelle-ph.at
SUMMARY:eLecture: mit Office Mix einfache Lernvideos erstellen
DESCRIPTION:zur Aufzeichnung \n\n\n						Die Unterrichtsmethode Flipped Classroom wird immer populärer\, doch nicht immer passen die Lernvideos aus dem Internet zum eigenen Unterricht. Damit stellt sich die Frage\, wie man selbst sehr einfach Lernvideos für seine Schülerinnen und Schüler erstellen kann. \n\nMone Denninger unterrichtet an einer AHS in Wien und setzt Office Mix zum Erstellen ihrer Lernvideos im Mathematikunterricht ein. \n\nNach einer kurzen Einführung was Office Mix ist und wo man Office Mix kostenlos erhält\, wird gezeigt\, wie man mit Hilfe einfacher PowerPoint-Folien und Office Mix ein Lernvideo erstellt. \n\nDiese eLecture ist für Sie geeignet\, wenn  \n\nSie über grundlegende Kenntnisse in PowerPoint verfügen und wissen möchten\, wie man aus den Folien ein einfaches Video erstellt.\nSie gerne nach dem Konzept des Flipped Classroom unterrichten möchten und eigene Lernvideos für Ihre Zwecke benötigen.\n\n\n\nCoModeration: Walter Fikisz \n\n			\n				\n			\n			Teilnahmekriterien & Info\n		 \n		\n			Lernziele\n		 \n		\n			Voraussetzungen\n		\n		 \n		\n			\n				\n					\n			Technische Voraussetzungen: Grundlegende Computerkenntnisse\, gute Internetverbindung; optional: Headset.  \nSo treten Sie der eLecture im virtuellen Lernraum bei:  \n1. Rufen Sie 10 min vor Terminstart folgende Seite auf:  \nvph.adobeconnect.com/drei/ \n2. Geben Sie bitte Ihren Vor- und Nachnamen ein und „Betreten Sie den Raum“ mit Klick auf den Button. \n3. Folgen Sie den Anweisungen auf dem Bildschirm. Sie werden in Kürze eingelassen. \nWenn Sie noch an keiner eLecture teilgenommen haben\, finden Sie alle Infos zum Einstieg unter: www.virtuelle-ph.at/electures/#einstieg \nDie Teilnahme an allen eLectures der Virtuellen PH ist für österreichische Lehrkräfte und Studierende eines Lehramts kostenlos.\n		 \n		\n			\nAufzeigen der Vor- und Nachteile von Lernvideos in Kombination mit Flipped Classroom\nKennenlernen der Funktionen und Möglichkeiten von Office Mix\nErörtern der Speichermöglichkeiten eines Mix
URL:https://www.virtuelle-ph.at/veranstaltung/electure-mit-office-mix-einfache-lernvideos-erstellen/
CATEGORIES:eLecture
END:VEVENT
END:VCALENDAR