BEGIN:VCALENDAR
VERSION:2.0
PRODID:-//Virtuelle PH - ECPv6.6.4.2//NONSGML v1.0//EN
CALSCALE:GREGORIAN
METHOD:PUBLISH
X-WR-CALNAME:Virtuelle PH
X-ORIGINAL-URL:https://www.virtuelle-ph.at
X-WR-CALDESC:Veranstaltungen für Virtuelle PH
REFRESH-INTERVAL;VALUE=DURATION:PT1H
X-Robots-Tag:noindex
X-PUBLISHED-TTL:PT1H
BEGIN:VTIMEZONE
TZID:Europe/Berlin
BEGIN:DAYLIGHT
TZOFFSETFROM:+0100
TZOFFSETTO:+0200
TZNAME:CEST
DTSTART:20190331T010000
END:DAYLIGHT
BEGIN:STANDARD
TZOFFSETFROM:+0200
TZOFFSETTO:+0100
TZNAME:CET
DTSTART:20191027T010000
END:STANDARD
END:VTIMEZONE
BEGIN:VEVENT
DTSTART;TZID=Europe/Berlin:20191121T180000
DTEND;TZID=Europe/Berlin:20191121T190000
DTSTAMP:20260420T114355
CREATED:20190829T112423Z
LAST-MODIFIED:20191122T080806Z
UID:10003421-1574359200-1574362800@www.virtuelle-ph.at
SUMMARY:eLecture: Genderfairness – (k)ein relevantes Thema im Bildungsbereich?
DESCRIPTION:zur Aufzeichnung\n\n\nProblemaufriss \nGleichbehandlung und Genderfairness ist unserer Gesellschaft ein Anliegen und ist entgegen der Meinung vieler nach wie vor ein Thema – auch für das gesamte Bildungssystem: Es gab zwar viele Veränderungen und Angleichungen in den letzten Jahrzehnten in den Bildungskarrieren\, jedoch finden sich an vielen Stellen nach wie vor Benachteiligungen für beide Geschlechter. Diese münden in individuell nicht genützten Chancen und eingeschränkten Handlungsspielräumen in Bildungs- und Berufskarrieren. Lebensentwürfe von Frauen und Männern gleichen sich zwar an\, ebenso ist „Gleichstellung“ in der Wertehaltung der meisten Personen verankert\, jedoch sind Handlungen – zumeist unbewusst – nach wie vor von Ungleichheiten geprägt. So belegt bspw. eine Fülle von Studien in Schulen\, dass der derzeit praktizierte koedukative Unterricht Geschlechtsunterschiede oftmals eher verstärkt als ausgleicht. \nExpertise \nIch war 10 Jahre lang wissenschafltiche Mitarbeiterin am Institut für Angewandte Psychologie der Universität Wien und entwickelte bzw. führte dort mehrsemestrige Trainingsprogramme für Lehrer_innen durch. Eines dieser Trainingsprogramme beschäftigte sich mit dem Thema „Genderkompetenzen in der Schule“. Seither ist mir das Thema Genderfairness sehr wichtig geworden und ich freue mich\, wenn ich mein Wissen weitergeben kann und Reflexionsimpulse geben kann. \nInhalte \nAnliegen des Vortrags ist es Diskurse zum Thema Genderfairness im Bildungsbereich vorzustellen und zu diskutieren. Exemplarisch werden aktuelle Befunde aus der Bildungspsychologie berichtet\, die verdeutlichen\, dass die Thematik nach wie vor eine gesellschaftliche Relevanz hat. Als Ansatz dieser Thematik im Bildungsbereich zu begegnen\, wird die „Reflexiven Koedukation“ vorgestellt: Deren Hauptziel ist die Erhöhung von Genderfairness\, sie dient jedoch gleichzeitig generell dem Abbau von Stereotypen und ist somit unterstützend für die Verminderung von Ungleichheiten. \nCoModeration: Walter Fikisz \n\n			\n				\n			\n			Teilnahmekriterien & Info\n		 \n		\n			Lernziele\n		 \n		\n			Voraussetzungen\n		\n		 \n		\n			\n				\n					\n			Technische Voraussetzungen: Grundlegende Computerkenntnisse\, gute Internetverbindung; optional: Headset. \nSo treten Sie der eLecture im virtuellen Lernraum bei: \n1. Rufen Sie 10 min vor Terminstart folgende Seite auf: \nvph.adobeconnect.com/vier/ \n2. Geben Sie bitte Ihren Vor- und Nachnamen ein und „Betreten Sie den Raum“ mit Klick auf den Button. \n3. Folgen Sie den Anweisungen auf dem Bildschirm. Sie werden in Kürze eingelassen. \nWenn Sie noch an keiner eLecture teilgenommen haben\, finden Sie alle Infos zum Einstieg unter: www.virtuelle-ph.at/electures/#einstieg \nDie Teilnahme an allen eLectures der Virtuellen PH ist für österreichische Lehrkräfte und Studierende eines Lehramts kostenlos.\n		 \n		\n			Die Teilnehmer_innen… \n… wissen über aktuelle Diskurse und Befunde zum Thema Genderfairness in der Schule Bescheid. \n… können erklären\, was unter „Reflexiver Koedukation“ verstanden wird. \n… können begründen\, warum das Thema Genderfairness nach wie vor ein relevantes Thema für den Bildungsbereich ist.
URL:https://www.virtuelle-ph.at/veranstaltung/electure-genderfairness-kein-relevantes-thema-im-bildungsbereich/
CATEGORIES:eLecture
END:VEVENT
END:VCALENDAR