BEGIN:VCALENDAR
VERSION:2.0
PRODID:-//Virtuelle PH - ECPv6.6.4.2//NONSGML v1.0//EN
CALSCALE:GREGORIAN
METHOD:PUBLISH
X-WR-CALNAME:Virtuelle PH
X-ORIGINAL-URL:https://www.virtuelle-ph.at
X-WR-CALDESC:Veranstaltungen für Virtuelle PH
REFRESH-INTERVAL;VALUE=DURATION:PT1H
X-Robots-Tag:noindex
X-PUBLISHED-TTL:PT1H
BEGIN:VTIMEZONE
TZID:Europe/Berlin
BEGIN:DAYLIGHT
TZOFFSETFROM:+0100
TZOFFSETTO:+0200
TZNAME:CEST
DTSTART:20160327T010000
END:DAYLIGHT
BEGIN:STANDARD
TZOFFSETFROM:+0200
TZOFFSETTO:+0100
TZNAME:CET
DTSTART:20161030T010000
END:STANDARD
END:VTIMEZONE
BEGIN:VEVENT
DTSTART;TZID=Europe/Berlin:20160419T170000
DTEND;TZID=Europe/Berlin:20160419T180000
DTSTAMP:20260420T070433
CREATED:20160418T185821Z
LAST-MODIFIED:20160419T120556Z
UID:10002095-1461085200-1461088800@www.virtuelle-ph.at
SUMMARY:eLecture Schwerpunkt SQA:  Pädagogische Diagnostik
DESCRIPTION:Die Initiative „SQA – Schulqualität Allgemeinbildung“ sieht das Lernen und Lehren im Zentrum jeglicher pädagogischen Qualitätsentwicklung. Um Schülerinnen und Schüler wirksam beim Lernen unterstützen zu können\, müssen sich Lehrende ein Bild davon machen\, wo ihre Schüler/innen im Lernprozess stehen und wie ihr Unterricht wirkt. Dabei helfen ihnen die Werkzeuge der pädagogischen Diagnostik. \n\n			\n				\n			\n			Teilnahmekriterien & Info\n		 \n		\n			Lernziele\n		 \n		\n			Voraussetzungen\n		\n		 \n		\n			\n				\n					\n			Bitte finden Sie sich etwa 10 Minuten vor Start der eLecture im virtuellen Seminarraum unter diesem Link ein: virtuelle-ph.adobeconnect.com/sqa_netzwerk/ \nTechnische Voraussetzungen: Grundlegende Computerkenntnisse\, gute Internetverbindung\, empfehlenswert: Headset. \nWichtige Hinweise zum Besuch einer eLecture unter: www.virtuelle-ph.at/electures \nÜber diesen Link können Sie testen\, ob Ihr Computer optimal für den eLectures-Besuch vorbereitet ist\, und vorgeschlagene Aktualisierungen vornehmen: admin.adobeconnect.com/common/help/de/support/meeting_test.htm \nWenn Sie ein Headset besitzen\, stecken Sie es bitte an bevor Sie den Adobe Connect-Raum betreten. \nDie Teilnahme an allen eLectures der Virtuellen PH ist für österreichische Lehrkräfte und Studierende eines Lehramts kostenlos.\n		 \n		\n			* verschiedene Zugangsmöglichkeiten zur pädagogischen Diagnostik kennen und deren Bedeutung in Lehr-/Lernprozessen verstehen lernen \n* über das Online-Angebot von www.sqa.at in Bezug auf pädagogische Diagnostik Bescheid wissen\nMit freundlichen Grüßen
URL:https://www.virtuelle-ph.at/veranstaltung/electure-schwerpunkt-sqa-paedagogische-diagnostik/
CATEGORIES:eLecture
END:VEVENT
BEGIN:VEVENT
DTSTART;TZID=Europe/Berlin:20160408T170000
DTEND;TZID=Europe/Berlin:20160408T180000
DTSTAMP:20260420T070433
CREATED:20160419T102450Z
LAST-MODIFIED:20160419T102450Z
UID:10002169-1460134800-1460138400@www.virtuelle-ph.at
SUMMARY:eLecture Schwerpunkt SQA: Prinzipien\, Instrumente\, Angebote
DESCRIPTION:SQA ist die gesetzlich verankerte\, pädagogische Qualitätsinitiative des allgemeinbildenden Schulwesens in Österreich. Sie zielt darauf ab\, die Qualität des Lehrens und der Lernbedingungen zu sichern bzw. (weiter) zu entwickeln. Die eLecture skizziert die zentralen Orientierungspunkte auf dem Weg zur Erreichung dieses Ziels: Haltung und Instrumente. Im Sinne eines Rundgangs  führt sie die Zuhörer/innen zu den unterschiedlichen Unterstützungsangeboten auf der Website www.sqa.at und macht auf aktuelle und wissenswerte Entwicklungen im Kontext von SQA aufmerksam.\nDiese eLecture wendet sich speziell an Personen\, die rasch einen SQA-Gesamtüberblick und Top-Informationen zu aktuellen Entwicklungen bekommen möchten. \n\n			\n				\n			\n			Teilnahmekriterien & Info\n		 \n		\n			Lernziele\n		 \n		\n			Voraussetzungen\n		\n		 \n		\n			\n				\n					\n			Bitte finden Sie sich etwa 10 Minuten vor Start der eLecture im virtuellen Seminarraum unter diesem Link ein: virtuelle-ph.adobeconnect.com/sqa_netzwerk/ \nTechnische Voraussetzungen: Grundlegende Computerkenntnisse\, gute Internetverbindung\, empfehlenswert: Headset. \nWichtige Hinweise zum Besuch einer eLecture unter: www.virtuelle-ph.at/electures \nÜber diesen Link können Sie testen\, ob Ihr Computer optimal für den eLectures-Besuch vorbereitet ist\, und vorgeschlagene Aktualisierungen vornehmen: admin.adobeconnect.com/common/help/de/support/meeting_test.htm \nWenn Sie ein Headset besitzen\, stecken Sie es bitte an bevor Sie den Adobe Connect-Raum betreten. \nDie Teilnahme an allen eLectures der Virtuellen PH ist für österreichische Lehrkräfte und Studierende eines Lehramts kostenlos.\n		 \n		\n			SQA-Prinzipien und zentrale Instrumente  wie EP (Entwicklungsplan) und BZG (Bilanz- und Zielvereinbarungsgespräch) kennenlernen und über das Online-Angebot von www.sqa.at und aktuelle Entwicklungen Bescheid wissen.
URL:https://www.virtuelle-ph.at/veranstaltung/electure-schwerpunkt-sqa-prinzipien-instrumente-angebote/
CATEGORIES:eLecture
END:VEVENT
END:VCALENDAR