BEGIN:VCALENDAR
VERSION:2.0
PRODID:-//Virtuelle PH - ECPv6.6.4.2//NONSGML v1.0//EN
CALSCALE:GREGORIAN
METHOD:PUBLISH
X-ORIGINAL-URL:https://www.virtuelle-ph.at
X-WR-CALDESC:Veranstaltungen für Virtuelle PH
REFRESH-INTERVAL;VALUE=DURATION:PT1H
X-Robots-Tag:noindex
X-PUBLISHED-TTL:PT1H
BEGIN:VTIMEZONE
TZID:Europe/Berlin
BEGIN:DAYLIGHT
TZOFFSETFROM:+0100
TZOFFSETTO:+0200
TZNAME:CEST
DTSTART:20160327T010000
END:DAYLIGHT
BEGIN:STANDARD
TZOFFSETFROM:+0200
TZOFFSETTO:+0100
TZNAME:CET
DTSTART:20161030T010000
END:STANDARD
BEGIN:DAYLIGHT
TZOFFSETFROM:+0100
TZOFFSETTO:+0200
TZNAME:CEST
DTSTART:20170326T010000
END:DAYLIGHT
BEGIN:STANDARD
TZOFFSETFROM:+0200
TZOFFSETTO:+0100
TZNAME:CET
DTSTART:20171029T010000
END:STANDARD
END:VTIMEZONE
BEGIN:VEVENT
DTSTART;TZID=Europe/Berlin:20171213T170000
DTEND;TZID=Europe/Berlin:20171213T180000
DTSTAMP:20260420T053742
CREATED:20171011T224103Z
LAST-MODIFIED:20171212T175046Z
UID:10002692-1513184400-1513188000@www.virtuelle-ph.at
SUMMARY:LEIDER ABGESAGT: eLecture: Ideen sind für alle da! Creative Commons und Open Design
DESCRIPTION:Zur Anmeldung \n\n						Zum virtuellen Lernraum\n						\n\n						In dieser eLecture beschäftigen wir uns mit Phänomenen rund um Kulturen der Offenheit im Netz\, Open Design und was das für Sie bedeutet:  \nMittels Open Design werden die digitale und die offline Welt geschickt miteinander verbunden. Kreative Menschen teilen ihre Ideen\, Entwürfe\, Programme\, Schnittmuster und Baupläne im Internet mit der ganzen Welt und freuen sich darüber wenn jemand ihr Produkt nachbaut oder sogar verändert.  \nBewegungen wie DIY (do it yourself: also Amateur/innen\, die am liebsten Dinge selber machen und dem „Basteln“ neuen Wert zuweisen oder die „Maker“\, sozusagen die Techniker/innen unter diesen) erfreuen sich immer größerer Beliebtheit.  \nCreative Commons (CC) ist eine Non-Profit-Organisation\, die in Form vorgefertigter Lizenzverträge eine Hilfestellung für die Veröffentlichung und Verbreitung digitaler Medieninhalte anbietet und ist somit ebenso ein fester Bestandteil der Open Design Bewegung. \nKonkret behandelt wird dieses Thema z.B. im digikomp-Beispiel 2-11: „Bilderrätsel“ \naufgabensammlung4.digikomp.at/course/view.php?id=76 \nCoModeration: Elisabeth Eder-Janca \n\n			\n				\n			\n			Teilnahmekriterien & Info\n		 \n		\n			Lernziele\n		 \n		\n			Voraussetzungen\n		\n		 \n		\n			\n				\n					\n			Technische Voraussetzungen: Grundlegende Computerkenntnisse\, gute Internetverbindung; optional: Headset.  \nSo treten Sie der eLecture im virtuellen Lernraum bei:  \n1. Rufen Sie 10 min vor Terminstart folgende Seite auf:  \nvph.adobeconnect.com/drei/ \n2. Geben Sie bitte Ihren Vor- und Nachnamen ein und „Betreten Sie den Raum“ mit Klick auf den Button. \n3. Folgen Sie den Anweisungen auf dem Bildschirm. Sie werden in Kürze eingelassen. \nWenn Sie noch an keiner eLecture teilgenommen haben\, finden Sie alle Infos zum Einstieg unter: www.virtuelle-ph.at/electures/#einstieg \nDie Teilnahme an allen eLectures der Virtuellen PH ist für österreichische Lehrkräfte und Studierende eines Lehramts kostenlos.\n		 \n		\n			* einen Einblick in die Welt des Open Designs erhalten und Nutzen für den eigenen Unterricht erkennen\n* Informationen zum Thema Urheberrecht erhalten\n* Umgang mit Creative Commons-Gütern thematisieren/lernen\n* erkennen\, wo Anleitungen\, Baupläne\, Schnittmuster usw. auffindbar sind und wie diese zu verwenden sind\n* eigene Werke lizensieren lernen\, um diese mit anderen zu teilen und zu dieser Open Design Kultur beizutragen
URL:https://www.virtuelle-ph.at/veranstaltung/electure-ideen-sind-fuer-alle-da-creative-commons-und-open-design-4/
CATEGORIES:eLecture
END:VEVENT
BEGIN:VEVENT
DTSTART;VALUE=DATE:20170501
DTEND;VALUE=DATE:20170522
DTSTAMP:20260420T053742
CREATED:20170227T152625Z
LAST-MODIFIED:20170430T033254Z
UID:10002461-1493596800-1495411199@www.virtuelle-ph.at
SUMMARY:Safer Internet  – Das Internet sicher nutzen!
DESCRIPTION:In diesem Online-Seminar beschäftigen Sie sich mit den Chancen\, aber auch mit den Schattenseiten des Internets – ausgehend von der Lebenswelt Ihrer Kinder und Schüler_innen. Sie suchen gemeinsam nach Möglichkeiten\, wie Sie – als Lehrer_in – hier aktiv werden können\, um Ihren Schülern und Schülerinnen einen möglichst guten und sicheren Umgang mit dem Internet zu ermöglichen. \nDie dringlichen Fragen von Copyright\, Zitieren\, Plagiate etc. werden im Online-Seminar ebenso ausführlich wie zielgerichtet diskutiert. Das Online-Seminar beenden Sie mit einer Abschlussarbeit\, in der Sie sich Gedanken über die Einbindung des Themas Safer Internet in Ihren Unterricht machen. \nwww.virtuelle-ph.at/online-seminare \n\n			\n				\n			\n			Teilnahmekriterien & Info\n		 \n		\n			Lernziele\n		 \n		\n			Voraussetzungen\n		\n		 \n		\n			\n				\n					\n			Die Teilnahme an allen im Rahmen des Online-Programms angebotenen Online-Seminaren der Virtuellen PH ist für österreichische Lehrkräfte und Studierende eines Lehramts kostenlos. Die Seminarplätze werden nach dem Prinzip first come\, first served – also chronologisch nach dem Zeitpunkt Ihrer Seminarbuchung über PH-Online – vergeben. Bis Mittwoch vor Beginn des jeweiligen Online-Seminars können Sie über PH-Online Ihr gebuchtes Online-Seminar selber kostenlos stornieren. Für ein allfälliges Storno zu einem späteren Zeitpunkt wenden Sie sich bitte an: info@virtuelle-ph.at\n		 \n		\n			Die Chancen und Gefahren des Internets kennen und damit umgehen lernen – ausgehend von der Lebenswelt Ihrer Kinder und SchülerInnen. (Nachqualifizierung-M1)\n		 \n		\n			Grundlegende Computer-Kenntnisse.
URL:https://www.virtuelle-ph.at/veranstaltung/safer-internet-das-internet-sicher-nutzen-3/
CATEGORIES:Online-Programm Frühjahrsprogramm,Online-Seminar
END:VEVENT
BEGIN:VEVENT
DTSTART;TZID=Europe/Berlin:20170112T170000
DTEND;TZID=Europe/Berlin:20170112T180000
DTSTAMP:20260420T053742
CREATED:20161218T174818Z
LAST-MODIFIED:20170112T155657Z
UID:10002405-1484240400-1484244000@www.virtuelle-ph.at
SUMMARY:eLecture: Ideen sind für alle da! Creative Commons und Open Design
DESCRIPTION:Expertin: Nina Schwarz\nCoModeration: Walter Fikisz \nIn dieser eLecture beschäftigen wir uns mit Phänomenen rund um Kulturen der Offenheit im Netz\, Open Design und was das für Sie bedeutet:  \nMittels Open Design werden die digitale und die offline Welt geschickt miteinander verbunden. Kreative Menschen teilen ihre Ideen\, Entwürfe\, Programme\, Schnittmuster und Baupläne im Internet mit der ganzen Welt und freuen sich darüber wenn jemand ihr Produkt nachbaut oder sogar verändert.  \nBewegungen wie DIY (do it yourself: also Amateur/innen\, die am liebsten Dinge selber machen und dem „Basteln“ neuen Wert zuweisen oder die „Maker“\, sozusagen die Techniker/innen unter diesen) erfreuen sich immer größerer Beliebtheit.  \nCreative Commons (CC) ist eine Non-Profit-Organisation\, die in Form vorgefertigter Lizenzverträge eine Hilfestellung für die Veröffentlichung und Verbreitung digitaler Medieninhalte anbietet und ist somit ebenso ein fester Bestandteil der Open Design Bewegung. \nKonkret behandelt wird dieses Thema z.B. im digikomp-Beispiel 2-11: „Bilderrätsel“\naufgabensammlung4.digikomp.at/course/view.php?id=76 \n\n			\n				\n			\n			Teilnahmekriterien & Info\n		 \n		\n			Lernziele\n		 \n		\n			Voraussetzungen\n		\n		 \n		\n			\n				\n					\n			Technische Voraussetzungen: Grundlegende Computerkenntnisse\, gute Internetverbindung; optional: Headset. \nSo treten Sie der eLecture im virtuellen Lernraum bei: \n1. Rufen Sie 10 min vor Terminstart folgende Seite auf:\nvph.webex.com/vph/k2/j.php?MTID=t101c9b40159c6a3127f4281c706016e2  \n2. Geben Sie bitte Ihren Vor- und Nachnamen und Ihre E-Mail-Adresse ein. \n3. Klicken Sie auf „Jetzt beitreten“. \n4. Folgen Sie den Anweisungen auf dem Bildschirm. \nDie Teilnahme an allen eLectures der Virtuellen PH ist für österreichische Lehrkräfte und Studierende eines Lehramts kostenlos. \nWichtige Hinweise zum Besuch einer eLecture (seit Herbst via WebEx statt Adobe Connect!) finden Sie unter: www.virtuelle-ph.at/electures#einstieg\nBitte diese vorab zur Kenntnis nehmen! 🙂\n		 \n		\n			* einen Einblick in die Welt des Open Designs erhalten und Nutzen für den eigenen Unterricht erkennen\n* Informationen zum Thema Urheberrecht erhalten\n* Umgang mit Creative Commons-Gütern thematisieren/lernen\n* erkennen\, wo Anleitungen\, Baupläne\, Schnittmuster usw. auffindbar sind und wie diese zu verwenden sind\n* eigene Werke lizensieren lernen\, um diese mit anderen zu teilen und zu dieser Open Design Kultur beizutragen
URL:https://www.virtuelle-ph.at/veranstaltung/electure-ideen-sind-fuer-alle-da-creative-commons-und-open-design-3/
CATEGORIES:eLecture
END:VEVENT
BEGIN:VEVENT
DTSTART;TZID=Europe/Berlin:20160614T180000
DTEND;TZID=Europe/Berlin:20160614T190000
DTSTAMP:20260420T053742
CREATED:20160418T185416Z
LAST-MODIFIED:20160614T033207Z
UID:10002105-1465927200-1465930800@www.virtuelle-ph.at
SUMMARY:eLecture Schwerpunkt Schulische Öffentlichkeitsarbeit: Ideen sind für alle da! Creative Commons und Open Design
DESCRIPTION:Expertin: Nina Schwarz\nCo-Moderation: Harald Meyer \nIn dieser eLecture beschäftigen wir uns mit Phänomenen rund um Kulturen der Offenheit im Netz\, Open Design und was das für Sie bedeutet:  \nMittels Open Design werden die digitale und die offline Welt geschickt miteinander verbunden. Kreative Menschen teilen ihre Ideen\, Entwürfe\, Programme\, Schnittmuster und Baupläne im Internet mit der ganzen Welt und freuen sich darüber wenn jemand ihr Produkt nachbaut oder sogar verändert.  \nBewegungen wie DIY (do it yourself: also Amateur/innen\, die am liebsten Dinge selber machen und dem „Basteln“ neuen Wert zuweisen oder die „Maker“\, sozusagen die Techniker/innen unter diesen) erfreuen sich immer größerer Beliebtheit.  \nCreative Commons (CC) ist eine Non-Profit-Organisation\, die in Form vorgefertigter Lizenzverträge eine Hilfestellung für die Veröffentlichung und Verbreitung digitaler Medieninhalte anbietet und ist somit ebenso ein fester Bestandteil der Open Design Bewegung. \nKonkret behandelt wird dieses Thema z.B. im digikomp-Beispiel 2-11: „Bilderrätsel“\naufgabensammlung4.digikomp.at/course/view.php?id=76 \n\n			\n				\n			\n			Teilnahmekriterien & Info\n		 \n		\n			Lernziele\n		 \n		\n			Voraussetzungen\n		\n		 \n		\n			\n				\n					\n			Technische Voraussetzungen: Grundlegende Computerkenntnisse\, gute Internetverbindung\, empfehlenswert: Headset. \nBitte finden Sie sich etwa 10 Minuten vor Start der eLecture im virtuellen Seminarraum unter diesem Link ein: virtuelle-ph.adobeconnect.com/sp_oeffentlichkeitsarbeit/ \nWichtige Hinweise zum Besuch einer eLecture unter: www.virtuelle-ph.at/electures \nÜber diesen Link können Sie testen\, ob Ihr Computer optimal für den eLectures-Besuch vorbereitet ist\, und vorgeschlagene Aktualisierungen vornehmen: admin.adobeconnect.com/common/help/de/support/meeting_test.htm \nWenn Sie ein Headset besitzen\, stecken Sie es bitte an bevor Sie den Adobe Connect-Raum betreten. \nDie Teilnahme an allen eLectures der Virtuellen PH ist für österreichische Lehrkräfte und Studierende eines Lehramts kostenlos.\n		 \n		\n			* einen Einblick in die Welt des Open Designs erhalten und Nutzen für den eigenen Unterricht erkennen\n* Informationen zum Thema Urheberrecht erhalten\n* Umgang mit Creative Commons-Gütern thematisieren/lernen\n* erkennen\, wo Anleitungen\, Baupläne\, Schnittmuster usw. auffindbar sind und wie diese zu verwenden sind\n* eigene Werke lizensieren lernen\, um diese mit anderen zu teilen und zu dieser Open Design Kultur beizutragen
URL:https://www.virtuelle-ph.at/veranstaltung/electure-schwerpunkt-schulische-oeffentlichkeitsarbeit-ideen-sind-fuer-alle-da-creative-commons-und-open-design/
CATEGORIES:eLecture,Themenschwerpunkt Schulische Öffentlichkeitsarbeit
END:VEVENT
BEGIN:VEVENT
DTSTART;VALUE=DATE:20160530
DTEND;VALUE=DATE:20160620
DTSTAMP:20260420T053742
CREATED:20160418T185646Z
LAST-MODIFIED:20160529T033709Z
UID:10002112-1464566400-1466380799@www.virtuelle-ph.at
SUMMARY:Urheberrecht für Lehrende. Ausloten von Grenzen und Möglichkeiten
DESCRIPTION:Urheberrecht ist ein wichtiges Thema\, welches durch das Internet und die Möglichkeiten\, fremde Materialien zu nutzen bzw. eigene Materialien zu veröffentlichen\, stetig an Bedeutung gewinnt. Gerade im Schulkontext ergeben sich viele Möglichkeiten des Einsatzes von Materialien aus dem Internet: Bilder und Grafiken werden sowohl von LehrerInnen als auch von SchülerInnen u.a. in Materialien\, Präsentationen und vorwissenschaftlichen Arbeiten gerne verwendet. Das Einbauen von Musik und anderen Sounddateien verleiht Schulvideos erst den richtigen Groove; und die Schulwebsite will auch mit Bildern und Materialien gefüttert sein. \nEs stellen sich dementsprechend häufig Fragen wie: Welche Materialien dürfen wie legal verwendet werden? Wie können meine SchülerInnen und ich bei der Nutzung und Bereitstellung von Materialien im Netz auf der sicheren Seite sein? Wie vermeide und erkenne ich Urheberrechtsverletzungen und wie sensibilisiere ich SchülerInnen dafür? Und nicht zuletzt: was bedeutet Urheberrecht im Schulkontext eigentlich? Diese und viele weitere Fragen werden in diesem Seminar beantwortet werden. \nIn einer Gruppe von max. 12 TeilnehmerInnen erarbeiten Sie jede Woche Fallbeispiele aus der Praxis\, erhalten rechtliche und didaktische Hintergrundinfos und haben die Möglichkeit in mehreren Live-Online-Veranstaltungen aktuelle Fragen\, Probleme\, Tipps\, etc. aus Ihrer konkreten Unterrichtspraxis mit einer erfahrenen Trainerin und ExpertInnen zu besprechen. \n\n			\n				\n			\n			Teilnahmekriterien & Info\n		 \n		\n			Lernziele\n		 \n		\n			Voraussetzungen\n		\n		 \n		\n			\n				\n					\n			Die Teilnahme an allen im Rahmen des Online-Programms angebotenen Online-Seminaren der Virtuellen PH ist für österreichische Lehrkräfte und Studierende eines Lehramts kostenlos. Die Seminarplätze werden nach dem Prinzip first come\, first served – also chronologisch nach dem Zeitpunkt Ihrer Seminarbuchung über PH-Online – vergeben. Bis Mittwoch vor Beginn des jeweiligen Online-Seminars können Sie über PH-Online Ihr gebuchtes Online-Seminar selber kostenlos stornieren. Für ein allfälliges Storno zu einem späteren Zeitpunkt wenden Sie sich bitte an: info@virtuelle-ph.at\n		 \n		\n			Profunde Kenntnisse über Urheberrecht im Schulkontext erwerben\, souveränen Umgang mit Creative Commons-lizensierten Materialien und OER erlernen\, sowie die Vermittlung des Erlernten an SchülerInnen.\n		 \n		\n			Internetzugang und Grundwissen im Umgang mit dem Internet und dem Computer
URL:https://www.virtuelle-ph.at/veranstaltung/urheberrecht-fuer-lehrende-ausloten-von-grenzen-und-moeglichkeiten/
CATEGORIES:Online-Seminar,Themenschwerpunkt Schulische Öffentlichkeitsarbeit
END:VEVENT
BEGIN:VEVENT
DTSTART;TZID=Europe/Berlin:20160414T170000
DTEND;TZID=Europe/Berlin:20160414T180000
DTSTAMP:20260420T053742
CREATED:20160419T102403Z
LAST-MODIFIED:20160419T102403Z
UID:10002167-1460653200-1460656800@www.virtuelle-ph.at
SUMMARY:eLecture: Ideen sind für alle da! Creative Commons und Open Design
DESCRIPTION:In dieser eLecture beschäftigen wir uns mit Phänomenen rund um Kulturen der Offenheit im Netz\, Open Design und was das für Sie bedeutet:  \nMittels Open Design werden die digitale und die offline Welt geschickt miteinander verbunden. Kreative Menschen teilen ihre Ideen\, Entwürfe\, Programme\, Schnittmuster und Baupläne im Internet mit der ganzen Welt und freuen sich darüber wenn jemand ihr Produkt nachbaut oder sogar verändert.  \nBewegungen wie DIY (do it yourself: also Amateur/innen\, die am liebsten Dinge selber machen und dem „Basteln“ neuen Wert zuweisen oder die „Maker“\, sozusagen die Techniker/innen unter diesen) erfreuen sich immer größerer Beliebtheit.  \nCreative Commons (CC) ist eine Non-Profit-Organisation\, die in Form vorgefertigter Lizenzverträge eine Hilfestellung für die Veröffentlichung und Verbreitung digitaler Medieninhalte anbietet und ist somit ebenso ein fester Bestandteil der Open Design Bewegung. \nKonkret behandelt wird dieses Thema z.B. im digikomp-Beispiel 2-11: „Bilderrätsel“\naufgabensammlung4.digikomp.at/course/view.php?id=76 \n\n			\n				\n			\n			Teilnahmekriterien & Info\n		 \n		\n			Lernziele\n		 \n		\n			Voraussetzungen\n		\n		 \n		\n			\n				\n					\n			Technische Voraussetzungen: Grundlegende Computerkenntnisse\, gute Internetverbindung\, empfehlenswert: Headset. \nBitte finden Sie sich etwa 10 Minuten vor Start der eLecture im virtuellen Seminarraum unter diesem Link ein:virtuelle-ph.adobeconnect.com/electures_schwarz/ \nWichtige Hinweise zum Besuch einer eLecture unter: www.virtuelle-ph.at/electures-info \nÜber diesen Link können Sie testen\, ob Ihr Computer optimal für den eLectures-Besuch vorbereitet ist\, und vorgeschlagene Aktualisierungen vornehmen: admin.adobeconnect.com/common/help/de/support/meeting_test.htm \nWenn Sie ein Headset besitzen\, stecken Sie es bitte an bevor Sie den Adobe Connect-Raum betreten. \nDie Teilnahme an allen eLectures der Virtuellen PH ist für österreichische Lehrkräfte und Studierende eines Lehramts kostenlos.\n		 \n		\n			* einen Einblick in die Welt des Open Designs erhalten und Nutzen für den eigenen Unterricht erkennen\n* Informationen zum Thema Urheberrecht erhalten\n* Umgang mit Creative Commons-Gütern thematisieren/lernen\n* erkennen\, wo Anleitungen\, Baupläne\, Schnittmuster usw. auffindbar sind und wie diese zu verwenden sind\n* eigene Werke lizensieren lernen\, um diese mit anderen zu teilen und zu dieser Open Design Kultur beizutragen
URL:https://www.virtuelle-ph.at/veranstaltung/electure-ideen-sind-fuer-alle-da-creative-commons-und-open-design-2/
CATEGORIES:eLecture
END:VEVENT
BEGIN:VEVENT
DTSTART;TZID=Europe/Berlin:20160216T180000
DTEND;TZID=Europe/Berlin:20160216T190000
DTSTAMP:20260420T053742
CREATED:20160419T102138Z
LAST-MODIFIED:20160419T102138Z
UID:10002219-1455645600-1455649200@www.virtuelle-ph.at
SUMMARY:eLecture: Ideen sind für alle da! Creative Commons und Open Design
DESCRIPTION:In dieser eLecture beschäftigen wir uns mit Phänomenen rund um Kulturen der Offenheit im Netz\, Open Design und was das für Sie bedeutet:  \nMittels Open Design werden die digitale und die offline Welt geschickt miteinander verbunden. Kreative Menschen teilen ihre Ideen\, Entwürfe\, Programme\, Schnittmuster und Baupläne im Internet mit der ganzen Welt und freuen sich darüber wenn jemand ihr Produkt nachbaut oder sogar verändert.  \nBewegungen wie DIY (do it yourself: also Amateur/innen\, die am liebsten Dinge selber machen und dem „Basteln“ neuen Wert zuweisen oder die „Maker“\, sozusagen die Techniker/innen unter diesen) erfreuen sich immer größerer Beliebtheit.  \nCreative Commons (CC) ist eine Non-Profit-Organisation\, die in Form vorgefertigter Lizenzverträge eine Hilfestellung für die Veröffentlichung und Verbreitung digitaler Medieninhalte anbietet und ist somit ebenso ein fester Bestandteil der Open Design Bewegung. \nKonkret behandelt wird dieses Thema z.B. im digikomp-Beispiel 2-11: „Bilderrätsel“\naufgabensammlung4.digikomp.at/course/view.php?id=76 \n\n			\n				\n			\n			Teilnahmekriterien & Info\n		 \n		\n			Lernziele\n		 \n		\n			Voraussetzungen\n		\n		 \n		\n			\n				\n					\n			Technische Voraussetzungen: Grundlegende Computerkenntnisse\, gute Internetverbindung\, empfehlenswert: Headset. \nBitte finden Sie sich etwa 10 Minuten vor Start der eLecture im virtuellen Seminarraum unter diesem Link ein:virtuelle-ph.adobeconnect.com/electures_schwarz/ \nWichtige Hinweise zum Besuch einer eLecture unter: www.virtuelle-ph.at/electures-info \nÜber diesen Link können Sie testen\, ob Ihr Computer optimal für den eLectures-Besuch vorbereitet ist\, und vorgeschlagene Aktualisierungen vornehmen: admin.adobeconnect.com/common/help/de/support/meeting_test.htm \nWenn Sie ein Headset besitzen\, stecken Sie es bitte an bevor Sie den Adobe Connect-Raum betreten. \nDie Teilnahme an allen eLectures der Virtuellen PH ist für österreichische Lehrkräfte und Studierende eines Lehramts kostenlos.\n		 \n		\n			* einen Einblick in die Welt des Open Designs erhalten und Nutzen für den eigenen Unterricht erkennen\n* Informationen zum Thema Urheberrecht erhalten\n* Umgang mit Creative Commons-Gütern thematisieren/lernen\n* erkennen\, wo Anleitungen\, Baupläne\, Schnittmuster usw. auffindbar sind und wie diese zu verwenden sind\n* eigene Werke lizensieren lernen\, um diese mit anderen zu teilen und zu dieser Open Design Kultur beizutragen
URL:https://www.virtuelle-ph.at/veranstaltung/electure-ideen-sind-fuer-alle-da-creative-commons-und-open-design/
CATEGORIES:eLecture
END:VEVENT
BEGIN:VEVENT
DTSTART;TZID=Europe/Berlin:20160112T180000
DTEND;TZID=Europe/Berlin:20160112T190000
DTSTAMP:20260420T053742
CREATED:20160419T102053Z
LAST-MODIFIED:20160419T102053Z
UID:10002190-1452621600-1452625200@www.virtuelle-ph.at
SUMMARY:PHB eLecture: Safer Internet – schon in der Volksschule!
DESCRIPTION:Kinder beginnen sich in zunehmend jüngerem Alter eigenständig im Internet zu bewegen – darauf gilt es angehende LehrerInnen adäquat vorzubereiten. Wie kann man Volksschulkinder dabei unterstützen\, Internet und Handy selbstbestimmt\, kritisch und sicher nutzen zu können? In dieser eLecture erhalten Sie Informationen und Tipps zu den wichtigsten Safer Internet-Themen in der VS. \n\n			\n				\n			\n			Teilnahmekriterien & Info\n		 \n		\n			Lernziele\n		 \n		\n			Voraussetzungen\n		\n		 \n		\n			\n				\n					\n			Technische Voraussetzungen: Grundlegende Computerkenntnisse\, gute Internetverbindung\, empfehlenswert: Headset. \nBitte finden Sie sich etwa 10 Minuten vor Start der eLecture im virtuellen Seminarraum unter diesem Link ein:virtuelle-ph.adobeconnect.com/electures_schwarz \nWichtige Hinweise zum Besuch einer eLecture unter: www.virtuelle-ph.at/electures-info \nÜber diesen Link können Sie testen\, ob Ihr Computer optimal für den eLectures-Besuch vorbereitet ist\, und vorgeschlagene Aktualisierungen vornehmen: admin.adobeconnect.com/common/help/de/support/meeting_test.htm \nWenn Sie ein Headset besitzen\, stecken Sie es bitte an bevor Sie den Adobe Connect-Raum betreten. \nDie Teilnahme an allen eLectures der Virtuellen PH ist für österreichische Lehrkräfte und Studierende eines Lehramts kostenlos.\n		 \n		\n			Studierende auf das Thema Safer Internet in der VS vorbereiten können.
URL:https://www.virtuelle-ph.at/veranstaltung/phb-electure-safer-internet-schon-in-der-volksschule/
CATEGORIES:eLecture
END:VEVENT
END:VCALENDAR