BEGIN:VCALENDAR
VERSION:2.0
PRODID:-//Virtuelle PH - ECPv6.6.4.2//NONSGML v1.0//EN
CALSCALE:GREGORIAN
METHOD:PUBLISH
X-WR-CALNAME:Virtuelle PH
X-ORIGINAL-URL:https://www.virtuelle-ph.at
X-WR-CALDESC:Veranstaltungen für Virtuelle PH
REFRESH-INTERVAL;VALUE=DURATION:PT1H
X-Robots-Tag:noindex
X-PUBLISHED-TTL:PT1H
BEGIN:VTIMEZONE
TZID:Europe/Vienna
BEGIN:DAYLIGHT
TZOFFSETFROM:+0100
TZOFFSETTO:+0200
TZNAME:CEST
DTSTART:20220327T010000
END:DAYLIGHT
BEGIN:STANDARD
TZOFFSETFROM:+0200
TZOFFSETTO:+0100
TZNAME:CET
DTSTART:20221030T010000
END:STANDARD
TZID:Europe/Berlin
BEGIN:DAYLIGHT
TZOFFSETFROM:+0100
TZOFFSETTO:+0200
TZNAME:CEST
DTSTART:20190331T010000
END:DAYLIGHT
BEGIN:STANDARD
TZOFFSETFROM:+0200
TZOFFSETTO:+0100
TZNAME:CET
DTSTART:20191027T010000
END:STANDARD
BEGIN:DAYLIGHT
TZOFFSETFROM:+0100
TZOFFSETTO:+0200
TZNAME:CEST
DTSTART:20200329T010000
END:DAYLIGHT
BEGIN:STANDARD
TZOFFSETFROM:+0200
TZOFFSETTO:+0100
TZNAME:CET
DTSTART:20201025T010000
END:STANDARD
END:VTIMEZONE
BEGIN:VEVENT
DTSTART;TZID=Europe/Vienna:20221004T173000
DTEND;TZID=Europe/Vienna:20221004T183000
DTSTAMP:20260425T152433
CREATED:20220913T112336Z
LAST-MODIFIED:20221013T154528Z
UID:10004038-1664904600-1664908200@www.virtuelle-ph.at
SUMMARY:eLecture: Starke digitale Politische Bildung in Krisenzeiten
DESCRIPTION:zur Aufzeichnung \n\n						Wie behandle ich Themen wie Krieg\, Corona oder Inflation im Unterricht? Darf ich als Lehrperson meine eigene Meinung zu politischen Themen äußern? Und wie reagiere ich\, wenn ich im Unterricht nach meiner persönlichen Wahlentscheidung gefragt werde? \nPolitische Bildung ist im österreichischen Schulsystem auch deshalb unterrepräsentiert\, weil es als besonders sensible Materie gilt. Viele Lehrer:innen verzichten darauf\, weil sie Angst haben\, sich auf Glatteis zu begeben oder sich die Finger zu verbrennen. Politische Bildung ist jedoch als Unterrichtsprinzip in jedem Unterrichtsgegenstand integriert – und in Zeiten wie diesen besonders gefragt\, sei es wegen den zahlreichen aktuellen Krisen oder der BP-Wahl im Oktober 2022. \nWie vermittelt man dies jungen Menschen lebhaft und ihrer eigenen Lebenswelt nahe? Pascal Günsberg ist Lehrer an einer Wiener AHS und Obmann der parteiunabhängigen Plattform PolEdu. Nach einer Einleitung über didaktische Grundlagen\, führt Günsberg Unterrichtsbeispiele für eine gute politische Bildung vor und zeigt digitale Tools\, die Lehrer:innen ohne intensive Vorbereitung eine lebhafte politische Bildung ermöglichen. Dabei wird speziell auf aktuelle Krisen und die BP-Wahl eingegangen\, sodass die Teilnehmer:innen nach dieser eLecture rund 10-12 einfach umsetzbare Unterrichtsideen in ihren Schulalltag mitnehmen können und sich gut gerüstet für eine starke politische Bildung fühlen. \n\nExpert_in: Thomas Winkler\, Pascal Günsberg \n\n\n			\n				\n			\n			Teilnahmekriterien & Info\n		 \n		\n			Lernziele\n		 \n		\n			Voraussetzungen\n		\n		 \n		\n			\n				\n					\n			So treten Sie der Veranstaltung im virtuellen Lernraum bei: \n1. Rufen Sie 5 min vor Terminstart den Link zum Virtuellen Lernraum auf: \nvirtuelle-ph-at.zoom.us/my/virtuelleph.electure2 \n2. Geben Sie bitte Ihren vollen Namen ein und klicken Sie den Button „Einem Meeting Beitreten“.                              \n3. Klicken Sie den grünen Button „Per Computer dem Audio beitreten“ an. \nDas bewirkt\, dass Sie uns hören und sehen können. Sie werden in Kürze eingelassen. \nDie Teilnahme an allen eLectures der Virtuellen PH ist für österreichische Hochschullehrende\, Lehrkräfte und Studierende eines Lehramts kostenlos.\n		 \n		\n			# didaktische Grundlagen der politischen Bildung kennen und erklären können\n# neue Unterrichtsideen kennenlernen und im eigenen Unterricht umsetzen können\n# digitale Tools der politischen Bildung kennen und im eigenen Unterricht einsetzen können
URL:https://www.virtuelle-ph.at/veranstaltung/electure-starke-digitale-politische-bildung-in-krisenzeiten/
CATEGORIES:eLecture
END:VEVENT
BEGIN:VEVENT
DTSTART;TZID=Europe/Berlin:20201005T170000
DTEND;TZID=Europe/Berlin:20201005T180000
DTSTAMP:20260425T152433
CREATED:20200907T103443Z
LAST-MODIFIED:20220214T093951Z
UID:10003346-1601917200-1601920800@www.virtuelle-ph.at
SUMMARY:eLecture: Digitale Schulkommunikation am Beispiel von SchoolFox
DESCRIPTION:zur Aufzeichnung\n\n\n						Spätestens die herausfordernde Zeit des Home Schoolings hat gezeigt\, wie wichtig es ist\, schnelle\, einfache und direkte Kommunikationswege zu den Schüler*innen und Eltern zu haben. Dies wird auch im Schuljahr 2020/21 zu einem Schlüssel für erfolgreichen Unterricht\, sowohl im Regelunterricht als auch im Falle von Schulschließungen oder Distance Learning. \nSchoolFox ist ein österreichischer Schulmessenger\, der eine datenschutzkonforme und direkte Schulkommunikation zwischen der Schulleitung\, Lehrer*innen\, Schüler*innen und Eltern in allen Schulformen und Schulstufen ermöglicht sowie von bereits über 5.000 Schulen im deutschsprachigen Raum genutzt wird. Mit Funktionen wie dem Versand von Informationen\, Dokumenten und Terminen\, übersichtlichen Bestätigungen\, Video-Unterricht\, einem integrierten Cloud-Speicher\, Checklisten\, Diskussionen und vielem mehr sind Schulen bestens für alle Herausforderungen gerüstet und einfache Kommunikationswege sind sichergestellt. Zudem kann eine Übersetzungsfunktion alle Nachrichten in über 40 Sprachen übersetzen und somit auch Eltern in den Schulalltag integrieren\, die von diesem aufgrund von Sprachbarrieren oft ausgeschlossen sind. \nPascal Günsberg ist Lehrer für Geographie und Geschichte und mit diversen Unternehmen sowie Projekten außerschulisch aktiv\, unter anderem mit SchoolFox. In dieser eLecture spricht er einleitend über die Notwendigkeit und die Vorteile von digitaler Schulkommunikation\, zeigt Möglichkeiten auf\, wie mit digitalen Tools sowohl der Regelunterricht verbessert als auch Home Schooling gemeistert werden kann und stellt praxisorientiert SchoolFox vor. \nCoModeration: Gerlinde Schwabl \n\nExpert_in: Pascal Günsberg \n\n\n			\n				\n			\n			Teilnahmekriterien & Info\n		 \n		\n			Lernziele\n		 \n		\n			Voraussetzungen\n		\n		 \n		\n			\n				\n					\n			Technische Voraussetzungen: Grundlegende Computerkenntnisse\, gute Internetverbindung; optional: Headset.  \nSo treten Sie der eLecture im virtuellen Lernraum bei:  \n1. Rufen Sie 10 min vor Terminstart folgende Seite auf:  \nvph.adobeconnect.com/eins/ \n2. Geben Sie bitte Ihren Vor- und Nachnamen ein und „Betreten Sie den Raum“ mit Klick auf den Button. \n3. Folgen Sie den Anweisungen auf dem Bildschirm. Sie werden in Kürze eingelassen. \nWenn Sie noch an keiner eLecture teilgenommen haben\, finden Sie alle Infos zum Einstieg unter: www.virtuelle-ph.at/electures/#einstieg \nDie Teilnahme an allen eLectures der Virtuellen PH ist für österreichische Lehrkräfte und Studierende eines Lehramts kostenlos.\n		 \n		\n			Digitale Schulkommunikation am Beispiel von SchoolFox kennenlernen.
URL:https://www.virtuelle-ph.at/veranstaltung/electure-digitale-schulkommunikation-am-beispiel-von-schoolfox/
CATEGORIES:eLecture
END:VEVENT
BEGIN:VEVENT
DTSTART;TZID=Europe/Berlin:20200430T170000
DTEND;TZID=Europe/Berlin:20200430T180000
DTSTAMP:20260425T152433
CREATED:20200225T081700Z
LAST-MODIFIED:20200504T081954Z
UID:10003641-1588266000-1588269600@www.virtuelle-ph.at
SUMMARY:eLecture: Politische Bildung digital gestützt
DESCRIPTION:zur Aufzeichnung\n\n\n						Darf ich als Lehrperson meine eigene Meinung zu politischen Themen äußern? Und wie reagiere ich eigentlich\, wenn ich im Unterricht nach meiner persönlichen Wahlentscheidung gefragt werde? \nPolitische Bildung ist im österreichischen Schulsystem auch deshalb unterrepräsentiert\, weil es als besonders sensible Materie gilt. Viele Lehrerinnen und Lehrer verzichten darauf\, weil sie Angst haben\, sich auf Glatteis zu begeben oder sich die Finger zu verbrennen. Politische Bildung ist jedoch als Unterrichtsprinzip in jedem Unterrichtsgegenstand integriert. \nWie vermittelt man dies jungen Menschen lebhaft und ihrer eigenen Lebenswelt nahe? Pascal Günsberg ist Lehrer und Obmann der parteiunabhängigen Plattform PolEdu. Nach einer Einleitung über didaktische Grundlagen\, führt Günsberg praxisnahe Unterrichtsbeispiele für eine gute politische Bildung vor und zeigt digitale Tools\, die Lehrerinnen und Lehrern ohne intensive Vorbereitung eine lebhafte politische Bildung in ihrem Unterricht ermöglichen. Zugleich werden innovative Methoden\, kreative Exkursionen und mutige Projektideen vorgestellt\, sodass die Teilnehmerinnen und Teilnehmer nach dieser eLecture rund zehn bis zwölf einfach umsetzbare Unterrichtsideen in ihren Schulalltag mitnehmen können und sich gut gerüstet für eine starke politische Bildung fühlen. \nDiese eLecture ist für Sie interessant…\n… wenn Sie politische Bildung in Ihrem Unterricht lebhaft und innovativ vermitteln möchten.\n… wenn Sie auf der Suche nach neuen Unterrichtsideen sind.\n… wenn Sie gerne digitale Tools in Ihrem Unterricht einsetzen. \nCoModeration: Walter Fikisz \n\n			\n				\n			\n			Teilnahmekriterien & Info\n		 \n		\n			Lernziele\n		 \n		\n			Voraussetzungen\n		\n		 \n		\n			\n				\n					\n			Technische Voraussetzungen: Grundlegende Computerkenntnisse\, gute Internetverbindung; optional: Headset.  \nSo treten Sie der eLecture im virtuellen Lernraum bei:  \n1. Rufen Sie 10 min vor Terminstart folgende Seite auf:  \nvph.adobeconnect.com/vier/ \n2. Geben Sie bitte Ihren Vor- und Nachnamen ein und „Betreten Sie den Raum“ mit Klick auf den Button. \n3. Folgen Sie den Anweisungen auf dem Bildschirm. Sie werden in Kürze eingelassen. \nWenn Sie noch an keiner eLecture teilgenommen haben\, finden Sie alle Infos zum Einstieg unter: www.virtuelle-ph.at/electures/#einstieg \nDie Teilnahme an allen eLectures der Virtuellen PH ist für österreichische Lehrkräfte und Studierende eines Lehramts kostenlos.\n		 \n		\n			# didaktische Grundlagen der politischen Bildung kennen und erklären können \n# neue Unterrichtsideen kennenlernen und im eigenen Unterricht umsetzen können \n# digitale Tools der politischen Bildung kennen und im eigenen Unterricht einsetzen können \n# kreative Exkursionen der politischen Bildung eigenständig abhalten können
URL:https://www.virtuelle-ph.at/veranstaltung/electure-politische-bildung-digital-gestuetzt/
CATEGORIES:eLecture
END:VEVENT
BEGIN:VEVENT
DTSTART;TZID=Europe/Berlin:20191022T173000
DTEND;TZID=Europe/Berlin:20191022T183000
DTSTAMP:20260425T152433
CREATED:20190909T114149Z
LAST-MODIFIED:20191023T080220Z
UID:10003425-1571765400-1571769000@www.virtuelle-ph.at
SUMMARY:eLecture #wdmk19:  Politische Bildung
DESCRIPTION:zur Aufzeichnung\n\n\n						Darf ich als Lehrperson meine eigene Meinung zu politischen Themen äußern? Und wie reagiere ich eigentlich\, wenn ich im Unterricht nach meiner persönlichen Wahlentscheidung gefragt werde? \nPolitische Bildung ist im österreichischen Schulsystem auch deshalb unterrepräsentiert\, weil es als besonders sensible Materie gilt. Viele Lehrerinnen und Lehrer verzichten darauf\, weil sie Angst haben\, sich auf Glatteis zu begeben oder sich die Finger zu verbrennen. Politische Bildung ist jedoch als Unterrichtsprinzip in jedem Unterrichtsgegenstand integriert. \nWie vermittelt man dies jungen Menschen lebhaft und ihrer eigenen Lebenswelt nahe? Pascal Günsberg ist Lehrer und Obmann der parteiunabhängigen Plattform PolEdu. Nach einer Einleitung über didaktische Grundlagen\, führt Günsberg praxisnahe Unterrichtsbeispiele für eine gute politische Bildung vor und zeigt digitale Tools\, die Lehrerinnen und Lehrern ohne intensive Vorbereitung eine lebhafte politische Bildung in ihrem Unterricht ermöglichen. Zugleich werden innovative Methoden\, kreative Exkursionen und mutige Projektideen vorgestellt\, sodass die Teilnehmerinnen und Teilnehmer nach dieser eLecture rund zehn bis zwölf einfach umsetzbare Unterrichtsideen in ihren Schulalltag mitnehmen können und sich gut gerüstet für eine starke politische Bildung fühlen. \nDiese eLecture ist für Sie interessant…\n… wenn Sie politische Bildung in Ihrem Unterricht lebhaft und innovativ vermitteln möchten.\n… wenn Sie auf der Suche nach neuen Unterrichtsideen sind.\n… wenn Sie gerne digitale Tools in Ihrem Unterricht einsetzen. \nCoModeration: Thomas Winkler \n\n			\n				\n			\n			Teilnahmekriterien & Info\n		 \n		\n			Lernziele\n		 \n		\n			Voraussetzungen\n		\n		 \n		\n			\n				\n					\n			Technische Voraussetzungen: Grundlegende Computerkenntnisse\, gute Internetverbindung; optional: Headset.  \nSo treten Sie der eLecture im virtuellen Lernraum bei:  \n1. Rufen Sie 10 min vor Terminstart folgende Seite auf:  \nvph.adobeconnect.com/zwei/ \n2. Geben Sie bitte Ihren Vor- und Nachnamen ein und „Betreten Sie den Raum“ mit Klick auf den Button. \n3. Folgen Sie den Anweisungen auf dem Bildschirm. Sie werden in Kürze eingelassen. \nWenn Sie noch an keiner eLecture teilgenommen haben\, finden Sie alle Infos zum Einstieg unter: www.virtuelle-ph.at/electures/#einstieg \nDie Teilnahme an allen eLectures der Virtuellen PH ist für österreichische Lehrkräfte und Studierende eines Lehramts kostenlos.\n		 \n		\n			\ndidaktische Grundlagen der politischen Bildung kennen und erklären können\nneue Unterrichtsideen kennenlernen und im eigenen Unterricht umsetzen können\ndigitale Tools der politischen Bildung kennen und im eigenen Unterricht einsetzen können\nkreative Exkursionen der politischen Bildung eigenständig abhalten können
URL:https://www.virtuelle-ph.at/veranstaltung/electure-wdmk19-politische-bildung/
CATEGORIES:eLecture
END:VEVENT
BEGIN:VEVENT
DTSTART;TZID=Europe/Berlin:20191007T170000
DTEND;TZID=Europe/Berlin:20191007T180000
DTSTAMP:20260425T152433
CREATED:20190816T121605Z
LAST-MODIFIED:20191009T101310Z
UID:10003356-1570467600-1570471200@www.virtuelle-ph.at
SUMMARY:eLecture: Digitale Schulkommunikation ohne WhatsApp & Co.
DESCRIPTION:zur Aufzeichnung\n\n\n						Die Ausbildung von Schüler_innen verlangt Teamwork von Schule und Familie. Voraussetzung dafür ist\, dass Sie als PädagogIn einen guten Draht zu den Eltern haben. Welches Kommunikationsmittel verwenden Sie\, um mit den Familien Ihrer SchülerInnen zu korrespondieren? In den meisten Bildungseinrichtungen ist Papier weiterhin das wichtigste Kommunikationsmittel – in Form von Mitteilungsheften\, Elternbriefen\, Aushängen\, etc. Doch das ist in der Regel für alle Beteiligten mühevoll und mit viel Zeit- sowie Papieraufwand verbunden. \nDie privat genutzten Messenger wie WhatsApp & Co. schaffen hier schnell Abhilfe\, gleichzeitig nehmen Sie damit aber auch eine Menge Nachteile in Kauf: unzureichender Datenschutz\, Aufgeben der Privatsphäre und Auflehnung gegen die Schulleitung sind hier nur einige Schlagwörter\, nicht zuletzt verbietet die 2018 in Kraft getretene DSGVO auch die Nutzung dieser Dienste an Schulen. \nPascal Günsberg ist selbst Lehrer für Geographie und Geschichte und beschäftigt sich damit\, wie man mit digitalen Werkzeugen den Schulalltag vereinfachen kann. Er leitet den Bereich „Marketing & Sales“ bei SchoolFox\, einer App für Smartphone und Computer\, die es PädagogInnen und Eltern ermöglicht\, rasch und sicher miteinander zu kommunizieren. \nIn dieser eLecture zeigt Ihnen Pascal Günsberg\, wieso Ihnen die digitale Schulkommunikation im Gegensatz zum Mitteilungsheft viel Papier\, Zeit und Aufwand spart\, welche effektiven Vorteile dies für Sie in Ihrem Alltag als Lehrperson bringt und wie Sie ohne WhatsApp & Co. sicher sowie DSGVO-konform handeln können. Einen Schwerpunkt der eLecture bildet die Präsentation von SchoolFox\, das Sie das Beste aus zwei Welten verbinden lässt: die leichte und intuitive Bedienbarkeit moderner Messenger-Dienste sowie die rechtliche Sicherheit der Papier-Kommunikation. \nDiese eLecture ist für Sie interessant\, wenn Sie… \n… viel Zeit und Nerven mit der Kontrolle von Mitteilungsheften verbringen und nach Alternativen suchen\n… Schwierigkeiten haben mit einigen Eltern zu kommunizieren – auch aufgrund sprachlicher Barrieren\n… bereits moderne Technologien im Schulalltag verwenden und sich für neue Lösungen interessieren\n… nach Werkzeugen suchen\, um generell die Elternarbeit zu verbessern. \nCoModeration: Gerlinde Schwabl \n\n			\n				\n			\n			Teilnahmekriterien & Info\n		 \n		\n			Lernziele\n		 \n		\n			Voraussetzungen\n		\n		 \n		\n			\n				\n					\n			Technische Voraussetzungen: Grundlegende Computerkenntnisse\, gute Internetverbindung; optional: Headset.  \nSo treten Sie der eLecture im virtuellen Lernraum bei:  \n1. Rufen Sie 10 min vor Terminstart folgende Seite auf:  \nvph.adobeconnect.com/eins/ \n2. Geben Sie bitte Ihren Vor- und Nachnamen ein und „Betreten Sie den Raum“ mit Klick auf den Button. \n3. Folgen Sie den Anweisungen auf dem Bildschirm. Sie werden in Kürze eingelassen. \nWenn Sie noch an keiner eLecture teilgenommen haben\, finden Sie alle Infos zum Einstieg unter: www.virtuelle-ph.at/electures/#einstieg \nDie Teilnahme an allen eLectures der Virtuellen PH ist für österreichische Lehrkräfte und Studierende eines Lehramts kostenlos.\n		 \n		\n			# Analoge und digitale Schulkommunikation gegenüberstellen können \n# Kriterien für eine erlaubte und sinnvolle digitale Kommunikation benennen können (Datenschutz\, Funktionen) \n# SchoolFox als digitales Mitteilungsheft anwenden können \n# SchoolFox-Klasse einrichten können\, um unmittelbar in die Welt der digitalen\nSchulkommunikation einzutauchen
URL:https://www.virtuelle-ph.at/veranstaltung/electure-digitale-schulkommunikation-ohne-whatsapp-co/
CATEGORIES:eLecture
END:VEVENT
BEGIN:VEVENT
DTSTART;TZID=Europe/Berlin:20190114T170000
DTEND;TZID=Europe/Berlin:20190114T180000
DTSTAMP:20260425T152433
CREATED:20181217T091202Z
LAST-MODIFIED:20190115T090350Z
UID:10003083-1547485200-1547488800@www.virtuelle-ph.at
SUMMARY:eLecture: digitale Schulkommunikation
DESCRIPTION:zur Aufzeichnung\n\n\nDie Ausbildung von SchülerInnen verlangt Teamwork von Schule und Familie. Voraussetzung dafür ist\, dass Sie als PädagogIn einen guten Draht zu den Eltern haben. Welches Kommunikationsmittel verwenden Sie\, um mit den Familien Ihrer SchülerInnen zu korrespondieren? In den meisten Bildungseinrichtungen ist Papier weiterhin das wichtigste Kommunikationsmittel – in Form von Mitteilungsheften\, Elternbriefen\, Aushängen\, etc… Das ist nicht nur für Sie als PädagogIn zeitraubend und durch hohe Kopierkosten teuer\, sondern lässt neben der rein administrativen Korrespondenz\, keine natürliche Kommunikation zu. \nDie privat genutzten Messenger-Dienste wie WhatsApp & Co. schaffen hier schnell Abhilfe\, gleichzeitig nehmen Sie damit aber auch eine Menge Nachteile in Kauf: unzureichender Datenschutz\, Aufgeben der Privatsphäre und Auflehnung gegen die Schulleitung sind hier nur einige Schlagwörter\, nicht zuletzt verbietet die 2018 in Kraft getretene DSGVO auch die Nutzung dieser Dienste an Schulen. \nPascal Günsberg ist selbst Lehrer für Geographie und Geschichte und beschäftigt sich damit\, wie man mit digitalen Werkzeugen den Schulalltag vereinfachen kann. Er leitet den Bereich „Marketing & Sales“ bei SchoolFox\, einer App für Smartphone und Computer\, die es PädagogInnen und Eltern ermöglicht\, rasch und sicher miteinander zu kommunizieren. Das als „digitales Mitteilungsheft“ bekannte SchoolFox verbindet das Beste aus zwei Welten: die leichte und intuitive Bedienbarkeit moderner Messenger-Dienste sowie die rechtliche Sicherheit der Papier-Kommunikation. Auch das Thema Integration spielt eine wichtige Rolle. Eine automatische Übersetzungsfunktion ermöglicht die Einbeziehung von Eltern ohne Deutschkenntnisse. SchoolFox wird bereits an über 1.700 Schulen in ganz Österreich verwendet. Diese eLecture ist für Sie interessant\, wenn Sie \n* Viel Zeit und Nerven mit der Kontrolle von Mitteilungsheften verbringen und nach Alternativen suchen \n* Schwierigkeiten haben mit einigen Eltern zu kommunizieren – auch aufgrund der Sprache \n* Bereits moderne Technologien im Schulalltag verwenden und sich für neue Lösungen interessieren \n* Nach Werkzeugen suchen\, um generell die Elternarbeit zu verbesser \nCoModeration: Elke Höfler \n\n			\n				\n			\n			Teilnahmekriterien & Info\n		 \n		\n			Lernziele\n		 \n		\n			Voraussetzungen\n		\n		 \n		\n			\n				\n					\n			Technische Voraussetzungen: Grundlegende Computerkenntnisse\, gute Internetverbindung; optional: Headset. \nSo treten Sie der eLecture im virtuellen Lernraum bei: \n1. Rufen Sie 10 min vor Terminstart folgende Seite auf: \nvph.adobeconnect.com/eins/ \n2. Geben Sie bitte Ihren Vor- und Nachnamen ein und „Betreten Sie den Raum“ mit Klick auf den Button. \n3. Folgen Sie den Anweisungen auf dem Bildschirm. Sie werden in Kürze eingelassen. \nWenn Sie noch an keiner eLecture teilgenommen haben\, finden Sie alle Infos zum Einstieg unter: www.virtuelle-ph.at/electures/#einstieg \nDie Teilnahme an allen eLectures der Virtuellen PH ist für österreichische Lehrkräfte und Studierende eines Lehramts kostenlos.\n		 \n		\n			Kennenlernen aller Funktionen der SchoolFox-App \n* Einrichten Ihrer SchoolFox Klasse und Information der Eltern \n* Erfahrungsberichte aus zweieinhalb Jahren SchoolFox an österreichischen Schulen
URL:https://www.virtuelle-ph.at/veranstaltung/electure-digitale-schulkommunikation/
CATEGORIES:eLecture
END:VEVENT
END:VCALENDAR