BEGIN:VCALENDAR
VERSION:2.0
PRODID:-//Virtuelle PH - ECPv6.6.4.2//NONSGML v1.0//EN
CALSCALE:GREGORIAN
METHOD:PUBLISH
X-WR-CALNAME:Virtuelle PH
X-ORIGINAL-URL:https://www.virtuelle-ph.at
X-WR-CALDESC:Veranstaltungen für Virtuelle PH
REFRESH-INTERVAL;VALUE=DURATION:PT1H
X-Robots-Tag:noindex
X-PUBLISHED-TTL:PT1H
BEGIN:VTIMEZONE
TZID:Europe/Berlin
BEGIN:DAYLIGHT
TZOFFSETFROM:+0100
TZOFFSETTO:+0200
TZNAME:CEST
DTSTART:20180325T010000
END:DAYLIGHT
BEGIN:STANDARD
TZOFFSETFROM:+0200
TZOFFSETTO:+0100
TZNAME:CET
DTSTART:20181028T010000
END:STANDARD
END:VTIMEZONE
BEGIN:VEVENT
DTSTART;VALUE=DATE:20180115
DTEND;VALUE=DATE:20180205
DTSTAMP:20260420T193424
CREATED:20170929T112344Z
LAST-MODIFIED:20180114T033317Z
UID:10002629-1515974400-1517788799@www.virtuelle-ph.at
SUMMARY:Professionell Bewerben - so machen Sie Ihre SchülerInnen job-fit!
DESCRIPTION:Zur Anmeldung\n						\n\n						Digitale Kompetenzen als Schlüssel zum Job \nVon jungen Bewerber/inne/n wird von beinahe allen potentiellen Arbeitgeber/innen eine fehlerfreie Gestaltung und digitale Übermittlung von Bewerbungsunterlagen vorausgesetzt. \nDaher sind immer mehr Lehrkräfte damit konfrontiert\, Ihren Schüler/inne/n zeitgemäße Kompetenzen im Bereich Bewerbung zu vermitteln. \nIm Zuge dieses Kurses erlangen Sie umfassende Kenntnisse über den gesamten Bewerbungsprozess. Sie reflektieren Ihre bisherige Bewerbungspraxis und können sich über Neuerungen informieren\, austauschen und darüber diskutieren. Sie erlernen die korrekte Gestaltung von Bewerbungsunterlagen und werden einhergehend die dafür notwendigen digitalen Kompetenzen erlangen. Im Rahmen des Kurses werden sie auch Konzepte\, Methoden\, Materialien sowie Ideen kennen lernen und entwickeln\, mit denen Sie professionelles Bewerben auch Ihren Schüler/inne/n näher bringen und anschaulich darstellen können. \nKonkret werden Sie … \n* Ihre digitalen Kompetenzen schärfen\, um ihre Schüler/innen für einen zeitgemäßen Bewerbungsprozess vorzubereiten. \n* Online- und Offline-Tools zur Potentialanalyse kennen lernen und ausprobieren. \n* passende Stellenanzeigen finden und Analysetools („Passt diese Stelle zu mir und meinen Erwartungen?“) anzuwenden lernen. \n* die korrekte Gestaltung und Formulierung von Bewerbungsunterlagen (Deckblatt\, Anschreiben\, Motivationsschreiben\, Lebenslauf\, …) trainieren können. \n* Beispiel- und Mustersammlungen gemeinsam erarbeiten. \n* über die korrekte Übermittlung von Bewerbungen informiert. \n* alles über Online- und E-Mail-Bewerbungen in Erfahrung bringen. \n* neue kreative Online-Bewerbungsmaßnahmen kennenlernen – z. b. prezume \n* Tipps für das Bewerbungsgespräch mitnehmen können. \nwww.virtuelle-ph.at/online-seminare \n\n			\n				\n			\n			Teilnahmekriterien & Info\n		 \n		\n			Lernziele\n		 \n		\n			Voraussetzungen\n		\n		 \n		\n			\n				\n					\n			Anmerkung: Die Teilnahme an allen im Rahmen des Online-Programms angebotenen Online-Seminaren der Virtuellen PH ist für österreichische Lehrkräfte und Studierende eines Lehramts kostenlos. Die Seminarplätze werden nach dem Prinzip first come\, first served – also chronologisch nach dem Zeitpunkt Ihrer Seminarbuchung über PH-Online – vergeben. Bis Mittwoch vor Beginn des jeweiligen Online-Seminars können Sie über PH-Online Ihr gebuchtes Online-Seminar selber kostenlos stornieren. Für ein allfälliges Storno zu einem späteren Zeitpunkt wenden Sie sich bitte an: info@virtuelle-ph.at\n		 \n		\n			Erlangen umfassender Kenntnisse über professionelle Bewerbungsunterlagen und den gesamten Bewerbungsprozess. Erweitern der eigenen Kompetenzen bei der Erstellung von Bewerbungsunterlagen. Befähigung zur Weitervermittlung der gewonnenen Kenntnisse an Schülerinnen und Schülern.\n		 \n		\n			Der Kurs richtet sich sowohl an Lehrpersonen\, die ihren „Bewerbungskoffer“ einfach etwas auffrischen und aufbessern wollen\, als auch an Personen\, die bisher keine Erfahrungen mit Bewerbungen und deren Integration in den Unterricht haben. Sie erhalten und entwickeln Materialien\, die Sie für sich und Ihren Unterricht verwenden können.
URL:https://www.virtuelle-ph.at/veranstaltung/professionell-bewerben-so-machen-sie-ihre-schuelerinnen-job-fit-2/
CATEGORIES:Online-Programm HerbstWinterprogramm,Online-Seminar
END:VEVENT
END:VCALENDAR